Workbook

Sheet 1
E2: Geriamojo vandens tiekimo ir nuotekų tvarkymo bei paviršinių nuotekų tvarkymo paslaugų įmonių apskaitos atskyrimo taisyklių ir susijusių reikalavimų sąvado 1 priedas
D3: Ilgalaikio turto grupių ir nusidėvėjimo (amortizacijos) skaičiavimo laikotarpių sąrašas
C5: Eil. Nr. | D5: Ilgalaikio turto grupės | E5: Laikotarpis, metais
C6: I. | D6: NEMATERIALUSIS TURTAS
C7: I.1. | D7: standartinė programinė įranga | E7: 4
C8: I.1. | D8: spec. programinė įranga | E8: 4-15
C9: I.1. | D9: kitas nematerialus turtas | E9: 4-15
C10: II.2. | D10: PASTATAI IR STATINIAI
C11: II.2.1. | D11: Pastatai (administraciniai, gamybiniai-ūkiniai ir pan.) | E11: 50-70
C12: II.2.2. | D12: keliai, aikštelės, šaligatviai ir tvoros | E12: 27-30
C13: II.2.3. | D13: geriamojo vandens tiekimo ir nuotekų surinkimo vamzdynai | E13: 50
C14: II.2.4. | D14: šilumos ir karšto vandens tiekimo vamzdynai | E14: 30
C15: II.2.5. | D15: saulės šviesos elektrinės | E15: 20
C16: II.2.6. | D16: Kiti įrenginiai (siurblinių statiniai, vandentiekio įrenginiai, nusodintuvai, diukeriai, vandens rezervuarai, gelžbetoniniai metantankai, smėlio gaudytuvai, aerotankai, nusodintuvai, nuotekų valymo flotatoriai, dumblo aikštelės ir kt.) | E16: 35
C17: II.3. | D17: MAŠINOS IR ĮRANGA
C18: II.3.1. | D18: vandens siurbliai, nuotekų ir dumblo siurbliai virš 5 kW, kita įranga ( siurblių valdymo įranga, elektrotechninė įranga, stacionarios ir mobilios darbo bei hidrodinaminės mašinos, staklės, sklendės, grotelės, grėbliai, grandikliai, filtrai, centrifugos) | E18: 10
C19: II.3.2. | D19: nuotekų ir dumblo siurbliai iki 5 kW | E19: 5
C20: II.4. | D20: KITI ĮRENGINIAI, PRIETAISAI IR ĮRANKIAI
C21: II.4.1. | D21: geriamojo vandens apskaitos prietaisai | E21: Ne mažesnis už metrologinės patikros galiojimo metų skaičių
C22: II.4.2. | D22: atsiskaitomieji karšto vandens apskaitos prietaisai | E22: Metrologinės patikros galiojimo metų skaičius
C23: II.4.3. | D23: šilumos (atsiskaitomieji ir neatsiskaitomieji) apskaitos prietaisai | E23: 7
C24: II.4.4. | D24: kiti geriamojo vandens ir nuotekų apskaitos prietaisai (įrengti gręžiniuose, įrenginiuose ir.t.t) | E24: 6
C25: II.4.5. | D25: Kompiuteriai, kompiuteriniai tinklai ir jų įranga | E25: 4
C26: II.4.6. | D26: įrankiai (matavimo priemonės, elektriniai įrankiai ir prietaisai, gamybinis inventorius ir kt.) | E26: 6
C27: II.5. | D27: TRANSPORTO PRIEMONĖS
C28: II.5.1. | D28: lengvieji automobiliai | E28: 7
C29: II.5.2. | D29: kitos transporto priemonės (transportas dumblui, vandeniui vežti, autobusai žmonėms vežti) | E29: 10

Sheet 3
E2: Geriamojo vandens tiekimo ir nuotekų tvarkymo bei paviršinių nuotekų tvarkymo paslaugų įmonių apskaitos atskyrimo taisyklių ir susijusių reikalavimų sąvado 3 priedas
C3: Ūkio subjektas: UAB „Kaišiadorių vandenys“
C4: Ataskaitinis laikotarpis: 2024-01-01 - 2024-12-31
C6: Ataskaitinio laikotarpio reguliuojamosios veiklos pelno (nuostolių) ataskaita (tūkst. Eur)
B9: Eil. Nr. | C9: STRAIPSNIAI | D9: Ataskaitinis laikotarpis | E9: Paaiškinimai
B10: I. | C10: PAJAMOS
B11: A. | C11: (GARANTINIO) GERIAMOJO VANDENS TIEKIMO IR NUOTEKŲ TVARKYMO (GVTNT) PAJAMOS: | D11: =D12+D15+D31 -> 2440.3475
B12: A.1. | C12: (garantinio) geriamojo vandens tiekimo (GVT) pajamos | D12: =SUM(D13:D14) -> 1149.6555
B13: A.1.1. | C13: geriamojo vandens tiekimo pajamos | D13: 1149.6555
B14: A.1.2. | C14: GVTNT ilgalaikio turto nuomos pajamos | D14: 0
B15: A.2. | C15: (garantinio) nuotekų tvarkymo (NT) veiklos pajamos | D15: =D16+D20+D26 -> 1250.9165
B16: A.2.1. | C16: (garantinis) nuotekų surinkimas centralizuotais nuotekų surinkimo tinklais pajamos | D16: =SUM(D17:D19) -> 574.61314
B17: A.2.1.1. | C17: pajamos už buitinių ir gamybinių nuotekų surinkimą | D17: 574.61314
B18: A.2.1.2. | C18: pajamos už paviršinių nuotekų tvarkymą, jei yra mišri nuotekų surinkimo sistema | D18: 0
B19: A.2.1.3. | C19: GVTNT ilgalaikio turto nuomos pajamos | D19: 0 | K19: `
B20: A.2.2. | C20: (garantinio) nuotekų valymo pajamos | D20: =SUM(D21:D25) -> 565.89019
B21: A.2.2.1. | C21: pajamos už buitinių ir gamybinių nuotekų valymą (be padidėjusios taršos) | D21: 539.82684
B22: A.2.2.2. | C22: pajamos už padidėjusią ir savitąją taršą | D22: 26.06335
B23: A.2.2.3. | C23: pajamos už paviršinių nuotekų tvarkymą, jei yra mišri nuotekų surinkimo sistema | D23: 0
B24: A.2.2.4. | C24: GVTNT ilgalaikio turto nuomos pajamos | D24: 0
B25: A.2.2.5. | C25: Elektros energijos telkimo pajamos | D25: 0
B26: A.2.3. | C26: (garantinio) nuotekų dumblo tvarkymo pajamos | D26: =SUM(D27:D30) -> 110.41315
B27: A.2.3.1. | C27: pajamos už dumblo tvarkymą (be kitų bendrovių atvežto nuotekų dumblo) | D27: 110.41315
B28: A.2.3.2. | C28: pajamos už kitų bendrovių atvežtą tvarkyti nuotekų dumblą | D28: 0
B29: A.2.3.3. | C29: pajamos už paviršinių nuotekų tvarkymą, jei yra mišri nuotekų surinkimo sistema | D29: 0
B30: A.2.3.4. | C30: GVTNT ilgalaikio turto nuomos pajamos | D30: 0
B31: A.3. | C31: paviršinių nuotekų tvarkymo pajamos | D31: =SUM(D32+D33) -> 39.77554
B32: A.3.1. | C32: pajamos už paviršinių nuotekų tvarkymą, jei yra atskira paviršinių nuotekų surinkimo sistema | D32: 39.77554
B33: A.3.2. | C33: GVTNT ilgalaikio turto nuomos pajamos | D33: 0
B34: B. | C34: KITŲ VEIKLŲ PAJAMOS | D34: =D35+D40 -> 337.40973
B35: B.1. | C35: (garantinio vandens tiekėjo) kitos reguliuojamosios veiklos pajamos | D35: =SUM(D36:D39) -> 167.30669
B36: B.1.1. | C36: apskaitos veiklos pajamos | D36: 167.30669
B37: B.1.2. | C37: garantiniam tiekėjui sumokėtų įmokų pajamos | D37: 0
B38: B.1.3. | C38: kitos reguliuojamos veiklos pajamos | D38: 0
B39: B.1.4. | C39: GVTNT ilgalaikio turto nuomos pajamos | D39: 0
B40: B.2. | C40: (garantinio vandens tiekėjo) nereguliuojamosios veiklos pajamos | D40: =SUM(D41:D43) -> 170.10304
B41: B.2.1. | C41: nereguliuojamos veiklos pajamos (įskaitant finansinę veiklą) | D41: 170.10304
B42: B.2.2. | C42: GVTNT ilgalaikio turto nuomos pajamos | D42: =+SUM(D14,D19,D24,D30,D33,D39) -> 0
B43: B.2.3. | C43: Elektros energijos telkimo pajamos | D43: 0
B44: II. | C44: PASKIRSTOMOSIOS SĄNAUDOS | D44: =D45+D52 -> 2649.7749 | E44: 4 priedas
B45: C. | C45: (GARANTINIO) GERIAMOJO VANDENS TIEKIMO IR NUOTEKŲ TVARKYMO (GVTNT) SĄNAUDOS | D45: =D46+D47+D51 -> 2456.5298 | E45: 4 priedas
B46: C.1. | C46: (garantinio) geriamojo vandens tiekimo (GVT) sąnaudos | D46: ='4'!E23 -> 1069.9829 | E46: 4 priedas
B47: C.2. | C47: (garantinio) nuotekų tvarkymo (NT) veiklos sąnaudos | D47: ='4'!I23 -> 1316.5644 | E47: 4 priedas
B48: C.2.1. | C48: nuotekų surinkimas centralizuotais nuotekų surinkimo tinklais sąnaudos | D48: ='4'!$J$23 -> 563.24383 | E48: 4 priedas
B49: C.2.2. | C49: nuotekų valymo sąnaudos | D49: ='4'!$K$23 -> 676.67676 | E49: 4 priedas
B50: C.2.3. | C50: nuotekų dumblo tvarkymo sąnaudos | D50: ='4'!$L$23 -> 76.643787 | E50: 4 priedas
B51: C.3. | C51: paviršinių nuotekų tvarkymo sąnaudos, jei yra atskira paviršinių nuotekų surinkimo sistema | D51: ='4'!$M$23 -> 69.982531 | E51: 4 priedas
B52: D. | C52: KITŲ VEIKLŲ SĄNAUDOS | D52: =SUM(D53:D55) -> 193.2451 | E52: 4 priedas
B53: D.1. | C53: (garantinio vandens tiekėjo) apskaitos veiklos sąnaudos | D53: ='4'!O23 -> 89.198879 | E53: 4 priedas
B54: D.2. | C54: (garantinio vandens tiekėjo) kitos reguliuojamosios veiklos sąnaudos | D54: ='4'!$P$23 -> 0 | E54: 4 priedas
B55: D.3. | C55: (garantinio vandens tiekėjo) nereguliuojamosios veiklos sąnaudos | D55: ='4'!$Q$23 -> 104.04622 | E55: 4 priedas
B56: III. | C56: NEPASKIRSTOMOSIOS SĄNAUDOS | D56: =SUM(D57:D76) -> 137.1262
B57: E.1 | C57: Beviltiškos skolos, baudos, delspinigiai (GVTNT) | D57: 0.534
B58: E.2. | C58: Paramą, labdarą, vartotojų švietimo sąnaudas, išskyrus tas, kurios privalomos pagal teisės aktų reikalavimus, papildomo draudimo sąnaudas, išskyrus darbuotojų, dirbančių pavojingus darbus ir (ar) su potencialiai pavojingais įrenginiais, draudimo nuo nelaimingų atsitikimų darbe sąnaudas (GVTNT) | D58: 0
B59: E.3. | C59: Tantjemų išmokos (GVTNT) | D59: 0
B60: E.4. | C60: Narystės, stojamųjų įmokų sąnaudos, išskyrus sąnaudas dėl teisės aktuose numatyto privalomo dalyvavimo, tiesiogiai susijusio su reguliuojamu verslo vienetu (GVTNT) | D60: 3.076
B61: E.5. | C61: Patirtos palūkanų ir kitos finansinės-investicinės veiklos sąnaudos (GVTNT) | D61: 60.439
B62: E.6. | C62: Komandiruočių sąnaudas (išskyrus tas, kurios yra būtinos reguliuojamai veiklai vykdyti), personalo mokymo sąnaudas, sudarančias daugiau kaip 1,4 proc. Sąvado 11.1.-11.4. papunkčiuose nurodytų verslo vienetų veiklos sąnaudų, nurodytų Sąvado 19.8–19.14 papunkčiuose; | D62: 0.792
B63: E.7. | C63: Reprezentacijos, reklamos, viešųjų ryšių, rinkodaros, konsultacijų, tyrimų sąnaudos (išskyrus tas, kurios yra būtinos reguliuojamai veiklai vykdyti) (GVTNT) | D63: 2.107
B64: E.8. | C64: Nenaudojamo, likviduoto, nurašyto, esančio atsargose, išnuomoto (išskyrus Sąvado 14 punkte numatytu atveju, kai ne mažiau kaip pusė nuomos pajamų priskiriama reguliuojamai veiklai), panaudos teise perduoto kitam ūkio subjektui ilgalaikio turto sąnaudos (išskyrus užkonservuoto turto palaikymo sąnaudas, jei Ūkio subjektas pateikia ekonominį ar teisinį pagrindimą dėl turto užkonservavimo pagrįstumo), išsinuomoto, Ūkio subjektui neatlygintinai (nemokamai) perduoto, panaudos teisėmis disponuojamo turto nusidėvėjimo sąnaudos (GVTNT) | D64: 0.109
B65: E.9. | C65: Nebaigtos statybos ilgalaikio turto sąnaudos (GVTNT) | D65: 0
B66: E.10. | C66: Nusidėvėjimo (amortizacijos) sąnaudų dalis, priskaičiuojamą nuo ilgalaikio turto vienetų vertės, sukurtos už Europos Sąjungos struktūrinių fondų lėšas, dotacijų ir subsidijų, ir joms prilygintas lėšų (GVTNT) | D66: 0
B67: E.11. | C67: Nusidėvėjimo (amortizacijos) sąnaudų dalis, priskaičiuojamą nuo ilgalaikio turto vienetų vertės pokyčio, susijusio su turto perkainojimu (GVTNT) | D67: 0
B68: E.12. | C68: Nusidėvėjimo (amortizacijos) sąnaudos nuo plėtros darbų, iki ilgalaikio turto vienetų, kurių formavimui buvo atliekami plėtros darbai, eksploatacijos pradžios (GVTNT) | D68: 0
... B77: IV. | C77: PRAEITŲ ATASKAITINIŲ LAIKOTARPIŲ KLAIDŲ TAISYMAI*** | D77: 0
B78: V. | C78: PELNAS (NUOSTOLIS) PRIEŠ PELNO MOKESTĮ | D78: =D11+D34-D45-D52-D56 -> -9.14383
B79: F. | C79: (GARANTINIO) GERIAMOJO VANDENS TIEKIMO IR NUOTEKŲ TVARKYMO (GVTNT) PELNAS (NUOSTOLIS) | D79: =D11-D45 -> -16.182269
B80: F.1. | C80: (garantinio) geriamojo vandens tiekimo (GVT) pelnas (nuostolis) | D80: =D12-D46 -> 79.672612
B81: F.2. | C81: (garantinio) nuotekų tvarkymo (NT) veiklos pelnas (nuostolis) | D81: =D15-D47 -> -65.64789
B82: F.2.1. | C82: nuotekų surinkimas centralizuotais nuotekų surinkimo tinklais pelnas (nuostolis) | D82: =D16-D48 -> 11.369314
B83: F.2.2. | C83: nuotekų valymo pelnas (nuostolis) | D83: =D20-D49 -> -110.78657
B84: F.2.3. | C84: nuotekų dumblo tvarkymo pelnas (nuostolis) | D84: =D26-D50 -> 33.769363
B85: F.3. | C85: paviršinių nuotekų tvarkymo pelnas (nuostolis), jei yra atskira paviršinių nuotekų surinkimo sistema | D85: =D31-D51 -> -30.206991
B86: G. | C86: KITŲ VEIKLŲ PELNAS (NUOSTOLIS) | D86: =D34-D52 -> 144.16463
B87: G.1. | C87: (garantinio vandens tiekėjo) apskaitos veiklos pelnas (nuostolis) | D87: =D36-D53 -> 78.107811
B88: G.2. | C88: (garantinio vandens tiekėjo) kitos reguliuojamosios veiklos pelnas (nuostolis) | D88: =D38+D39-D54 -> 0
B89: G.3. | C89: (garantinio vandens tiekėjo) nereguliuojamosios veiklos pelnas (nuostolis) | D89: =IFERROR(D40-D55,"-") -> 66.056824
B90: H. | C90: PAGAUTĖ - NETEKIMAI | D90: 0
B91: VI. | C91: PELNO MOKESTIS | D91: 0
B92: VII. | C92: GRYNASIS PELNAS | D92: =IFERROR(D78+D90-D91,"-") -> -9.14383
B93: VIII. | C93: GERIAMOJO VANDENS TIEKIMO IR NUOTEKŲ TVARKYMO (GVTNT) PELNINGUMAS** (NUOSTOLINGUMAS), % | D93: =IFERROR((D79/D11)*100,"-") -> -0.66311329
B94: VIII.1. | C94: geriamojo vandens tiekimo (GVT) pelningumas (nuostolingumas), % | D94: =IFERROR((D80/D12)*100,"-") -> 6.9301294
B95: VIII.2. | C95: nuotekų tvarkymo (NT) veiklos pelningumas (nuostolingumas), % | D95: =IFERROR((D81/D15)*100,"-") -> -5.2479834
B96: VIII.2.1. | C96: nuotekų surinkimas centralizuotais nuotekų surinkimo tinklais pelningumas (nuostolingumas), % | D96: =IFERROR((D82/D16)*100,"-") -> 1.9786032
B97: VIII.2.2. | C97: nuotekų valymo pelningumas (nuostolingumas), % | D97: =IFERROR((D83/D20)*100,"-") -> -19.577397
B98: VIII.2.3. | C98: nuotekų dumblo tvarkymo pelningumas (nuostolingumas), % | D98: =IFERROR((D84/D26)*100,"-") -> 30.584548
B99: VIII.3. | C99: paviršinių nuotekų tvarkymo pelningumas (nuostolingumas, jei yra atskira paviršinių nuotekų surinkimo sistema, % | D99: =IFERROR((D85/D31)*100,"-") -> -75.943636
C101: *Iškyrus nurašyto į sąnaudas ilgalaikio turto vertė, susidariusi dėl Sąvado 1 priede pakeistų nusidėvėjimo (amortizacijos) laikotarpių
C102: ** Prieš pelno mokestį
C103: *** Praeitų ataskaitinių laikotarpių klaidų, netikslumų taisymai (+, -) atlikti ataskaitiniu laikotarpiu (papildoma informacija apie klaidų, netikslumų pobūdį turi būti pateikta kartu su metiniu reguliuojamosios veiklos ataskaitų rinkiniu)

Sheet 4
C2: Ūkio subjektas: UAB „Kaišiadorių vandenys“ | Q2: Geriamojo vandens tiekimo ir nuotekų tvarkymo bei paviršinių nuotekų tvarkymo paslaugų įmonių apskaitos atskyrimo taisyklių ir susijusių reikalavimų sąvado 4 priedas
C3: Ataskaitinis laikotarpis: 2024-01-01 - 2024-12-31
C5: Ataskaitinio laikotarpio reguliuojamos veiklos sąnaudų paskirstymo verslo vienetams ir paslaugoms ataskaita (tūkst. Eur)
B9: Eil. Nr. | C9: SĄNAUDOS | D9: 1. IŠ VISO | E9: 2. Iš viso GVT | F9: 2.1. Geriamojo vandens gavyba | G9: 2.2. Geriamojo vandens ruošimas | H9: 2.3. Geriamojo vandens pristatymas | I9: 3. Iš viso NT | J9: 3.1. Nuotekų surinkimas | K9: 3.2. Nuotekų valymas | L9: 3.3. Nuotekų dumblo tvarkymas | M9: 4. Paviršinių nuotekų tvarkymas (tik esant atskirai paviršinių nuotekų tvarkymo sistemai) | N9: 5. Kitos reguliuojamosios veiklos verslo vienetas | O9: 5.1. Apskaitos veikla | P9: 5.2. Kita reguliuojama veikla | Q9: 6. Kitos veiklos (nereguliuojamosios veiklos) verslo vienetas
B10: A. | C10: PASKIRSTOMŲJŲ SĄNAUDŲ SUVESTINĖ
B11: A.1. | C11: Geriamojo vandens įsigijimo sąnaudos | D11: =D30 -> 0 | E11: =E30 -> 0 | F11: =F30 -> 0 | G11: =G30 -> 0 | H11: =H30 -> 0 | I11: =I30 -> 0 | J11: =J30 -> 0 | K11: =K30 -> 0 | ... M11: =M30 -> 0 | N11: =O11+P11 -> 0 | O11: =O30 -> 0 | P11: =P30 -> 0 | Q11: =Q30 -> 0
B12: A.2. | C12: Nuotekų tvarkymo paslaugų pirkimo sąnaudos | D12: =D31 -> 4.552 | E12: =E31 -> 0 | F12: =F31 -> 0 | G12: =G31 -> 0 | H12: =H31 -> 0 | I12: =I31 -> 4.552 | J12: =J31 -> 0 | K12: =K31 -> 4.552 | ... M12: =M31 -> 0 | N12: =O12+P12 -> 0 | O12: =O31 -> 0 | P12: =P31 -> 0 | Q12: =Q31 -> 0
B13: A.3. | C13: Elektros energijos sąnaudos, iš šio skaičiaus | D13: =D34+D93+D191 -> 347.3489 | E13: =E34+E93+E191 -> 129.49607 | F13: =F34+F93+F191 -> 109.81551 | G13: =G34+G93+G191 -> 4.7217307 | H13: =H34+H93+H191 -> 14.958824 | I13: =I34+I93+I191 -> 200.71046 | J13: =J34+J93+J191 -> 52.466297 | K13: =K34+K93+K191 -> 147.15365 | ... M13: =M34+M93+M191 -> 0.23234892 | N13: =O13+P13 -> 0.060053045 | O13: =O34+O93+O191 -> 0.060053045 | P13: =P34+P93+P191 -> 0 | Q13: =Q34+Q93+Q191 -> 16.849974
B14: A.3.1. | C14: Elektros energija siurbliams, orapūtėms, maišyklėms ir kitiems technologiniams įrenginiams | D14: =D35+D94 -> 330.72011 | E14: =E35+E94 -> 120.11753 | F14: =F35+F94 -> 100.72895 | G14: =G35+G94 -> 4.6843524 | H14: =H35+H94 -> 14.704232 | I14: =I35+I94 -> 193.57485 | J14: =J35+J94 -> 52.228335 | K14: =K35+K94 -> 140.2912 | ... M14: =M35+M94 -> 0.19985359 | N14: =O14+P14 -> 0.018524903 | O14: =O35+O94 -> 0.018524903 | P14: =P35+P94 -> 0 | Q14: =Q35+Q94 -> 16.809351
B15: A.4. | C15: Technologinių medžiagų ir technologinio kuro sąnaudos | D15: =D37 -> 19.0602 | E15: =E37 -> 0 | F15: =F37 -> 0 | G15: =G37 -> 0 | H15: =H37 -> 0 | I15: =I37 -> 19.0602 | J15: =J37 -> 0 | K15: =K37 -> 19.0602 | ... M15: =M37 -> 0 | N15: =O15+P15 -> 0 | O15: =O37 -> 0 | P15: =P37 -> 0 | Q15: =Q37 -> 0
B16: A.5. | C16: Einamojo remonto ir aptarnavimo sąnaudos, iš šio skaičius: | D16: =D45+D101+D198 -> 139.86423 | E16: =E45+E101+E198 -> 69.245632 | F16: =F45+F101+F198 -> 11.039945 | G16: =G45+G101+G198 -> 8.8658349 | H16: =H45+H101+H198 -> 49.339852 | I16: =I45+I101+I198 -> 63.152985 | J16: =J45+J101+J198 -> 36.3196 | K16: =K45+K101+K198 -> 24.291928 | ... M16: =M45+M101+M198 -> 1.3495024 | N16: =O16+P16 -> 5.5126531 | O16: =O45+O101+O198 -> 5.5126531 | P16: =P45+P101+P198 -> 0 | Q16: =Q45+Q101+Q198 -> 0.60345806
B17: A.5.1. | C17: Remonto medžiagų ir detalių sąnaudos | D17: =D46+D102+D199 -> 84.70123 | E17: =E46+E102+E199 -> 31.737709 | F17: =F46+F102+F199 -> 4.8490162 | G17: =G46+G102+G199 -> 5.7287031 | H17: =H46+H102+H199 -> 21.159989 | I17: =I46+I102+I199 -> 48.168207 | J17: =J46+J102+J199 -> 25.523138 | K17: =K46+K102+K199 -> 21.199099 | ... M17: =M46+M102+M199 -> 1.2660716 | N17: =O17+P17 -> 2.9605234 | O17: =O46+O102+O199 -> 2.9605234 | P17: =P46+P102+P199 -> 0 | Q17: =Q46+Q102+Q199 -> 0.56871958
B18: A.5.2. | C18: Avarijų šalinimo sąnaudos | D18: =D49+D105+D202 -> 26.178 | E18: =E49+E105+E202 -> 19.888 | F18: =F49+F105+F202 -> 0 | G18: =G49+G105+G202 -> 0 | H18: =H49+H105+H202 -> 19.888 | I18: =I49+I105+I202 -> 6.29 | J18: =J49+J105+J202 -> 6.29 | K18: =K49+K105+K202 -> 0 | ... M18: =M49+M105+M202 -> 0 | N18: =O18+P18 -> 0 | O18: =O49+O105+O202 -> 0 | P18: =P49+P105+P202 -> 0 | Q18: =Q49+Q105+Q202 -> 0
B19: A.5.3. | C19: Remonto ir aptarnavimo paslaugų pirkimo sąnaudos | D19: =D47+D103+D200 -> 19.733 | E19: =E47+E103+E200 -> 14.69077 | F19: =F47+F103+F200 -> 6.1584987 | G19: =G47+G103+G200 -> 3.0643844 | H19: =H47+H103+H200 -> 5.4678872 | I19: =I47+I103+I200 -> 4.9485387 | J19: =J47+J103+J200 -> 3.6317474 | K19: =K47+K103+K200 -> 0.27803313 | ... M19: =M47+M103+M200 -> 0.034812866 | N19: =O19+P19 -> 0.029623196 | O19: =O47+O103+O200 -> 0.029623196 | P19: =P47+P103+P200 -> 0 | Q19: =Q47+Q103+Q200 -> 0.029255004
B20: A.6. | C20: Personalo sąnaudos, iš šio skaičius: | D20: =D52+D108+D205 -> 1518.9671 | E20: =E52+E108+E205 -> 584.47063 | F20: =F52+F108+F205 -> 159.63171 | G20: =G52+G108+G205 -> 37.921304 | H20: =H52+H108+H205 -> 386.91762 | I20: =I52+I108+I205 -> 753.04198 | J20: =J52+J108+J205 -> 330.49107 | K20: =K52+K108+K205 -> 361.97152 | ... M20: =M52+M108+M205 -> 61.814928 | N20: =O20+P20 -> 62.78266 | O20: =O52+O108+O205 -> 62.78266 | P20: =P52+P108+P205 -> 0 | Q20: =Q52+Q108+Q205 -> 56.856883
B21: A.6.1. | C21: Darbo užmokesčio sąnaudos | D21: =D53+D109+D206 -> 1478.6737 | E21: =E53+E109+E206 -> 569.28421 | F21: =F53+F109+F206 -> 155.35541 | G21: =G53+G109+G206 -> 36.780113 | H21: =H53+H109+H206 -> 377.14869 | I21: =I53+I109+I206 -> 732.78924 | J21: =J53+J109+J206 -> 321.40986 | K21: =K53+K109+K206 -> 352.37794 | ... M21: =M53+M109+M206 -> 60.24436 | N21: =O21+P21 -> 61.056485 | O21: =O53+O109+O206 -> 61.056485 | P21: =P53+P109+P206 -> 0 | Q21: =Q53+Q109+Q206 -> 55.299447
B22: A.7. | C22: Perkamų paslaugų (veiklos rangos) sąnaudos | D22: =D32+D33+D47+D69+D71+D75+D77+D78+D79+D81+D87+D88+D103+D122+D124+D128+D131+D132+D134+D140+D141+D200+D219+D221+D225+D227+D228+D229+D231+D238+D239+D130 -> 153.93787 | E22: =E32+E33+E47+E69+E71+E75+E77+E78+E79+E81+E87+E88+E103+E122+E124+E128+E131+E132+E134+E140+E141+E200+E219+E221+E225+E227+E228+E229+E231+E238+E239+E130 -> 64.94318 | F22: =F32+F33+F47+F69+F71+F75+F77+F78+F79+F81+F87+F88+F103+F122+F124+F128+F131+F132+F134+F140+F141+F200+F219+F221+F225+F227+F228+F229+F231+F238+F239+F130 -> 16.883892 | G22: =G32+G33+G47+G69+G71+G75+G77+G78+G79+G81+G87+G88+G103+G122+G124+G128+G131+G132+G134+G140+G141+G200+G219+G221+G225+G227+G228+G229+G231+G238+G239+G130 -> 7.2044386 | H22: =H32+H33+H47+H69+H71+H75+H77+H78+H79+H81+H87+H88+H103+H122+H124+H128+H131+H132+H134+H140+H141+H200+H219+H221+H225+H227+H228+H229+H231+H238+H239+H130 -> 40.854849 | I22: =I32+I33+I47+I69+I71+I75+I77+I78+I79+I81+I87+I88+I103+I122+I124+I128+I131+I132+I134+I140+I141+I200+I219+I221+I225+I227+I228+I229+I231+I238+I239+I130 -> 80.637176 | J22: =J32+J33+J47+J69+J71+J75+J77+J78+J79+J81+J87+J88+J103+J122+J124+J128+J131+J132+J134+J140+J141+J200+J219+J221+J225+J227+J228+J229+J231+J238+J239+J130 -> 41.082371 | K22: =K32+K33+K47+K69+K71+K75+K77+K78+K79+K81+K87+K88+K103+K122+K124+K128+K131+K132+K134+K140+K141+K200+K219+K221+K225+K227+K228+K229+K231+K238+K239+K130 -> 34.934821 | ... M22: =M32+M33+M47+M69+M71+M75+M77+M78+M79+M81+M87+M88+M103+M122+M124+M128+M131+M132+M134+M140+M141+M200+M219+M221+M225+M227+M228+M229+M231+M238+M239+M130 -> 3.239796 | N22: =O22+P22 -> 2.5722587 | O22: =O32+O33+O47+O69+O71+O75+O77+O78+O79+O81+O87+O88+O103+O122+O124+O128+O131+O132+O134+O140+O141+O200+O219+O221+O225+O227+O228+O229+O231+O238+O239+O130 -> 2.5722587 | P22: =P32+P33+P47+P69+P71+P75+P77+P78+P79+P81+P87+P88+P103+P122+P124+P128+P131+P132+P134+P140+P141+P200+P219+P221+P225+P227+P228+P229+P231+P238+P239+P130 -> 0 | Q22: =Q32+Q33+Q47+Q69+Q71+Q75+Q77+Q78+Q79+Q81+Q87+Q88+Q103+Q122+Q124+Q128+Q131+Q132+Q134+Q140+Q141+Q200+Q219+Q221+Q225+Q227+Q228+Q229+Q231+Q238+Q239+Q130 -> 2.5454596
B23: A.B. | C23: VISOS PASKIRSTOMOSIOS SĄNAUDOS, IŠ ŠIO SKAIČIAUS: | D23: =D29+D92+D190 -> 2649.7749 | E23: =E29+E92+E190 -> 1069.9829 | F23: =F29+F92+F190 -> 423.59764 | G23: =G29+G92+G190 -> 84.953092 | H23: =H29+H92+H190 -> 561.43212 | I23: =I29+I92+I190 -> 1316.5644 | J23: =J29+J92+J190 -> 563.24383 | K23: =K29+K92+K190 -> 676.67676 | ... M23: =M29+M92+M190 -> 69.982531 | N23: =O23+P23 -> 89.198879 | O23: =O29+O92+O190 -> 89.198879 | P23: =P29+P92+P190 -> 0 | Q23: =Q29+Q92+Q190 -> 104.04622
B24: A.B.1. | C24: Pastoviosios paskirstomosios sąnaudos, iš šio skaičius: | D24: =O24+E24+I24+M24+P24+Q24 -> 2165.2275 | E24: =SUM(E25:E27) -> 849.88732 | F24: =SUM(F25:F27) -> 222.89069 | G24: =SUM(G25:G27) -> 80.26874 | H24: =SUM(H25:H27) -> 546.72789 | I24: =SUM(I25:I27) -> 1069.1403 | J24: =SUM(J25:J27) -> 511.01549 | K24: =SUM(K25:K27) -> 482.53636 | L24: =SUM(L25:L27) -> 75.588472 | M24: =SUM(M25:M27) -> 69.782678 | N24: =O24+P24 -> 89.180354 | O24: =SUM(O25:O27) -> 89.180354 | P24: =SUM(P25:P27) -> 0 | Q24: =SUM(Q25:Q27) -> 87.236865
B25: A.B.1.1. | C25: Tiesioginės pastoviosios sąnaudos | D25: =O25+E25+I25+M25+P25+Q25 -> 1329.8869 | E25: =SUM(F25:H25) -> 556.54923 | F25: =F29-F30-F31-F35-F38-F39-F59-F60-F91 -> 165.7569 | G25: =G29-G30-G31-G35-G38-G39-G59-G60-G91 -> 49.916441 | H25: =H29-H30-H31-H35-H38-H39-H59-H60-H91 -> 340.87589 | I25: =SUM(J25:L25) -> 593.89456 | J25: =J29-J30-J31-J35-J38-J39-J59-J60-J91 -> 251.89013 | K25: =K29-K30-K31-K35-K38-K39-K59-K60-K91 -> 293.11305 | L25: =L29-L30-L31-L35-L38-L39-L59-L60-L91 -> 48.891383 | M25: =M29-M30-M31-M35-M38-M39-M59-M60-M91 -> 45.737089 | N25: =O25+P25 -> 67.676513 | O25: =O29-O30-O31-O35-O38-O39-O59-O60-O91 -> 67.676513 | P25: =P29-P30-P31-P35-P38-P39-P59-P60-P91 -> 0 | Q25: =Q29-Q30-Q31-Q35-Q38-Q39-Q59-Q60-Q91 -> 66.02952
B26: A.B.1.2. | C26: Netiesioginės pastoviosios sąnaudos | D26: =O26+E26+I26+M26+P26+Q26 -> 330.76159 | E26: =SUM(F26:H26) -> 95.282546 | F26: =F92-F94-F143 -> 5.1919216 | G26: =G92-G94-G143 -> 11.646678 | H26: =H92-H94-H143 -> 78.443947 | I26: =SUM(J26:L26) -> 226.09606 | J26: =J92-J94-J143 -> 140.03963 | K26: =K92-K94-K143 -> 76.974285 | L26: =L92-L94-L143 -> 9.0821467 | M26: =M92-M94-M143 -> 7.7836132 | N26: =O26+P26 -> 0.72148157 | O26: =O92-O94-O143 -> 0.72148157 | P26: =P92-P94-P143 -> 0 | Q26: =Q92-Q94-Q143 -> 0.87789113
B27: A.B.1.3. | C27: Bendrosios pastoviosios sąnaudos | D27: =O27+E27+I27+M27+P27+Q27 -> 504.57904 | E27: =SUM(F27:H27) -> 198.05555 | F27: =F190 -> 51.941872 | G27: =G190 -> 18.70562 | H27: =H190 -> 127.40806 | I27: =SUM(J27:L27) -> 249.1497 | J27: =J190 -> 119.08573 | K27: =K190 -> 112.44903 | L27: =L190 -> 17.614943 | M27: =M190 -> 16.261975 | N27: =O27+P27 -> 20.78236 | O27: =O190 -> 20.78236 | P27: =P190 -> 0 | Q27: =Q190 -> 20.329454
B28: A.B.2. | C28: Kintamosios paskirstomosios sąnaudos | D28: =O28+E28+I28+M28+P28+Q28 -> 484.54731 | E28: =SUM(F28:H28) -> 220.09553 | F28: =F30+F31+F35+F38+F39+F59+F60+F91+F94+F143 -> 200.70695 | G28: =G30+G31+G35+G38+G39+G59+G60+G91+G94+G143 -> 4.6843524 | H28: =H30+H31+H35+H38+H39+H59+H60+H91+H94+H143 -> 14.704232 | I28: =SUM(J28:L28) -> 247.42405 | J28: =J30+J31+J35+J38+J39+J59+J60+J91+J94+J143 -> 52.228335 | K28: =K30+K31+K35+K38+K39+K59+K60+K91+K94+K143 -> 194.1404 | L28: =L30+L31+L35+L38+L39+L59+L60+L91+L94+L143 -> 1.055315 | M28: =M30+M31+M35+M38+M39+M59+M60+M91+M94+M143 -> 0.19985359 | N28: =O28+P28 -> 0.018524903 | O28: =O30+O31+O35+O38+O39+O59+O60+O91+O94+O143 -> 0.018524903 | P28: =P30+P31+P35+P38+P39+P59+P60+P91+P94+P143 -> 0 | Q28: =Q30+Q31+Q35+Q38+Q39+Q59+Q60+Q91+Q94+Q143 -> 16.809351
B29: B. | C29: TIESIOGINĖS SĄNAUDOS | D29: =O29+E29+I29+M29+P29+Q29 -> 1805.9415 | E29: =SUM(F29:H29) -> 774.19827 | F29: =F30+F31+F34+F37+F40+F43+F45+F51+F52+F58+F65+F68+F83+F84 -> 366.33054 | G29: =G30+G31+G34+G37+G40+G43+G45+G51+G52+G58+G65+G68+G83+G84 -> 54.301751 | H29: =H30+H31+H34+H37+H40+H43+H45+H51+H52+H58+H65+H68+H83+H84 -> 353.56598 | I29: =SUM(J29:L29) -> 835.51332 | J29: =J30+J31+J34+J37+J40+J43+J45+J51+J52+J58+J65+J68+J83+J84 -> 300.52278 | K29: =K30+K31+K34+K37+K40+K43+K45+K51+K52+K58+K65+K68+K83+K84 -> 485.27704 | L29: =L30+L31+L34+L37+L40+L43+L45+L51+L52+L58+L65+L68+L83+L84 -> 49.713503 | M29: =M30+M31+M34+M37+M40+M43+M45+M51+M52+M58+M65+M68+M83+M84 -> 45.737089 | N29: =O29+P29 -> 67.676513 | O29: =O30+O31+O34+O37+O40+O43+O45+O51+O52+O58+O65+O68+O83+O84 -> 67.676513 | P29: =P30+P31+P34+P37+P40+P43+P45+P51+P52+P58+P65+P68+P83+P84 -> 0 | Q29: =Q30+Q31+Q34+Q37+Q40+Q43+Q45+Q51+Q52+Q58+Q65+Q68+Q83+Q84 -> 82.81633
B30: B.1. | C30: Geriamojo vandens įsigijimo sąnaudos | D30: =O30+E30+I30+M30+P30+Q30 -> 0 | E30: =SUM(F30:H30) -> 0 | F30: 0 | G30: 0 | H30: 0 | I30: =SUM(J30:L30) -> 0 | J30: 0 | K30: 0 | L30: 0 | M30: 0 | N30: =O30+P30 -> 0 | O30: 0 | P30: 0 | Q30: 0
B31: B.2. | C31: Nuotekų tvarkymo paslaugų pirkimo sąnaudos | D31: =O31+E31+I31+M31+P31+Q31 -> 4.552 | E31: =SUM(E32:E33) -> 0 | F31: =SUM(F32:F33) -> 0 | G31: =SUM(G32:G33) -> 0 | H31: =SUM(H32:H33) -> 0 | I31: =SUM(J31:L31) -> 4.552 | J31: =SUM(J32:J33) -> 0 | K31: =SUM(K32:K33) -> 4.552 | L31: =SUM(L32:L33) -> 0 | M31: =SUM(M32:M33) -> 0 | N31: =O31+P31 -> 0 | O31: =SUM(O32:O33) -> 0 | P31: =SUM(P32:P33) -> 0 | Q31: =SUM(Q32:Q33) -> 0
B32: B.2.1. | C32: Nuotekų tvarkymo paslaugų pirkimo sąnaudos | D32: =I32+M32+P32+Q32 -> 4.552 | E32: =+SUM(F32:H32) -> 0 | F32: 0 | G32: 0 | H32: 0 | I32: =SUM(J32:L32) -> 4.552 | J32: 0 | K32: 4.552 | L32: 0 | M32: 0 | N32: =O32+P32 -> 0 | O32: 0 | P32: 0 | Q32: 0
B33: B.2.2. | C33: Dumblo tvarkymo paslaugų pirkimo sąnaudos | D33: =I33+M33+P33+Q33 -> 0 | E33: =+SUM(F33:H33) -> 0 | F33: 0 | G33: 0 | H33: 0 | I33: =SUM(J33:L33) -> 0 | J33: 0 | K33: 0 | L33: 0 | M33: 0 | N33: =O33+P33 -> 0 | O33: 0 | P33: 0 | Q33: 0
B34: B.3. | C34: Elektros energijos sąnaudos | D34: =O34+E34+I34+M34+P34+Q34 -> 337.84793 | E34: =E35+E36 -> 126.65381 | F34: =F35+F36 -> 109.57841 | G34: =G35+G36 -> 4.38531 | H34: =H35+H36 -> 12.69009 | I34: =SUM(J34:L34) -> 194.40731 | J34: =SUM(J35:J36) -> 48.63265 | K34: =SUM(K35:K36) -> 144.95254 | L34: =SUM(L35:L36) -> 0.82212 | M34: =SUM(M35:M36) -> 0 | N34: =O34+P34 -> 0 | O34: =O35+O36 -> 0 | P34: =SUM(P35:P36) -> 0 | Q34: =SUM(Q35:Q36) -> 16.78681
B35: B.3.1. | C35: Elektros energija siurbliams, orapūtėms, maišyklėms ir kitiems technologiniams įrenginiams | D35: =O35+E35+I35+M35+P35+Q35 -> 322.22741 | E35: =SUM(F35:H35) -> 117.67104 | F35: 100.59564 | G35: 4.38531 | H35: 12.69009 | I35: =SUM(J35:L35) -> 187.76956 | J35: 48.63265 | K35: 138.31479 | L35: 0.82212 | M35: 0 | N35: =O35+P35 -> 0 | O35: 0 | P35: 0 | Q35: 16.78681
B36: B.3.2. | C36: Patalpų šildymo, apšvietimo, vėdinimo ir eksploatacijos elektros energijos sąnaudos | D36: =O36+E36+I36+M36+P36+Q36 -> 15.62052 | E36: =SUM(F36:H36) -> 8.98277 | F36: 8.98277 | G36: 0 | H36: 0 | I36: =SUM(J36:L36) -> 6.63775 | J36: 0 | K36: 6.63775 | L36: 0 | M36: 0 | N36: =O36+P36 -> 0 | O36: 0 | P36: 0 | Q36: 0
B37: B.4. | C37: Technologinių medžiagų ir technologinio kuro sąnaudos | D37: =O37+E37+I37+M37+P37+Q37 -> 19.0602 | E37: =SUM(F37:H37) -> 0 | F37: =F38 -> 0 | G37: =G38 -> 0 | H37: =H38 -> 0 | I37: =SUM(J37:L37) -> 19.0602 | J37: =SUM(J38:J39) -> 0 | K37: =SUM(K38:K39) -> 19.0602 | L37: =SUM(L38:L39) -> 0 | M37: =SUM(M38:M39) -> 0 | N37: =O37+P37 -> 0 | O37: =O38+O39 -> 0 | P37: =SUM(P38:P39) -> 0 | Q37: =SUM(Q38:Q39) -> 0
B38: B.4.1. | C38: Technologinių medžiagų sąnaudos | D38: =O38+E38+I38+M38+P38+Q38 -> 19.0602 | E38: =SUM(F38:H38) -> 0 | F38: 0 | G38: 0 | H38: 0 | I38: =SUM(J38:L38) -> 19.0602 | J38: 0 | K38: 19.0602 | L38: 0 | M38: 0 | N38: =O38+P38 -> 0 | O38: 0 | P38: 0 | Q38: 0
B39: B.4.2. | C39: Technologinio kuro sąnaudos | D39: =O39+E39+I39+M39+P39+Q39 -> 0 | E39: =SUM(F39:H39) -> 0 | F39: 0 | G39: 0 | H39: 0 | I39: =SUM(J39:L39) -> 0 | J39: 0 | K39: 0 | L39: 0 | M39: 0 | N39: =O39+P39 -> 0 | O39: 0 | P39: 0 | Q39: 0
B40: B.5. | C40: Kuro transportui sąnaudos | D40: =O40+E40+I40+M40+P40+Q40 -> 44.72385 | E40: =SUM(F40:H40) -> 6.50887 | F40: =SUM(F41:F42) -> 0 | G40: =SUM(G41:G42) -> 0 | H40: =SUM(H41:H42) -> 6.50887 | I40: =SUM(J40:L40) -> 11.62047 | J40: =SUM(J41:J42) -> 7.48287 | K40: =SUM(K41:K42) -> 1.52739 | L40: =SUM(L41:L42) -> 2.61021 | M40: =SUM(M41:M42) -> 0 | N40: =O40+P40 -> 2.43502 | O40: =SUM(O41:O42) -> 2.43502 | P40: =SUM(P41:P42) -> 0 | Q40: =SUM(Q41:Q42) -> 24.15949
B41: B.5.1. | C41: Kuras mašinoms ir gamybiniam transportui (asenizacijos transporto priemonėms, transportui dumblui, vandeniui vežti, autobusams žmonėms vežti) | D41: =O41+E41+I41+M41+P41+Q41 -> 41.92383 | E41: =SUM(F41:H41) -> 6.14387 | F41: 0 | G41: 0 | H41: 6.14387 | I41: =SUM(J41:L41) -> 11.62047 | J41: 7.48287 | K41: 1.52739 | L41: 2.61021 | M41: 0 | N41: =O41+P41 -> 0 | O41: 0 | P41: 0 | Q41: 24.15949
B42: B.5.2. | C42: Kuras lengviesiems automobiliams | D42: =O42+E42+I42+M42+P42+Q42 -> 2.80002 | E42: =SUM(F42:H42) -> 0.365 | F42: 0 | G42: 0 | H42: 0.365 | I42: =SUM(J42:L42) -> 0 | J42: 0 | K42: 0 | L42: 0 | M42: 0 | N42: =O42+P42 -> 2.43502 | O42: 2.43502 | P42: 0 | Q42: 0
B43: B.6. | C43: Šilumos energijos sąnaudos | D43: =O43+E43+I43+M43+P43+Q43 -> 19.975 | E43: =SUM(F43:H43) -> 15.767 | F43: =F44 -> 15.767 | G43: =G44 -> 0 | H43: =H44 -> 0 | I43: =SUM(J43:L43) -> 4.208 | J43: =J44 -> 0 | K43: =K44 -> 4.208 | L43: =L44 -> 0 | M43: =M44 -> 0 | N43: =O43+P43 -> 0 | O43: =O44 -> 0 | P43: =P44 -> 0 | Q43: =Q44 -> 0
B44: B.6.1. | C44: Šilumos energijos patalpų šildymui sąnaudos | D44: =O44+E44+I44+M44+P44+Q44 -> 19.975 | E44: =SUM(F44:H44) -> 15.767 | F44: 15.767 | G44: 0 | H44: 0 | I44: =SUM(J44:L44) -> 4.208 | J44: 0 | K44: 4.208 | L44: 0 | M44: 0 | N44: =O44+P44 -> 0 | O44: 0 | P44: 0 | Q44: 0
B45: B.7. | C45: Einamojo remonto ir aptarnavimo sąnaudos | D45: =O45+E45+I45+M45+P45+Q45 -> 87.06711 | E45: =SUM(F45:H45) -> 52.75054 | F45: =SUM(F46:F50) -> 9.13715 | G45: =SUM(G46:G50) -> 6.98386 | H45: =SUM(H46:H50) -> 36.62953 | I45: =SUM(J45:L45) -> 29.39928 | J45: =SUM(J46:J50) -> 16.27281 | K45: =SUM(K46:K50) -> 12.12647 | L45: =SUM(L46:L50) -> 1 | M45: =SUM(M46:M50) -> 0 | N45: =O45+P45 -> 4.91729 | O45: =SUM(O46:O50) -> 4.91729 | P45: =SUM(P46:P50) -> 0 | Q45: =SUM(Q46:Q50) -> 0
B46: B.7.1. | C46: Remonto medžiagų ir detalių sąnaudos | D46: =O46+E46+I46+M46+P46+Q46 -> 35.19411 | E46: =SUM(F46:H46) -> 16.26254 | F46: 3.05815 | G46: 3.96386 | H46: 9.24053 | I46: =SUM(J46:L46) -> 16.53228 | J46: 6.73981 | K46: 9.79247 | L46: 0 | M46: 0 | N46: =O46+P46 -> 2.39929 | O46: 2.39929 | P46: 0 | Q46: 0
B47: B.7.2. | C47: Remonto ir aptarnavimo paslaugų pirkimo sąnaudos | D47: =O47+E47+I47+M47+P47+Q47 -> 18.509 | E47: =SUM(F47:H47) -> 14.266 | F47: 6.079 | G47: 3.02 | H47: 5.167 | I47: =SUM(J47:L47) -> 4.243 | J47: 3.243 | K47: 0 | L47: 1 | M47: 0 | N47: =O47+P47 -> 0 | O47: 0 | P47: 0 | Q47: 0
B48: B.7.3. | C48: Metrologinės patikros sąnaudos | D48: =O48+E48+I48+M48+P48+Q48 -> 2.518 | E48: =SUM(F48:H48) -> 0 | F48: 0 | G48: 0 | H48: 0 | I48: =SUM(J48:L48) -> 0 | J48: 0 | K48: 0 | L48: 0 | M48: 0 | N48: =O48+P48 -> 2.518 | O48: 2.518 | P48: 0 | Q48: 0
B49: B.7.4. | C49: Avarijų šalinimo sąnaudos | D49: =O49+E49+I49+M49+P49+Q49 -> 26.178 | E49: =SUM(F49:H49) -> 19.888 | F49: 0 | G49: 0 | H49: 19.888 | I49: =SUM(J49:L49) -> 6.29 | J49: 6.29 | K49: 0 | L49: 0 | M49: 0 | N49: =O49+P49 -> 0 | O49: 0 | P49: 0 | Q49: 0
B50: B.7.5. | C50: Kitos techninio aptarnavimo ir patikros (kėlimo mechanizmų, energetikos įrenginių) paslaugos | D50: =O50+E50+I50+M50+P50+Q50 -> 4.668 | E50: =SUM(F50:H50) -> 2.334 | F50: 0 | G50: 0 | H50: 2.334 | I50: =SUM(J50:L50) -> 2.334 | J50: 0 | K50: 2.334 | L50: 0 | M50: 0 | N50: =O50+P50 -> 0 | O50: 0 | P50: 0 | Q50: 0
B51: B.8. | C51: Nusidėvėjimo (amortizacijos) sąnaudos | D51: =O51+E51+I51+M51+P51+Q51 -> 178.40405 | E51: =SUM(F51:H51) -> 71.259658 | F51: 8.4931289 | G51: 25.282431 | H51: 37.484098 | I51: =SUM(J51:L51) -> 94.371116 | J51: 64.740748 | K51: 27.263926 | L51: 2.3664426 | M51: 0.016219127 | N51: =O51+P51 -> 12.757053 | O51: 12.757053 | P51: 0 | Q51: 0
B52: B.9. | C52: Personalo sąnaudos | D52: =O52+E52+I52+M52+P52+Q52 -> 962.23446 | E52: =SUM(F52:H52) -> 386.60205 | F52: =SUM(F53:F57) -> 119.57685 | G52: =SUM(G53:G57) -> 17.65015 | H52: =SUM(H53:H57) -> 249.37505 | I52: =SUM(J52:L52) -> 440.60309 | J52: =SUM(J53:J57) -> 162.03617 | K52: =SUM(K53:K57) -> 235.94927 | L52: =SUM(L53:L57) -> 42.61765 | M52: =SUM(M53:M57) -> 45.59214 | N52: =O52+P52 -> 47.56715 | O52: =SUM(O53:O57) -> 47.56715 | P52: =SUM(P53:P57) -> 0 | Q52: =SUM(Q53:Q57) -> 41.87003
B53: B.9.1. | C53: Darbo užmokesčio sąnaudos | D53: =O53+E53+I53+M53+P53+Q53 -> 943.18214 | E53: =SUM(F53:H53) -> 379.32738 | F53: 117.13153 | G53: 17.28882 | H53: 244.90703 | I53: =SUM(J53:L53) -> 431.6122 | J53: 158.73175 | K53: 231.1296 | L53: 41.75085 | M53: 44.6707 | N53: =O53+P53 -> 46.55686 | O53: 46.55686 | P53: 0 | Q53: 41.015
B54: B.9.2. | C54: Darbdavio įmokų VSDFV ir kitų darbdavio įmokų VSDFV sąnaudos | D54: =O54+E54+I54+M54+P54+Q54 -> 19.052319 | E54: =SUM(F54:H54) -> 7.2746688 | F54: 2.44532 | G54: 0.36133 | H54: 4.4680188 | I54: =SUM(J54:L54) -> 8.99089 | J54: 3.30442 | K54: 4.81967 | L54: 0.8668 | M54: 0.92144 | N54: =O54+P54 -> 1.01029 | O54: 1.01029 | P54: 0 | Q54: 0.85503
B55: B.9.3. | C55: Darbo saugos sąnaudos | D55: =O55+E55+I55+M55+P55+Q55 -> 0 | E55: =SUM(F55:H55) -> 0 | F55: 0 | G55: 0 | H55: 0 | I55: =SUM(J55:L55) -> 0 | J55: 0 | K55: 0 | L55: 0 | M55: 0 | N55: =O55+P55 -> 0 | O55: 0 | P55: 0 | Q55: 0
B56: B.9.4. | C56: Personalo mokymų sąnaudos | D56: =O56+E56+I56+M56+P56+Q56 -> 0 | E56: =SUM(F56:H56) -> 0 | F56: 0 | G56: 0 | H56: 0 | I56: =SUM(J56:L56) -> 0 | J56: 0 | K56: 0 | L56: 0 | M56: 0 | N56: =O56+P56 -> 0 | O56: 0 | P56: 0 | Q56: 0
B57: B.9.5. | C57: Kitos personalo sąnaudos | D57: =O57+E57+I57+M57+P57+Q57 -> 0 | E57: =SUM(F57:H57) -> 0 | F57: 0 | G57: 0 | H57: 0 | I57: =SUM(J57:L57) -> 0 | J57: 0 | K57: 0 | L57: 0 | M57: 0 | N57: =O57+P57 -> 0 | O57: 0 | P57: 0 | Q57: 0
B58: B.10. | C58: Mokesčių sąnaudos | D58: =O58+E58+I58+M58+P58+Q58 -> 136.89492 | E58: =SUM(F58:H58) -> 103.51934 | F58: =SUM(F59:F64) -> 99.978 | G58: =SUM(G59:G64) -> 0 | H58: =SUM(H59:H64) -> 3.54134 | I58: =SUM(J58:L58) -> 33.24685 | J58: =SUM(J59:J64) -> 1.35753 | K58: =SUM(K59:K64) -> 31.59224 | L58: =SUM(L59:L64) -> 0.29708 | M58: =SUM(M59:M64) -> 0.12873 | N58: =O58+P58 -> 0 | O58: =SUM(O59:O64) -> 0 | P58: =SUM(P59:P64) -> 0 | Q58: =SUM(Q59:Q64) -> 0
B59: B.10.1. | C59: Mokesčio už valstybinius gamtos išteklius sąnaudos | D59: =O59+E59+I59+M59+P59+Q59 -> 99.978 | E59: =SUM(F59:H59) -> 99.978 | F59: 99.978 | G59: 0 | H59: 0 | I59: =SUM(J59:L59) -> 0 | J59: 0 | K59: 0 | L59: 0 | M59: 0 | N59: =O59+P59 -> 0 | O59: 0 | P59: 0 | Q59: 0
B60: B.10.2. | C60: Mokesčio už taršą sąnaudos | D60: =O60+E60+I60+M60+P60+Q60 -> 30.237 | E60: =SUM(F60:H60) -> 0 | F60: 0 | G60: 0 | H60: 0 | I60: =SUM(J60:L60) -> 30.237 | J60: 0 | K60: 30.237 | L60: 0 | M60: 0 | N60: =O60+P60 -> 0 | O60: 0 | P60: 0 | Q60: 0
B61: B.10.3. | C61: Nekilnojamojo turto mokesčio sąnaudos | D61: =O61+E61+I61+M61+P61+Q61 -> 0 | E61: =SUM(F61:H61) -> 0 | F61: 0 | G61: 0 | H61: 0 | I61: =SUM(J61:L61) -> 0 | J61: 0 | K61: 0 | L61: 0 | M61: 0 | N61: =O61+P61 -> 0 | O61: 0 | P61: 0 | Q61: 0
B62: B.10.4. | C62: Žemės nuomos mokesčio sąnaudos | D62: =O62+E62+I62+M62+P62+Q62 -> 0 | E62: =SUM(F62:H62) -> 0 | F62: 0 | G62: 0 | H62: 0 | I62: =SUM(J62:L62) -> 0 | J62: 0 | K62: 0 | L62: 0 | M62: 0 | N62: =O62+P62 -> 0 | O62: 0 | P62: 0 | Q62: 0
B63: B.10.5. | C63: Įmokos garantiniam vandens tiekėjui | D63: =O63+E63+I63+M63+P63+Q63 -> 0 | E63: =SUM(F63:H63) -> 0 | F63: 0 | G63: 0 | H63: 0 | I63: =SUM(J63:L63) -> 0 | J63: 0 | K63: 0 | L63: 0 | M63: 0 | N63: 0 | O63: 0 | P63: 0 | Q63: 0
B64: B.10.6. | C64: Kitų mokesčių sąnaudos | D64: =O64+E64+I64+M64+P64+Q64 -> 6.67992 | E64: =SUM(F64:H64) -> 3.54134 | F64: 0 | G64: 0 | H64: 3.54134 | I64: =SUM(J64:L64) -> 3.00985 | J64: 1.35753 | K64: 1.35524 | L64: 0.29708 | M64: 0.12873 | N64: =O64+P64 -> 0 | O64: 0 | P64: 0 | Q64: 0
B65: B.11. | C65: Finansinės sąnaudos | D65: =O65+E65+I65+M65+P65+Q65 -> 0 | E65: =SUM(F65:H65) -> 0 | F65: =F66+F67 -> 0 | G65: =G66+G67 -> 0 | H65: =H66+H67 -> 0 | I65: =SUM(J65:L65) -> 0 | J65: =J66+J67 -> 0 | K65: =K66+K67 -> 0 | L65: =L66+L67 -> 0 | M65: =M66+M67 -> 0 | N65: =O65+P65 -> 0 | O65: =O66+O67 -> 0 | P65: =P66+P67 -> 0 | Q65: =Q66+Q67 -> 0
B66: B.11.1. | C66: Banko paslaugų (komisinių) sąnaudos | D66: =O66+E66+I66+M66+P66+Q66 -> 0 | E66: =SUM(F66:H66) -> 0 | F66: 0 | G66: 0 | H66: 0 | I66: =SUM(J66:L66) -> 0 | J66: 0 | K66: 0 | L66: 0 | M66: 0 | N66: =O66+P66 -> 0 | O66: 0 | P66: 0 | Q66: 0
B67: B.11.2. | C67: Kitos finansinės sąnaudos | D67: =O67+E67+I67+M67+P67+Q67 -> 0 | E67: =SUM(F67:H67) -> 0 | F67: 0 | G67: 0 | H67: 0 | I67: =SUM(J67:L67) -> 0 | J67: 0 | K67: 0 | L67: 0 | M67: 0 | N67: =O67+P67 -> 0 | O67: 0 | P67: 0 | Q67: 0
B68: B.12. | C68: Administracinės sąnaudos | D68: =O68+E68+I68+M68+P68+Q68 -> 0 | E68: =SUM(F68:H68) -> 0 | F68: =SUM(F69:F82) -> 0 | G68: =SUM(G69:G82) -> 0 | H68: =SUM(H69:H82) -> 0 | I68: =SUM(J68:L68) -> 0 | J68: =SUM(J69:J82) -> 0 | K68: =SUM(K69:K82) -> 0 | L68: =SUM(L69:L82) -> 0 | M68: =SUM(M69:M82) -> 0 | N68: =O68+P68 -> 0 | O68: =SUM(O69:O82) -> 0 | P68: =SUM(P69:P82) -> 0 | Q68: =SUM(Q69:Q82) -> 0
B69: B.12.1. | C69: Teisinių paslaugų pirkimo sąnaudos | D69: =O69+E69+I69+M69+P69+Q69 -> 0 | E69: =SUM(F69:H69) -> 0 | F69: 0 | G69: 0 | H69: 0 | I69: =SUM(J69:L69) -> 0 | J69: 0 | K69: 0 | L69: 0 | M69: 0 | N69: =O69+P69 -> 0 | O69: 0 | P69: 0 | Q69: 0
B70: B.12.2. | C70: Žyminio mokesčio sąnaudos | D70: =O70+E70+I70+M70+P70+Q70 -> 0 | E70: =SUM(F70:H70) -> 0 | F70: 0 | G70: 0 | H70: 0 | I70: =SUM(J70:L70) -> 0 | J70: 0 | K70: 0 | L70: 0 | M70: 0 | N70: =O70+P70 -> 0 | O70: 0 | P70: 0 | Q70: 0
B71: B.12.3. | C71: Konsultacinių paslaugų pirkimo sąnaudos | D71: =O71+E71+I71+M71+P71+Q71 -> 0 | E71: =SUM(F71:H71) -> 0 | F71: 0 | G71: 0 | H71: 0 | I71: =SUM(J71:L71) -> 0 | J71: 0 | K71: 0 | L71: 0 | M71: 0 | N71: =O71+P71 -> 0 | O71: 0 | P71: 0 | Q71: 0
B72: B.12.4. | C72: Ryšių paslaugų sąnaudos | D72: =O72+E72+I72+M72+P72+Q72 -> 0 | E72: =SUM(F72:H72) -> 0 | F72: 0 | G72: 0 | H72: 0 | I72: =SUM(J72:L72) -> 0 | J72: 0 | K72: 0 | L72: 0 | M72: 0 | N72: =O72+P72 -> 0 | O72: 0 | P72: 0 | Q72: 0
B73: B.12.5. | C73: Pašto, pasiuntinių paslaugų sąnaudos | D73: =O73+E73+I73+M73+P73+Q73 -> 0 | E73: =SUM(F73:H73) -> 0 | F73: 0 | G73: 0 | H73: 0 | I73: =SUM(J73:L73) -> 0 | J73: 0 | K73: 0 | L73: 0 | M73: 0 | N73: =O73+P73 -> 0 | O73: 0 | P73: 0 | Q73: 0
B74: B.12.6. | C74: Kanceliarinės sąnaudos | D74: =O74+E74+I74+M74+P74+Q74 -> 0 | E74: =SUM(F74:H74) -> 0 | F74: 0 | G74: 0 | H74: 0 | I74: =SUM(J74:L74) -> 0 | J74: 0 | K74: 0 | L74: 0 | M74: 0 | N74: =O74+P74 -> 0 | O74: 0 | P74: 0 | Q74: 0
B75: B.12.7. | C75: Org. inventoriaus aptarnavimo, remonto paslaugų pirkimo sąnaudos | D75: =O75+E75+I75+M75+P75+Q75 -> 0 | E75: =SUM(F75:H75) -> 0 | F75: 0 | G75: 0 | H75: 0 | I75: =SUM(J75:L75) -> 0 | J75: 0 | K75: 0 | L75: 0 | M75: 0 | N75: =O75+P75 -> 0 | O75: 0 | P75: 0 | Q75: 0
B76: B.12.8. | C76: Profesinės literatūros, spaudos sąnaudos | D76: =O76+E76+I76+M76+P76+Q76 -> 0 | E76: =SUM(F76:H76) -> 0 | F76: 0 | G76: 0 | H76: 0 | I76: =SUM(J76:L76) -> 0 | J76: 0 | K76: 0 | L76: 0 | M76: 0 | N76: =O76+P76 -> 0 | O76: 0 | P76: 0 | Q76: 0
B77: B.12.9. | C77: Patalpų priežiūros paslaugų pirkimo sąnaudos | D77: =O77+E77+I77+M77+P77+Q77 -> 0 | E77: =SUM(F77:H77) -> 0 | F77: 0 | G77: 0 | H77: 0 | I77: =SUM(J77:L77) -> 0 | J77: 0 | K77: 0 | L77: 0 | M77: 0 | N77: =O77+P77 -> 0 | O77: 0 | P77: 0 | Q77: 0
B78: B.12.10. | C78: Apskaitos ir audito paslaugų pirkimo sąnaudos | D78: =O78+E78+I78+M78+P78+Q78 -> 0 | E78: =SUM(F78:H78) -> 0 | F78: 0 | G78: 0 | H78: 0 | I78: =SUM(J78:L78) -> 0 | J78: 0 | K78: 0 | L78: 0 | M78: 0 | N78: =O78+P78 -> 0 | O78: 0 | P78: 0 | Q78: 0
B79: B.12.11. | C79: Transporto paslaugų pirkimo sąnaudos | D79: =O79+E79+I79+M79+P79+Q79 -> 0 | E79: =SUM(F79:H79) -> 0 | F79: 0 | G79: 0 | H79: 0 | I79: =SUM(J79:L79) -> 0 | J79: 0 | K79: 0 | L79: 0 | M79: 0 | N79: =O79+P79 -> 0 | O79: 0 | P79: 0 | Q79: 0
B80: B.12.12. | C80: Įmokų administravimo paslaugų sąnaudos | D80: =O80+E80+I80+M80+P80+Q80 -> 0 | E80: =SUM(F80:H80) -> 0 | F80: 0 | G80: 0 | H80: 0 | I80: =SUM(J80:L80) -> 0 | J80: 0 | K80: 0 | L80: 0 | M80: 0 | N80: =O80+P80 -> 0 | O80: 0 | P80: 0 | Q80: 0
... B83: B.13. | C83: Rinkodaros ir pardavimų sąnaudos | D83: =O83+E83+I83+M83+P83+Q83 -> 0 | E83: =SUM(F83:H83) -> 0 | F83: 0 | G83: 0 | H83: 0 | I83: =SUM(J83:L83) -> 0 | J83: 0 | K83: 0 | L83: 0 | M83: 0 | N83: =O83+P83 -> 0 | O83: 0 | P83: 0 | Q83: 0
B84: B.14. | C84: Kitos sąnaudos | D84: =O84+E84+I84+M84+P84+Q84 -> 15.182 | E84: =SUM(F84:H84) -> 11.137 | F84: =SUM(F85:F91) -> 3.8 | G84: =SUM(G85:G91) -> 0 | H84: =SUM(H85:H91) -> 7.337 | I84: =SUM(J84:L84) -> 4.045 | J84: =SUM(J85:J91) -> 0 | K84: =SUM(K85:K91) -> 4.045 | L84: =SUM(L85:L91) -> 0 | M84: =SUM(M85:M91) -> 0 | N84: =O84+P84 -> 0 | O84: =SUM(O85:O91) -> 0 | P84: =SUM(P85:P91) -> 0 | Q84: =SUM(Q85:Q91) -> 0
B85: B.14.1. | C85: Turto nuomos sąnaudos | D85: =O85+E85+I85+M85+P85+Q85 -> 0 | E85: =SUM(F85:H85) -> 0 | F85: 0 | G85: 0 | H85: 0 | I85: =SUM(J85:L85) -> 0 | J85: 0 | K85: 0 | L85: 0 | M85: 0 | N85: =O85+P85 -> 0 | O85: 0 | P85: 0 | Q85: 0
B86: B.14.2. | C86: Draudimo sąnaudos | D86: =O86+E86+I86+M86+P86+Q86 -> 0 | E86: =SUM(F86:H86) -> 0 | F86: 0 | G86: 0 | H86: 0 | I86: =SUM(J86:L86) -> 0 | J86: 0 | K86: 0 | L86: 0 | M86: 0 | N86: =O86+P86 -> 0 | O86: 0 | P86: 0 | Q86: 0
B87: B.14.3. | C87: Laboratorinių tyrimų pirkimo sąnaudos | D87: =O87+E87+I87+M87+P87+Q87 -> 9.142 | E87: =SUM(F87:H87) -> 7.337 | F87: 0 | G87: 0 | H87: 7.337 | I87: =SUM(J87:L87) -> 1.805 | J87: 0 | K87: 1.805 | L87: 0 | M87: 0 | N87: =O87+P87 -> 0 | O87: 0 | P87: 0 | Q87: 0
B88: B.14.4. | C88: Kitų paslaugų pirkimo sąnaudos | D88: =O88+E88+I88+M88+P88+Q88 -> 6.04 | E88: =SUM(F88:H88) -> 3.8 | F88: 3.8 | G88: 0 | H88: 0 | I88: =SUM(J88:L88) -> 2.24 | J88: 0 | K88: 2.24 | L88: 0 | M88: 0 | N88: =O88+P88 -> 0 | O88: 0 | P88: 0 | Q88: 0
B89: B.14.5. | C89: Kitos pastoviosios sąnaudos | D89: =O89+E89+I89+M89+P89+Q89 -> 0 | E89: =SUM(F89:H89) -> 0 | F89: 0 | G89: 0 | H89: 0 | I89: =SUM(J89:L89) -> 0 | J89: 0 | K89: 0 | L89: 0 | M89: 0 | N89: =O89+P89 -> 0 | O89: 0 | P89: 0 | Q89: 0
B90: B.14.6. | C90: Trumpalaikio turto (vandens ir nuotekų apskaitos prietaisai) nurašymo sąnaudos | D90: =O90+E90+I90+M90+P90+Q90 -> 0 | E90: =SUM(F90:H90) -> 0 | F90: 0 | G90: 0 | H90: 0 | I90: =SUM(J90:L90) -> 0 | J90: 0 | K90: 0 | L90: 0 | M90: 0 | N90: =O90+P90 -> 0 | O90: 0 | P90: 0 | Q90: 0
B91: B.14.7. | C91: Kitos kintamosios sąnaudos | D91: =O91+E91+I91+M91+P91+Q91 -> 0 | E91: =SUM(F91:H91) -> 0 | F91: 0 | G91: 0 | H91: 0 | I91: =SUM(J91:L91) -> 0 | J91: 0 | K91: 0 | L91: 0 | M91: 0 | N91: =O91+P91 -> 0 | O91: 0 | P91: 0 | Q91: 0
B92: C. | C92: NETIESIOGINĖS SĄNAUDOS | D92: =D93+D96+D99+D101+D107+D108+D114+D118+D121+D136+D137 -> 339.25429 | E92: =SUM(F92:H92) -> 97.72904 | F92: =F93+F96+F99+F101+F107+F108+F114+F118+F121+F136+F137 -> 5.3252304 | G92: =G93+G96+G99+G101+G107+G108+G114+G118+G121+G136+G137 -> 11.94572 | H92: =H93+H96+H99+H101+H107+H108+H114+H118+H121+H136+H137 -> 80.458089 | I92: =SUM(J92:L92) -> 231.90135 | J92: =J93+J96+J99+J101+J107+J108+J114+J118+J121+J136+J137 -> 143.63532 | K92: =K93+K96+K99+K101+K107+K108+K114+K118+K121+K136+K137 -> 78.950692 | L92: =L93+L96+L99+L101+L107+L108+L114+L118+L121+L136+L137 -> 9.3153417 | M92: =M93+M96+M99+M101+M107+M108+M114+M118+M121+M136+M137 -> 7.9834667 | N92: =O92+P92 -> 0.74000648 | O92: =O93+O96+O99+O101+O107+O108+O114+O118+O121+O136+O137 -> 0.74000648 | P92: =P93+P96+P99+P101+P107+P108+P114+P118+P121+P136+P137 -> 0 | Q92: =Q93+Q96+Q99+Q101+Q107+Q108+Q114+Q118+Q121+Q136+Q137 -> 0.90043204
B93: C.1. | C93: Elektros energijos sąnaudos | D93: =D94+D95 -> 8.4927 | E93: =SUM(F93:H93) -> 2.4464935 | F93: =F94+F95 -> 0.1333088 | G93: =G94+G95 -> 0.29904241 | H93: =H94+H95 -> 2.0141423 | I93: =SUM(J93:L93) -> 5.8052871 | J93: =J94+J95 -> 3.5956852 | K93: =K94+K95 -> 1.9764069 | L93: =L94+L95 -> 0.23319499 | M93: =M94+M95 -> 0.19985359 | N93: =O93+P93 -> 0.018524903 | O93: =O94+O95 -> 0.018524903 | P93: =P94+P95 -> 0 | Q93: =Q94+Q95 -> 0.022540906
B94: C.1.1. | C94: Elektros energija siurbliams, orapūtėms, maišyklėms ir kitiems technologiniams įrenginiams | D94: 8.4927 | E94: =SUM(F94:H94) -> 2.4464935 | F94: =IFERROR($D$94*F146/100, 0) -> 0.1333088 | G94: =IFERROR($D$94*G146/100, 0) -> 0.29904241 | H94: =IFERROR($D$94*H146/100, 0) -> 2.0141423 | I94: =SUM(J94:L94) -> 5.8052871 | J94: =IFERROR($D$94*J146/100, 0) -> 3.5956852 | K94: =IFERROR($D$94*K146/100, 0) -> 1.9764069 | L94: =IFERROR($D$94*L146/100, 0) -> 0.23319499 | M94: =IFERROR($D$94*M146/100, 0) -> 0.19985359 | N94: =O94+P94 -> 0.018524903 | O94: =IFERROR($D$94*O146/100, 0) -> 0.018524903 | P94: =IFERROR($D$94*P146/100, 0) -> 0 | Q94: =IFERROR($D$94*Q146/100, 0) -> 0.022540906
B95: C.1.2. | C95: Patalpų šildymo, apšvietimo, vėdinimo ir eksploatacijos elektros energijos sąnaudos | D95: 0 | E95: =SUM(F95:H95) -> 0 | F95: =IFERROR($D$95*F147/100, 0) -> 0 | G95: =IFERROR($D$95*G147/100, 0) -> 0 | H95: =IFERROR($D$95*H147/100, 0) -> 0 | I95: =SUM(J95:L95) -> 0 | J95: =IFERROR($D$95*J147/100, 0) -> 0 | K95: =IFERROR($D$95*K147/100, 0) -> 0 | L95: =IFERROR($D$95*L147/100, 0) -> 0 | M95: =IFERROR($D$95*M147/100, 0) -> 0 | N95: =O95+P95 -> 0 | O95: =IFERROR($D$95*O147/100, 0) -> 0 | P95: =IFERROR($D$95*P147/100, 0) -> 0 | Q95: =IFERROR($D$95*Q147/100, 0) -> 0
B96: C.2. | C96: Kuro transportui sąnaudos | D96: =D97+D98 -> 6.28059 | E96: =SUM(F96:H96) -> 1.8092506 | F96: =F97+F98 -> 0.098585602 | G96: =G97+G98 -> 0.22115025 | H96: =H97+H98 -> 1.4895147 | I96: =SUM(J96:L96) -> 4.2931728 | J96: =J97+J98 -> 2.6591101 | K96: =K97+K98 -> 1.4616084 | L96: =L97+L98 -> 0.17245424 | M96: =M97+M98 -> 0.14779734 | N96: =O96+P96 -> 0.013699686 | O96: =O97+O98 -> 0.013699686 | P96: =P97+P98 -> 0 | Q96: =Q97+Q98 -> 0.016669633
B97: C.2.1. | C97: Kuras mašinoms ir gamybiniam transportui (asenizacijos transporto priemonėms, transportui dumblui, vandeniui vežti, autobusams žmonėms vežti) | D97: 0 | E97: =SUM(F97:H97) -> 0 | F97: =IFERROR($D$97*F149/100, 0) -> 0 | G97: =IFERROR($D$97*G149/100, 0) -> 0 | H97: =IFERROR($D$97*H149/100, 0) -> 0 | I97: =SUM(J97:L97) -> 0 | J97: =IFERROR($D$97*J149/100, 0) -> 0 | K97: =IFERROR($D$97*K149/100, 0) -> 0 | L97: =IFERROR($D$97*L149/100, 0) -> 0 | M97: =IFERROR($D$97*M149/100, 0) -> 0 | N97: =O97+P97 -> 0 | O97: =IFERROR($D$97*O149/100, 0) -> 0 | P97: =IFERROR($D$97*P149/100, 0) -> 0 | Q97: =IFERROR($D$97*Q149/100, 0) -> 0
B98: C.2.2. | C98: Kuras lengviesiems automobiliams | D98: 6.28059 | E98: =SUM(F98:H98) -> 1.8092506 | F98: =IFERROR($D$98*F150/100, 0) -> 0.098585602 | G98: =IFERROR($D$98*G150/100, 0) -> 0.22115025 | H98: =IFERROR($D$98*H150/100, 0) -> 1.4895147 | I98: =SUM(J98:L98) -> 4.2931728 | J98: =IFERROR($D$98*J150/100, 0) -> 2.6591101 | K98: =IFERROR($D$98*K150/100, 0) -> 1.4616084 | L98: =IFERROR($D$98*L150/100, 0) -> 0.17245424 | M98: =IFERROR($D$98*M150/100, 0) -> 0.14779734 | N98: =O98+P98 -> 0.013699686 | O98: =IFERROR($D$98*O150/100, 0) -> 0.013699686 | P98: =IFERROR($D$98*P150/100, 0) -> 0 | Q98: =IFERROR($D$98*Q150/100, 0) -> 0.016669633
B99: C.3. | C99: Šilumos energijos sąnaudos | D99: =D100 -> 0 | E99: =SUM(F99:H99) -> 0 | F99: =F100 -> 0 | G99: =G100 -> 0 | H99: =H100 -> 0 | I99: =SUM(J99:L99) -> 0 | J99: =J100 -> 0 | K99: =K100 -> 0 | L99: =L100 -> 0 | M99: =M100 -> 0 | N99: =O99+P99 -> 0 | O99: =O100 -> 0 | P99: =P100 -> 0 | Q99: =Q100 -> 0
B100: C.3.1. | C100: Šilumos energijos patalpų šildymui sąnaudos | D100: 0 | E100: =IFERROR($D$100*E152/100, 0) -> 0 | F100: =IFERROR($D$100*F152/100, 0) -> 0 | G100: =IFERROR($D$100*G152/100, 0) -> 0 | H100: =IFERROR($D$100*H152/100, 0) -> 0 | I100: =SUM(J100:L100) -> 0 | J100: =IFERROR($D$100*J152/100, 0) -> 0 | K100: =IFERROR($D$100*K152/100, 0) -> 0 | L100: =IFERROR($D$100*L152/100, 0) -> 0 | M100: =IFERROR($D$100*M152/100, 0) -> 0 | N100: =O100+P100 -> 0 | O100: =IFERROR($D$100*O152/100, 0) -> 0 | P100: =IFERROR($D$100*P152/100, 0) -> 0 | Q100: =IFERROR($D$100*Q152/100, 0) -> 0
B101: C.4. | C101: Einamojo remonto ir aptarnavimo sąnaudos | D101: =SUM(D102:D106) -> 40.48632 | E101: =SUM(F101:H101) -> 11.662901 | F101: =SUM(F102:F106) -> 0.63550848 | G101: =SUM(G102:G106) -> 1.4255922 | H101: =SUM(H102:H106) -> 9.6018002 | I101: =SUM(J101:L101) -> 27.674911 | J101: =SUM(J102:J106) -> 17.141317 | K101: =SUM(K102:K106) -> 9.4219087 | L101: =SUM(L102:L106) -> 1.111685 | M101: =SUM(M102:M106) -> 0.95274016 | N101: =O101+P101 -> 0.088311746 | O101: =SUM(O102:O106) -> 0.088311746 | P101: =SUM(P102:P106) -> 0 | Q101: =SUM(Q102:Q106) -> 0.1074568
B102: C.4.1. | C102: Remonto medžiagų ir detalių sąnaudos | D102: 37.88732 | E102: =IFERROR($D$102*E154/100, 0) -> 10.914206 | F102: =IFERROR($D$102*F154/100, 0) -> 0.59471232 | G102: =IFERROR($D$102*G154/100, 0) -> 1.3340769 | H102: =IFERROR($D$102*H154/100, 0) -> 8.9854172 | I102: =SUM(J102:L102) -> 25.898333 | J102: =IFERROR($D$102*J154/100, 0) -> 16.040938 | K102: =IFERROR($D$102*K154/100, 0) -> 8.8170738 | L102: =IFERROR($D$102*L154/100, 0) -> 1.0403209 | M102: =IFERROR($D$102*M154/100, 0) -> 0.89157946 | N102: =O102+P102 -> 0.082642616 | O102: =IFERROR($D$102*O154/100, 0) -> 0.082642616 | P102: =IFERROR($D$102*P154/100, 0) -> 0 | Q102: =IFERROR($D$102*Q154/100, 0) -> 0.10055866
B103: C.4.2. | C103: Remonto ir aptarnavimo paslaugų pirkimo sąnaudos | D103: 0.533 | E103: =IFERROR($D$103*E155/100, 0) -> 0.1535414 | F103: =IFERROR($D$103*F155/100, 0) -> 0.0083664315 | G103: =IFERROR($D$103*G155/100, 0) -> 0.018767836 | H103: =IFERROR($D$103*H155/100, 0) -> 0.12640713 | I103: =SUM(J103:L103) -> 0.36433855 | J103: =IFERROR($D$103*J155/100, 0) -> 0.22566442 | K103: =IFERROR($D$103*K155/100, 0) -> 0.12403887 | L103: =IFERROR($D$103*L155/100, 0) -> 0.014635267 | M103: =IFERROR($D$103*M155/100, 0) -> 0.012542768 | N103: =O103+P103 -> 0.0011626189 | O103: =IFERROR($D$103*O155/100, 0) -> 0.0011626189 | P103: =IFERROR($D$103*P155/100, 0) -> 0 | Q103: =IFERROR($D$103*Q155/100, 0) -> 0.0014146623
B104: C.4.3. | C104: Metrologinės patikros sąnaudos | D104: 0 | E104: =IFERROR($D$104*E156/100, 0) -> 0 | F104: =IFERROR($D$104*F156/100, 0) -> 0 | G104: =IFERROR($D$104*G156/100, 0) -> 0 | H104: =IFERROR($D$104*H156/100, 0) -> 0 | I104: =SUM(J104:L104) -> 0 | J104: =IFERROR($D$104*J156/100, 0) -> 0 | K104: =IFERROR($D$104*K156/100, 0) -> 0 | L104: =IFERROR($D$104*L156/100, 0) -> 0 | M104: =IFERROR($D$104*M156/100, 0) -> 0 | N104: =O104+P104 -> 0 | O104: =IFERROR($D$104*O156/100, 0) -> 0 | P104: =IFERROR($D$104*P156/100, 0) -> 0 | Q104: =IFERROR($D$104*Q156/100, 0) -> 0
B105: C.4.4. | C105: Avarijų šalinimo sąnaudos | D105: 0 | E105: =IFERROR($D$105*E157/100, 0) -> 0 | F105: =IFERROR($D$105*F157/100, 0) -> 0 | G105: =IFERROR($D$105*G157/100, 0) -> 0 | H105: =IFERROR($D$105*H157/100, 0) -> 0 | I105: =SUM(J105:L105) -> 0 | J105: =IFERROR($D$105*J157/100, 0) -> 0 | K105: =IFERROR($D$105*K157/100, 0) -> 0 | L105: =IFERROR($D$105*L157/100, 0) -> 0 | M105: =IFERROR($D$105*M157/100, 0) -> 0 | N105: =O105+P105 -> 0 | O105: =IFERROR($D$105*O157/100, 0) -> 0 | P105: =IFERROR($D$105*P157/100, 0) -> 0 | Q105: =IFERROR($D$105*Q157/100, 0) -> 0
B106: C.4.5. | C106: Kitos techninio aptarnavimo ir patikros (kėlimo mechanizmų, energetikos įrenginių) paslaugos | D106: 2.066 | E106: =IFERROR($D$106*E158/100, 0) -> 0.59515296 | F106: =IFERROR($D$106*F158/100, 0) -> 0.032429732 | G106: =IFERROR($D$106*G158/100, 0) -> 0.072747372 | H106: =IFERROR($D$106*H158/100, 0) -> 0.48997585 | I106: =SUM(J106:L106) -> 1.4122391 | J106: =IFERROR($D$106*J158/100, 0) -> 0.87471424 | K106: =IFERROR($D$106*K158/100, 0) -> 0.48079607 | L106: =IFERROR($D$106*L158/100, 0) -> 0.056728821 | M106: =IFERROR($D$106*M158/100, 0) -> 0.048617932 | N106: =O106+P106 -> 0.0045065115 | O106: =IFERROR($D$106*O158/100, 0) -> 0.0045065115 | P106: =IFERROR($D$106*P158/100, 0) -> 0 | Q106: =IFERROR($D$106*Q158/100, 0) -> 0.0054834754
B107: C.5. | C107: Nusidėvėjimo (amortizacijos) sąnaudos | D107: 15.377863 | E107: =IFERROR($D$107*E159/100, 0) -> 4.4299034 | F107: =IFERROR($D$107*F159/100, 0) -> 0.2413843 | G107: =IFERROR($D$107*G159/100, 0) -> 0.54148068 | H107: =IFERROR($D$107*H159/100, 0) -> 3.6470384 | I107: =SUM(J107:L107) -> 10.511723 | J107: =IFERROR($D$107*J159/100, 0) -> 6.5107625 | K107: =IFERROR($D$107*K159/100, 0) -> 3.5787105 | L107: =IFERROR($D$107*L159/100, 0) -> 0.42224976 | M107: =IFERROR($D$107*M159/100, 0) -> 0.36187797 | N107: =O107+P107 -> 0.033543328 | O107: =IFERROR($D$107*O159/100, 0) -> 0.033543328 | P107: =IFERROR($D$107*P159/100, 0) -> 0 | Q107: =IFERROR($D$107*Q159/100, 0) -> 0.040815165
...

Sheet 5
E2: Geriamojo vandens tiekimo ir nuotekų tvarkymo bei paviršinių nuotekų tvarkymo paslaugų įmonių apskaitos atskyrimo taisyklių ir susijusių reikalavimų sąvado 5 priedas
C3: Ūkio subjektas: UAB „Kaišiadorių vandenys“
C4: Ataskaitinis laikotarpis: 2024-01-01 - 2024-12-31
C6: Ataskaitinio laikotarpio reguliuojamos veiklos ilgalaikio turto įsigijimo ir likutinės vertės suvestinė ataskaita (tūkst. Eur)
B9: Eil. Nr. | C9: STRAIPSNIAI | D9: Ataskaitinis laikotarpis | E9: Paaiškinimai
B10: I. | C10: ILGALAIKIO TURTO LIKUTINĖ VERTĖ PAGAL FINANSINĖS APSKAITOS STANDARTUS (FAS) | D10: 32077.239 | E10: 2 priedas
B11: A. | C11: GERIAMOJO VANDENS TIEKIMO IR NUOTEKŲ TVARKYMO (GVTNT) REGULIUOJAMO ILGALAIKIO TURTO LIKUTINĖ VERTĖ PAGAL REGULIAVIMO APSKAITOS SISTEMĄ (RAS) | D11: =SUM(D12:D13)+D17 -> 3658.2454 | E11: 7 priedas
B12: A.1. | C12: geriamojo vandens tiekimo (GVT) reguliuojamo ilgalaikio turto likutinė vertė (pagal RAS) | D12: ='7'!E10 -> 1499.5392 | E12: 7 priedas
B13: A.2. | C13: nuotekų tvarkymo (NT) veiklos reguliuojamo ilgalaikio turto likutinė vertė (pagal RAS) | D13: ='7'!I10 -> 2156.6053 | E13: 7 priedas
B14: A.2.1. | C14: nuotekų surinkimas centralizuotais nuotekų surinkimo tinklais reguliuojamo ilgalaikio turto likutinė vertė (pagal RAS) | D14: ='7'!J10 -> 1589.3424 | E14: 7 priedas
B15: A.2.2. | C15: nuotekų valymo reguliuojamo ilgalaikio turto likutinė vertė (pagal RAS) | D15: ='7'!K10 -> 510.82819 | E15: 7 priedas
B16: A.2.3. | C16: nuotekų dumblo tvarkymo reguliuojamo ilgalaikio turto likutinė vertė (pagal RAS) | D16: ='7'!L10 -> 56.434784 | E16: 7 priedas
B17: A.3. | C17: paviršinių nuotekų tvarkymo reguliuojamo ilgalaikio turto likutinė vertė (pagal RAS),jei yra atskira paviršinių nuotekų surinkimo sistema | D17: ='7'!M10 -> 2.1008127 | E17: 7 priedas
B18: B. | C18: GVTNT VEIKLOS REGULIUOJAMAM ILGALAIKIUI TURTUI (PAGAL RAS) NEPRISKIRTINO TURTO LIKUTINĖS VERTĖS | D18: =SUM(D19:D28) -> 28358.067
B19: B.1. | C19: už Dotacijas įsigyto ir neatlygintai gauto turto vertė (GVTNT) | D19: 16750.033
B20: B.2. | C20: Plėtros darbų vertė, iki ilgalaikio turto vienetų, kurių formavimui buvo atliekami plėtros darbai, eksploatacijos pradžios (GVTNT) | D20: 0
B21: B.3. | C21: Prestižo vertė (GVTNT) | D21: 0
B22: B.4. | C22: Investicinio turto vertė (GVTNT) | D22: 0
B23: B.5. | C23: Finansinio turto vertė (GVTNT) | D23: 0.29
B24: B.6. | C24: Atidėtojo mokesčio turto vertė (GVTNT) | D24: 0
B25: B.7. | C25: Ilgalaikio turto vertės pokytis, susijęs su ilgalaikio turto perkainojimo veikla (GVTNT) | D25: 0
B26: B.8. | C26: Nebaigtos statybos, nenaudojamo, nusidėvėjusio turto vertė (GVTNT) | D26: 5678.242
B27: B.9. | C27: Kito reguliuojamos veiklos nepaskirstomojo ilgalaikio turto vertė, kito nereguliuojamos veiklos ilgalaikio turto vertė | D27: 2048.971
B28: B.10. | C28: GVTNT Ilgalaikio turto balansinių verčių pagal RAS ir FAS skirtumas | D28: =D10-D11-D29-D19-D20-D21-D22-D23-D24-D25-D26-D27 -> 3880.5304
B29: C. | C29: KITŲ VEIKLŲ ILGALAIKIO TURTO LIKUTINĖ VERTĖ | D29: =SUM(D30:D32) -> 60.927053 | E29: 7 priedas
B30: C.1. | C30: Apskaitos veiklos reguliuojamo ilgalaikio turto likutinė vertė (pagal RAS) | D30: ='7'!O10 -> 60.762976 | E30: 7 priedas
B31: C.2. | C31: kitos reguliuojamosios veiklos ilgalaikio turto likutinė vertė | D31: ='7'!P10 -> 0 | E31: 7 priedas
B32: C.3. | C32: nereguliuojamosios veiklos ilgalaikio turto likutinė vertė | D32: ='7'!Q10 -> 0.16407712 | E32: 7 priedas
B33: II. | C33: ILGALAIKIO TURTO ĮSIGIJIMO VERTĖ PAGAL FINANSINĖS APSKAITOS STANDARTUS (FAS) | D33: 50714.497
B34: D. | C34: GERIAMOJO VANDENS TIEKIMO IR NUOTEKŲ TVARKYMO (GVTNT) REGULIUOJAMO ILGALAIKIO TURTO ĮSIGIJIMO VERTĖ PAGAL REGULIAVIMO APSKAITOS SISTEMĄ (RAS) | D34: =SUM(D35:D36)+D40 -> 6683.0426 | E34: 6 priedas
B35: D.1. | C35: geriamojo vandens tiekimo (GVT) reguliuojamo ilgalaikio turto įsigijimo vertė (pagal RAS) | D35: ='6'!E10 -> 2959.2226 | E35: 6 priedas
B36: D.2. | C36: nuotekų tvarkymo (NT) veiklos reguliuojamo ilgalaikio turto įsigijimo vertė (pagal RAS) | D36: ='6'!I10 -> 3718.2587 | E36: 6 priedas
B37: D.2.1. | C37: nuotekų surinkimas centralizuotais nuotekų surinkimo tinklais reguliuojamo ilgalaikio turto įsigijimo vertė (pagal RAS) | D37: ='6'!J10 -> 2630.4991 | E37: 6 priedas
B38: D.2.2. | C38: nuotekų valymo reguliuojamo ilgalaikio turto įsigijimo vertė (pagal RAS) | D38: ='6'!K10 -> 999.39133 | E38: 6 priedas
B39: D.2.3. | C39: nuotekų dumblo tvarkymo reguliuojamo ilgalaikio turto įsigijimo vertė (pagal RAS) | D39: ='6'!L10 -> 88.368321 | E39: 6 priedas
B40: D.3. | C40: paviršinių nuotekų tvarkymo reguliuojamo ilgalaikio turto įsigijimo vertė (pagal RAS), jei yra atskira paviršinių nuotekų surinkimo sistema | D40: ='6'!M10 -> 5.5612963 | E40: 6 priedas
B41: E. | C41: GVTNT VEIKLOS REGULIUOJAMAM ILGALAIKIUI TURTUI (PAGAL RAS) NEPRISKIRTINO TURTO ĮSIGIJIMO VERTĖS | D41: =SUM(D42:D51) -> 43937.151
B42: E.1. | C42: už Dotacijas įsigyto ir neatlygintai gauto turto vertė (GVTNT) | D42: 34950.839
B43: E.2. | C43: Plėtros darbų vertė, iki ilgalaikio turto vienetų, kurių formavimui buvo atliekami plėtros darbai, eksploatacijos pradžios (GVTNT) | D43: 0
B44: E.3. | C44: Prestižo vertė (GVTNT) | D44: 0
B45: E.4. | C45: Investicinio turto vertė (GVTNT) | D45: 0
B46: E.5. | C46: Finansinio turto vertė (GVTNT) | D46: 0.29
B47: E.6. | C47: Atidėtojo mokesčio turto vertė (GVTNT) | D47: 0
B48: E.7. | C48: Ilgalaikio turto vertės pokytis, susijęs su ilgalaikio turto perkainojimo veikla (GVTNT) | D48: 0
B49: E.8. | C49: Nebaigtos statybos, nenaudojamo, nusidėvėjusio turto vertė (GVTNT) | D49: 6809.0176
B50: E.9. | C50: Kito reguliuojamos veiklos nepaskirstomojo ilgalaikio turto vertė, kito nereguliuojamos veiklos ilgalaikio turto vertė | D50: 2196.4237
B51: E.10. | C51: GVTNT Ilgalaikio turto įsigijimo verčių pagal RAS ir FAS skirtumas | D51: =D33-D34-D52-D42-D43-D44-D45-D46-D47-D48-D49-D50 -> -19.41957
B52: F. | C52: KITŲ VEIKLŲ ILGALAIKIO TURTO ĮSIGIJIMO VERTĖ | D52: =D54+D55+D53 -> 94.303007 | E52: 6 priedas
B53: F.1. | C53: Apskaitos veiklos reguliuojamo ilgalaikio turto įsigijimo vertė (pagal RAS) | D53: ='6'!O10 -> 93.76723 | E53: 6 priedas
B54: F.2. | C54: kitos reguliuojamosios veiklos ilgalaikio turto įsigijimo vertė | D54: ='6'!P10 -> 0 | E54: 6 priedas
B55: F.3. | C55: nereguliuojamosios veiklos ilgalaikio turto įsigijimo vertė | D55: ='6'!Q10 -> 0.53577664 | E55: 6 priedas

Sheet 6
C2: Ūkio subjektas: UAB „Kaišiadorių vandenys“ | Q2: Geriamojo vandens tiekimo ir nuotekų tvarkymo bei paviršinių nuotekų tvarkymo paslaugų įmonių apskaitos atskyrimo taisyklių ir susijusių reikalavimų sąvado 6 priedas
C3: Ataskaitinis laikotarpis: 2024-01-01 - 2024-12-31
C5: Ataskaitinio laikotarpio reguliuojamo ilgalaikio turto įsigijimo vertės (suskaičiuotos pagal Sąvado nuostatas) paskirstymo verslo vienetams ir paslaugoms ataskaita (tūkst. Eur)
F8: II.Gavyba | G8: II.Ruošimas | H8: II.Pristatymas | J8: III.Surinkimas | K8: III.Valymas | L8: III.Dumblas | M8: III.Pav.nuotekos | O8: I.Apskaitos veikla | P8: IV.Kita_reguliuojama | Q8: V.Nereguliuojama
B9: Eil. Nr. | C9: ILGALAIKIS TURTAS | D9: 1. IŠ VISO | E9: 2. Iš viso GVT | F9: 2.1. Geriamojo vandens gavyba | G9: 2.2. Geriamojo vandens ruošimas | H9: 2.3. Geriamojo vandens pristatymas | I9: 3. Iš viso NT | J9: 3.1. Nuotekų surinkimas | K9: 3.2. Nuotekų valymas | L9: 3.3. Nuotekų dumblo tvarkymas | M9: 4. Paviršinių nuotekų tvarkymas (tik esant atskirai paviršinių nuotekų tvarkymo sistemai) | N9: 5. Kitos reguliuojamosios veiklos verslo vienetas | O9: 5.1 Apskaitos veikla | P9: 5.2. Kita reguliuojama veikla | Q9: 6. Kitos veiklos (nereguliuojamosios veiklos) verslo vienetas
B10: A. | C10: PASKIRSTOMAS ILGALAIKIS TURTAS | D10: =D11+D15+D22+D25+D31+D34 -> 6777.3456 | E10: =E11+E15+E22+E25+E31+E34 -> 2959.2226 | F10: =F11+F15+F22+F25+F31+F34 -> 319.6901 | G10: =G11+G15+G22+G25+G31+G34 -> 945.27925 | H10: =H11+H15+H22+H25+H31+H34 -> 1694.2533 | I10: =I11+I15+I22+I25+I31+I34 -> 3718.2587 | J10: =J11+J15+J22+J25+J31+J34 -> 2630.4991 | K10: =K11+K15+K22+K25+K31+K34 -> 999.39133 | ... M10: =M11+M15+M22+M25+M31+M34 -> 5.5612963 | N10: =O10+P10 -> 93.76723 | O10: =O11+O15+O22+O25+O31+O34 -> 93.76723 | P10: =P11+P15+P22+P25+P31+P34 -> 0 | Q10: =Q11+Q15+Q22+Q25+Q31+Q34 -> 0.53577664
B11: A.1. | C11: NEMATERIALUSIS TURTAS | D11: =O11+E11+I11+M11+P11+Q11 -> 0 | E11: =SUM(F11:H11) -> 0 | F11: =SUM(F12:F14) -> 0 | G11: =SUM(G12:G14) -> 0 | H11: =SUM(H12:H14) -> 0 | I11: =SUM(J11:L11) -> 0 | J11: =SUM(J12:J14) -> 0 | K11: =SUM(K12:K14) -> 0 | L11: =SUM(L12:L14) -> 0 | M11: =SUM(M12:M14) -> 0 | N11: =O11+P11 -> 0 | O11: =SUM(O12:O14) -> 0 | P11: =SUM(P12:P14) -> 0 | Q11: =SUM(Q12:Q14) -> 0
B12: A.1.1. | C12: standartinė programinė įranga | D12: =O12+E12+I12+M12+P12+Q12 -> 0 | E12: =SUM(F12:H12) -> 0 | F12: =SUM(F40,F68,F118) -> 0 | G12: =SUM(G40,G68,G118) -> 0 | H12: =SUM(H40,H68,H118) -> 0 | I12: =SUM(J12:L12) -> 0 | J12: =SUM(J40,J68,J118) -> 0 | K12: =SUM(K40,K68,K118) -> 0 | L12: =SUM(L40,L68,L118) -> 0 | M12: =SUM(M40,M68,M118) -> 0 | N12: =O12+P12 -> 0 | O12: =SUM(O40,O68,O118) -> 0 | P12: =SUM(P40,P68,P118) -> 0 | Q12: =SUM(Q40,Q68,Q118) -> 0
B13: A.1.2. | C13: spec. programinė įranga | D13: =O13+E13+I13+M13+P13+Q13 -> 0 | E13: =SUM(F13:H13) -> 0 | F13: =SUM(F41,F69,F119) -> 0 | G13: =SUM(G41,G69,G119) -> 0 | H13: =SUM(H41,H69,H119) -> 0 | I13: =SUM(J13:L13) -> 0 | J13: =SUM(J41,J69,J119) -> 0 | K13: =SUM(K41,K69,K119) -> 0 | L13: =SUM(L41,L69,L119) -> 0 | M13: =SUM(M41,M69,M119) -> 0 | N13: =O13+P13 -> 0 | O13: =SUM(O41,O69,O119) -> 0 | P13: =SUM(P41,P69,P119) -> 0 | Q13: =SUM(Q41,Q69,Q119) -> 0
B14: A.1.3. | C14: kitas nematerialus turtas | D14: =O14+E14+I14+M14+P14+Q14 -> 0 | E14: =SUM(F14:H14) -> 0 | F14: =SUM(F42,F70,F120) -> 0 | G14: =SUM(G42,G70,G120) -> 0 | H14: =SUM(H42,H70,H120) -> 0 | I14: =SUM(J14:L14) -> 0 | J14: =SUM(J42,J70,J120) -> 0 | K14: =SUM(K42,K70,K120) -> 0 | L14: =SUM(L42,L70,L120) -> 0 | M14: =SUM(M42,M70,M120) -> 0 | N14: =O14+P14 -> 0 | O14: =SUM(O42,O70,O120) -> 0 | P14: =SUM(P42,P70,P120) -> 0 | Q14: =SUM(Q42,Q70,Q120) -> 0
B15: A.2. | C15: PASTATAI IR STATINIAI | D15: =O15+E15+I15+M15+P15+Q15 -> 6371.667 | E15: =SUM(F15:H15) -> 2895.2574 | F15: =SUM(F16:F21) -> 315.4415 | G15: =SUM(G16:G21) -> 943.05151 | H15: =SUM(H16:H21) -> 1636.7644 | I15: =SUM(J15:L15) -> 3471.6669 | J15: =SUM(J16:J21) -> 2457.338 | K15: =SUM(K16:K21) -> 927.69779 | L15: =SUM(L16:L21) -> 86.631112 | M15: =SUM(M16:M21) -> 4.0724674 | N15: =O15+P15 -> 0.30231686 | O15: =SUM(O16:O21) -> 0.30231686 | P15: =SUM(P16:P21) -> 0 | Q15: =SUM(Q16:Q21) -> 0.36785595
B16: A.2.1. | C16: Pastatai (administraciniai, gamybiniai-ūkiniai ir pan.) | D16: =O16+E16+I16+M16+P16+Q16 -> 921.7542 | E16: =SUM(F16:H16) -> 325.71076 | F16: =SUM(F44,F72,F122) -> 113.47908 | G16: =SUM(G44,G72,G122) -> 182.09597 | H16: =SUM(H44,H72,H122) -> 30.135711 | I16: =SUM(J16:L16) -> 592.43879 | J16: =SUM(J44,J72,J122) -> 60.061566 | K16: =SUM(K44,K72,K122) -> 528.88814 | L16: =SUM(L44,L72,L122) -> 3.4890767 | M16: =SUM(M44,M72,M122) -> 2.9902208 | N16: =O16+P16 -> 0.27717066 | O16: =SUM(O44,O72,O122) -> 0.27717066 | P16: =SUM(P44,P72,P122) -> 0 | Q16: =SUM(Q44,Q72,Q122) -> 0.33725832
B17: A.2.2. | C17: keliai, aikštelės, šaligatviai ir tvoros | D17: =O17+E17+I17+M17+P17+Q17 -> 14.4141 | E17: =SUM(F17:H17) -> 0 | F17: =SUM(F45,F73,F123) -> 0 | G17: =SUM(G45,G73,G123) -> 0 | H17: =SUM(H45,H73,H123) -> 0 | I17: =SUM(J17:L17) -> 14.4141 | J17: =SUM(J45,J73,J123) -> 0 | K17: =SUM(K45,K73,K123) -> 14.4141 | L17: =SUM(L45,L73,L123) -> 0 | M17: =SUM(M45,M73,M123) -> 0 | N17: =O17+P17 -> 0 | O17: =SUM(O45,O73,O123) -> 0 | P17: =SUM(P45,P73,P123) -> 0 | Q17: =SUM(Q45,Q73,Q123) -> 0
B18: A.2.3. | C18: geriamojo vandens tiekimo ir nuotekų surinkimo vamzdynai | D18: =O18+E18+I18+M18+P18+Q18 -> 3884.6664 | E18: =SUM(F18:H18) -> 1552.833 | F18: =SUM(F46,F74,F124) -> 0 | G18: =SUM(G46,G74,G124) -> 0 | H18: =SUM(H46,H74,H124) -> 1552.833 | I18: =SUM(J18:L18) -> 2331.0224 | J18: =SUM(J46,J74,J124) -> 2331.0224 | K18: =SUM(K46,K74,K124) -> 0 | L18: =SUM(L46,L74,L124) -> 0 | M18: =SUM(M46,M74,M124) -> 0.81096 | N18: =O18+P18 -> 0 | O18: =SUM(O46,O74,O124) -> 0 | P18: =SUM(P46,P74,P124) -> 0 | Q18: =SUM(Q46,Q74,Q124) -> 0
B19: A.2.4. | C19: šilumos ir karšto vandens tiekimo vamzdynai | D19: =O19+E19+I19+M19+P19+Q19 -> 0 | E19: =SUM(F19:H19) -> 0 | F19: =SUM(F47,F75,F125) -> 0 | G19: =SUM(G47,G75,G125) -> 0 | H19: =SUM(H47,H75,H125) -> 0 | I19: =SUM(J19:L19) -> 0 | J19: =SUM(J47,J75,J125) -> 0 | K19: =SUM(K47,K75,K125) -> 0 | L19: =SUM(L47,L75,L125) -> 0 | M19: =SUM(M47,M75,M125) -> 0 | N19: =O19+P19 -> 0 | O19: =SUM(O47,O75,O125) -> 0 | P19: =SUM(P47,P75,P125) -> 0 | Q19: =SUM(Q47,Q75,Q125) -> 0
B20: A.2.5. | C20: saulės šviesos elektrinės | D20: =O20+E20+I20+M20+P20+Q20 -> 0 | E20: =SUM(F20:H20) -> 0 | F20: =SUM(F48,F76,F126) -> 0 | G20: =SUM(G48,G76,G126) -> 0 | H20: =SUM(H48,H76,H126) -> 0 | I20: =SUM(J20:L20) -> 0 | J20: =SUM(J48,J76,J126) -> 0 | K20: =SUM(K48,K76,K126) -> 0 | L20: =SUM(L48,L76,L126) -> 0 | M20: =SUM(M48,M76,M126) -> 0 | N20: =O20+P20 -> 0 | O20: =SUM(O48,O76,O126) -> 0 | P20: =SUM(P48,P76,P126) -> 0 | Q20: =SUM(Q48,Q76,Q126) -> 0
B21: A.2.6. | C21: Kiti įrenginiai (vandentiekio įrenginiai, nusodintuvai, diukeriai, vandens rezervuarai, gelžbetoniniai metantankai, smėlio gaudytuvai, aerotankai, nusodintuvai, nuotekų valymo flotatoriai, dumblo aikštelės ir kt.) | D21: =O21+E21+I21+M21+P21+Q21 -> 1550.8323 | E21: =SUM(F21:H21) -> 1016.7136 | F21: =SUM(F49,F77,F127) -> 201.96242 | G21: =SUM(G49,G77,G127) -> 760.95554 | H21: =SUM(H49,H77,H127) -> 53.795651 | I21: =SUM(J21:L21) -> 533.79167 | J21: =SUM(J49,J77,J127) -> 66.25409 | K21: =SUM(K49,K77,K127) -> 384.39555 | L21: =SUM(L49,L77,L127) -> 83.142035 | M21: =SUM(M49,M77,M127) -> 0.27128665 | N21: =O21+P21 -> 0.025146203 | O21: =SUM(O49,O77,O127) -> 0.025146203 | P21: =SUM(P49,P77,P127) -> 0 | Q21: =SUM(Q49,Q77,Q127) -> 0.030597634
B22: A.3. | C22: MAŠINOS IR ĮRANGA | D22: =O22+E22+I22+M22+P22+Q22 -> 139.34028 | E22: =SUM(F22:H22) -> 37.300664 | F22: =SUM(F23:F24) -> 3.3113969 | G22: =SUM(G23:G24) -> 0.12538957 | H22: =SUM(H23:H24) -> 33.863877 | I22: =SUM(J22:L22) -> 101.9386 | J22: =SUM(J23:J24) -> 52.888284 | K22: =SUM(K23:K24) -> 48.952535 | L22: =SUM(L23:L24) -> 0.097779509 | M22: =SUM(M23:M24) -> 0.083799337 | N22: =O22+P22 -> 0.0077675594 | O22: =SUM(O23:O24) -> 0.0077675594 | P22: =SUM(P23:P24) -> 0 | Q22: =SUM(Q23:Q24) -> 0.0094514839
B23: A.3.1. | C23: vandens siurbliai, nuotekų ir dumblo siurbliai virš 5 kW, kita įranga ( siurblių valdymo įranga, elektrotechninė įranga, stacionarios ir mobilios darbo bei hidrodinaminės mašinos, staklės, sklendės, grotelės, grėbliai, grandikliai, filtrai, centrifugos) | D23: =O23+E23+I23+M23+P23+Q23 -> 131.07824 | E23: =SUM(F23:H23) -> 37.300664 | F23: =SUM(F51,F79,F129) -> 3.3113969 | G23: =SUM(G51,G79,G129) -> 0.12538957 | H23: =SUM(H51,H79,H129) -> 33.863877 | I23: =SUM(J23:L23) -> 93.676558 | J23: =SUM(J51,J79,J129) -> 50.482264 | K23: =SUM(K51,K79,K129) -> 43.096515 | L23: =SUM(L51,L79,L129) -> 0.097779509 | M23: =SUM(M51,M79,M129) -> 0.083799337 | N23: =O23+P23 -> 0.0077675594 | O23: =SUM(O51,O79,O129) -> 0.0077675594 | P23: =SUM(P51,P79,P129) -> 0 | Q23: =SUM(Q51,Q79,Q129) -> 0.0094514839
B24: A.3.2. | C24: nuotekų ir dumblo siurbliai iki 5 kW | D24: =O24+E24+I24+M24+P24+Q24 -> 8.26204 | E24: =SUM(F24:H24) -> 0 | F24: =SUM(F52,F80) -> 0 | G24: =SUM(G52,G80) -> 0 | H24: =SUM(H52,H80) -> 0 | I24: =SUM(J24:L24) -> 8.26204 | J24: =SUM(J52,J80) -> 2.40602 | K24: =SUM(K52,K80) -> 5.85602 | L24: =SUM(L52,L80) -> 0 | M24: =SUM(M52,M80) -> 0 | N24: =O24+P24 -> 0 | O24: =SUM(O52,O80) -> 0 | P24: =SUM(P52,P80) -> 0 | Q24: =SUM(Q52,Q80) -> 0
B25: A.4. | C25: KITI ĮRENGINIAI, PRIETAISAI IR ĮRANKIAI | D25: =O25+E25+I25+M25+P25+Q25 -> 114.5766 | E25: =SUM(F25:H25) -> 12.688404 | F25: =SUM(F26:F30) -> 0.17564248 | G25: =SUM(G26:G30) -> 0.3940066 | H25: =SUM(H26:H30) -> 12.118755 | I25: =SUM(J25:L25) -> 8.2438597 | J25: =SUM(J26:J30) -> 4.7375345 | K25: =SUM(K26:K30) -> 3.1990766 | L25: =SUM(L26:L30) -> 0.30724862 | M25: =SUM(M26:M30) -> 0.26331929 | N25: =O25+P25 -> 93.351318 | O25: =SUM(O26:O30) -> 93.351318 | P25: =SUM(P26:P30) -> 0 | Q25: =SUM(Q26:Q30) -> 0.029699018
B26: A.4.1. | C26: geriamojo vandens apskaitos prietaisai | D26: =O26+E26+I26+M26+P26+Q26 -> 93.32691 | E26: =SUM(F26:H26) -> 0 | F26: =SUM(F54,F82,F131) -> 0 | G26: =SUM(G54,G82,G131) -> 0 | H26: =SUM(H54,H82,H131) -> 0 | I26: =SUM(J26:L26) -> 0 | J26: =SUM(J54,J82,J131) -> 0 | K26: =SUM(K54,K82,K131) -> 0 | L26: =SUM(L54,L82,L131) -> 0 | M26: =SUM(M54,M82,M131) -> 0 | N26: =O26+P26 -> 93.32691 | O26: =SUM(O54,O82,O131) -> 93.32691 | P26: =SUM(P54,P82,P131) -> 0 | Q26: =SUM(Q54,Q82,Q131) -> 0
B27: A.4.2. | C27: atsiskaitomieji karšto vandens apskaitos prietaisai | D27: =O27+E27+I27+M27+P27+Q27 -> 0 | E27: =SUM(F27:H27) -> 0 | F27: =SUM(F55,F83,F132) -> 0 | G27: =SUM(G55,G83,G132) -> 0 | H27: =SUM(H55,H83,H132) -> 0 | I27: =SUM(J27:L27) -> 0 | J27: =SUM(J55,J83,J132) -> 0 | K27: =SUM(K55,K83,K132) -> 0 | L27: =SUM(L55,L83,L132) -> 0 | M27: =SUM(M55,M83,M132) -> 0 | N27: =O27+P27 -> 0 | O27: =SUM(O55,O83,O132) -> 0 | P27: =SUM(P55,P83,P132) -> 0 | Q27: =SUM(Q55,Q83,Q132) -> 0
B28: A.4.3. | C28: šilumos (atsiskaitomieji ir neatsiskaitomieji) apskaitos prietaisai | D28: =O28+E28+I28+M28+P28+Q28 -> 0 | E28: =SUM(F28:H28) -> 0 | F28: =SUM(F56,F84,F133) -> 0 | G28: =SUM(G56,G84,G133) -> 0 | H28: =SUM(H56,H84,H133) -> 0 | I28: =SUM(J28:L28) -> 0 | J28: =SUM(J56,J84,J133) -> 0 | K28: =SUM(K56,K84,K133) -> 0 | L28: =SUM(L56,L84,L133) -> 0 | M28: =SUM(M56,M84,M133) -> 0 | N28: =O28+P28 -> 0 | O28: =SUM(O56,O84,O133) -> 0 | P28: =SUM(P56,P84,P133) -> 0 | Q28: =SUM(Q56,Q84,Q133) -> 0
B29: A.4.4. | C29: kiti geriamojo vandens ir nuotekų apskaitos prietaisai (įrengti gręžiniuose, įrenginiuose ir.t.t) | D29: =O29+E29+I29+M29+P29+Q29 -> 0 | E29: =SUM(F29:H29) -> 0 | F29: =SUM(F57,F85,F134) -> 0 | G29: =SUM(G57,G85,G134) -> 0 | H29: =SUM(H57,H85,H134) -> 0 | I29: =SUM(J29:L29) -> 0 | J29: =SUM(J57,J85,J134) -> 0 | K29: =SUM(K57,K85,K134) -> 0 | L29: =SUM(L57,L85,L134) -> 0 | M29: =SUM(M57,M85,M134) -> 0 | N29: =O29+P29 -> 0 | O29: =SUM(O57,O85,O134) -> 0 | P29: =SUM(P57,P85,P134) -> 0 | Q29: =SUM(Q57,Q85,Q134) -> 0
B30: A.4.5. | C30: įrankiai (matavimo priemonės, elektriniai įrankiai ir prietaisai, gamybinis inventorius ir kt.) | D30: =O30+E30+I30+M30+P30+Q30 -> 21.24969 | E30: =SUM(F30:H30) -> 12.688404 | F30: =SUM(F58,F86,F135) -> 0.17564248 | G30: =SUM(G58,G86,G135) -> 0.3940066 | H30: =SUM(H58,H86,H135) -> 12.118755 | I30: =SUM(J30:L30) -> 8.2438597 | J30: =SUM(J58,J86,J135) -> 4.7375345 | K30: =SUM(K58,K86,K135) -> 3.1990766 | L30: =SUM(L58,L86,L135) -> 0.30724862 | M30: =SUM(M58,M86,M135) -> 0.26331929 | N30: =O30+P30 -> 0.02440769 | O30: =SUM(O58,O86,O135) -> 0.02440769 | P30: =SUM(P58,P86,P135) -> 0 | Q30: =SUM(Q58,Q86,Q135) -> 0.029699018
B31: A.5. | C31: TRANSPORTO PRIEMONĖS | D31: =O31+E31+I31+M31+P31+Q31 -> 142.8502 | E31: =SUM(F31:H31) -> 13.785944 | F31: =SUM(F32:F33) -> 0.75119254 | G31: =SUM(G32:G33) -> 1.6850982 | H31: =SUM(H32:H33) -> 11.349653 | I31: =SUM(J31:L31) -> 127.70668 | J31: =SUM(J32:J33) -> 115.25562 | K31: =SUM(K32:K33) -> 11.137015 | L31: =SUM(L32:L33) -> 1.3140493 | M31: =SUM(M32:M33) -> 1.1261711 | N31: =O31+P31 -> 0.10438747 | O31: =SUM(O32:O33) -> 0.10438747 | P31: =SUM(P32:P33) -> 0 | Q31: =SUM(Q32:Q33) -> 0.12701757
B32: A.5.1. | C32: lengvieji automobiliai | D32: =O32+E32+I32+M32+P32+Q32 -> 47.109091 | E32: =SUM(F32:H32) -> 13.570723 | F32: =SUM(F60,F88,F137) -> 0.73946525 | G32: =SUM(G60,G88,G137) -> 1.6587912 | H32: =SUM(H60,H88,H137) -> 11.172467 | I32: =SUM(J32:L32) -> 32.201985 | J32: =SUM(J60,J88,J137) -> 19.945301 | K32: =SUM(K60,K88,K137) -> 10.963149 | L32: =SUM(L60,L88,L137) -> 1.2935349 | M32: =SUM(M60,M88,M137) -> 1.1085898 | N32: =O32+P32 -> 0.10275782 | O32: =SUM(O60,O88,O137) -> 0.10275782 | P32: =SUM(P60,P88,P137) -> 0 | Q32: =SUM(Q60,Q88,Q137) -> 0.12503463
B33: A.5.2. | C33: kitos transporto priemonės (transportas dumblui, vandeniui vežti, autobusai žmonėms vežti) | D33: =O33+E33+I33+M33+P33+Q33 -> 95.74111 | E33: =SUM(F33:H33) -> 0.2152201 | F33: =SUM(F61,F89,F138) -> 0.011727288 | G33: =SUM(G61,G89,G138) -> 0.026307013 | H33: =SUM(H61,H89,H138) -> 0.1771858 | I33: =SUM(J33:L33) -> 95.504696 | J33: =SUM(J61,J89,J138) -> 95.310315 | K33: =SUM(K61,K89,K138) -> 0.17386619 | L33: =SUM(L61,L89,L138) -> 0.020514361 | M33: =SUM(M61,M89,M138) -> 0.017581289 | N33: =O33+P33 -> 0.0016296514 | O33: =SUM(O61,O89,O138) -> 0.0016296514 | P33: =SUM(P61,P89,P138) -> 0 | Q33: =SUM(Q61,Q89,Q138) -> 0.0019829426
B34: A.6. | C34: KITAS ILGALAIKIS TURTAS | D34: =O34+E34+I34+M34+P34+Q34 -> 8.91157 | E34: =SUM(F34:H34) -> 0.19022137 | F34: =SUM(F35:F37) -> 0.010365114 | G34: =SUM(G35:G37) -> 0.023251342 | H34: =SUM(H35:H37) -> 0.15660491 | I34: =SUM(J34:L34) -> 8.7026165 | J34: =SUM(J35:J37) -> 0.27957408 | K34: =SUM(K35:K37) -> 8.4049109 | L34: =SUM(L35:L37) -> 0.018131531 | M34: =SUM(M35:M37) -> 0.015539148 | N34: =O34+P34 -> 0.0014403605 | O34: =SUM(O35:O37) -> 0.0014403605 | P34: =SUM(P35:P37) -> 0 | Q34: =SUM(Q35:Q37) -> 0.0017526154
B35: A.6.1. | C35: žemė | D35: =O35+E35+I35+M35+P35+Q35 -> 7.2405 | E35: =SUM(F35:H35) -> 0 | F35: =SUM(F63,F91,F140) -> 0 | G35: =SUM(G63,G91,G140) -> 0 | H35: =SUM(H63,H91,H140) -> 0 | I35: =SUM(J35:L35) -> 7.2405 | J35: =SUM(J63,J91,J140) -> 0 | K35: =SUM(K63,K91,K140) -> 7.2405 | L35: =SUM(L63,L91,L140) -> 0 | M35: =SUM(M63,M91,M140) -> 0 | N35: =O35+P35 -> 0 | O35: =SUM(O63,O91,O140) -> 0 | P35: =SUM(P63,P91,P140) -> 0 | Q35: =SUM(Q63,Q91,Q140) -> 0
B36: A.6.2. | C36: Kompiuteriai, kompiuteriniai tinklai ir jų įranga | D36: =O36+E36+I36+M36+P36+Q36 -> 1.67107 | E36: =SUM(F36:H36) -> 0.19022137 | F36: =SUM(F64,F92,F141) -> 0.010365114 | G36: =SUM(G64,G92,G141) -> 0.023251342 | H36: =SUM(H64,H92,H141) -> 0.15660491 | I36: =SUM(J36:L36) -> 1.4621165 | J36: =SUM(J64,J92,J141) -> 0.27957408 | K36: =SUM(K64,K92,K141) -> 1.1644109 | L36: =SUM(L64,L92,L141) -> 0.018131531 | M36: =SUM(M64,M92,M141) -> 0.015539148 | N36: =O36+P36 -> 0.0014403605 | O36: =SUM(O64,O92,O141) -> 0.0014403605 | P36: =SUM(P64,P92,P141) -> 0 | Q36: =SUM(Q64,Q92,Q141) -> 0.0017526154
B37: A.6.3. | D37: =O37+E37+I37+M37+P37+Q37 -> 0 | E37: =SUM(F37:H37) -> 0 | F37: =SUM(F65,F93,F142) -> 0 | G37: =SUM(G65,G93,G142) -> 0 | H37: =SUM(H65,H93,H142) -> 0 | I37: =SUM(J37:L37) -> 0 | J37: =SUM(J65,J93,J142) -> 0 | K37: =SUM(K65,K93,K142) -> 0 | L37: =SUM(L65,L93,L142) -> 0 | M37: =SUM(M65,M93,M142) -> 0 | N37: =O37+P37 -> 0 | O37: =SUM(O65,O93,O142) -> 0 | P37: =SUM(P65,P93,P142) -> 0 | Q37: =SUM(Q65,Q93,Q142) -> 0
B38: B. | C38: TIESIOGIAI PASKIRSTOMAS ILGALAIKIS TURTAS | D38: =O38+E38+I38+M38+P38+Q38 -> 6575.4819 | E38: =E39+E43+E50+E53+E59+E62 -> 2901.0717 | F38: =F39+F43+F50+F53+F59+F62 -> 316.52147 | G38: =G39+G43+G50+G53+G59+G62 -> 938.17129 | H38: =H39+H43+H50+H53+H59+H62 -> 1646.379 | I38: =I39+I43+I50+I53+I59+I62 -> 3580.2724 | J38: =J39+J43+J50+J53+J59+J62 -> 2545.0329 | K38: =K39+K43+K50+K53+K59+K62 -> 952.41395 | L38: =L39+L43+L50+L53+L59+L62 -> 82.82549 | M38: =M39+M43+M50+M53+M59+M62 -> 0.81096 | N38: =O38+P38 -> 93.32691 | O38: =O39+O43+O50+O53+O59+O62 -> 93.32691 | P38: =P39+P43+P50+P53+P59+P62 -> 0 | Q38: =Q39+Q43+Q50+Q53+Q59+Q62 -> 0
B39: B.1. | C39: NEMATERIALUSIS TURTAS | D39: =O39+E39+I39+M39+P39+Q39 -> 0 | E39: =SUM(F39:H39) -> 0 | F39: =SUM(F40:F42) -> 0 | G39: =SUM(G40:G42) -> 0 | H39: =SUM(H40:H42) -> 0 | I39: =SUM(J39:L39) -> 0 | J39: =SUM(J40:J42) -> 0 | K39: =SUM(K40:K42) -> 0 | L39: =SUM(L40:L42) -> 0 | M39: =SUM(M40:M42) -> 0 | N39: =O39+P39 -> 0 | O39: =SUM(O40:O42) -> 0 | P39: =SUM(P40:P42) -> 0 | Q39: =SUM(Q40:Q42) -> 0
B40: B.1.1. | C40: standartinė programinė įranga | D40: =O40+E40+I40+M40+P40+Q40 -> 0 | E40: =SUM(F40:H40) -> 0 | F40: 0 | G40: 0 | H40: 0 | I40: =SUM(J40:L40) -> 0 | J40: 0 | K40: 0 | L40: 0 | M40: 0 | N40: =O40+P40 -> 0 | O40: 0 | P40: 0 | Q40: 0 | R40: I.1.standartinė programinė įranga
B41: B.1.2. | C41: spec. programinė įranga | D41: =O41+E41+I41+M41+P41+Q41 -> 0 | E41: =SUM(F41:H41) -> 0 | F41: 0 | G41: 0 | H41: 0 | I41: =SUM(J41:L41) -> 0 | J41: 0 | K41: 0 | L41: 0 | M41: 0 | N41: =O41+P41 -> 0 | O41: 0 | P41: 0 | Q41: 0 | R41: I.1.spec. programinė įranga
B42: B.1.3. | C42: kitas nematerialus turtas | D42: =O42+E42+I42+M42+P42+Q42 -> 0 | E42: =SUM(F42:H42) -> 0 | F42: 0 | G42: 0 | H42: 0 | I42: =SUM(J42:L42) -> 0 | J42: 0 | K42: 0 | L42: 0 | M42: 0 | N42: =O42+P42 -> 0 | O42: 0 | P42: 0 | Q42: 0 | R42: I.1.kitas nematerialus turtas
B43: B.2. | C43: PASTATAI IR STATINIAI | D43: =O43+E43+I43+M43+P43+Q43 -> 6233.0705 | E43: =SUM(F43:H43) -> 2855.3319 | F43: =SUM(F44:F49) -> 313.26597 | G43: =SUM(G44:G49) -> 938.17129 | H43: =SUM(H44:H49) -> 1603.8946 | I43: =SUM(J43:L43) -> 3376.9277 | J43: =SUM(J44:J49) -> 2398.6583 | K43: =SUM(K44:K49) -> 895.44385 | L43: =SUM(L44:L49) -> 82.82549 | M43: =SUM(M44:M49) -> 0.81096 | N43: =O43+P43 -> 0 | O43: =SUM(O44:O49) -> 0 | P43: =SUM(P44:P49) -> 0 | Q43: =SUM(Q44:Q49) -> 0
B44: B.2.1. | C44: Pastatai (administraciniai, gamybiniai-ūkiniai ir pan.) | D44: =O44+E44+I44+M44+P44+Q44 -> 794.68594 | E44: =SUM(F44:H44) -> 289.10619 | F44: 111.48451 | G44: 177.62168 | H44: 0 | I44: =SUM(J44:L44) -> 505.57975 | J44: 6.26272 | K44: 499.31703 | L44: 0 | M44: 0 | N44: =O44+P44 -> 0 | O44: 0 | P44: 0 | Q44: 0 | R44: II.2.1.Pastatai
B45: B.2.2. | C45: keliai, aikštelės, šaligatviai ir tvoros | D45: =O45+E45+I45+M45+P45+Q45 -> 14.4141 | E45: =SUM(F45:H45) -> 0 | F45: 0 | G45: 0 | H45: 0 | I45: =SUM(J45:L45) -> 14.4141 | J45: 0 | K45: 14.4141 | L45: 0 | M45: 0 | N45: =O45+P45 -> 0 | O45: 0 | P45: 0 | Q45: 0 | R45: II.2.2.1.keliai | S45: II.2.2.2.aikštelės | T45: II.2.2.3.šaligatviai | U45: II.2.2.4.tvoros
B46: B.2.3. | C46: geriamojo vandens tiekimo ir nuotekų surinkimo vamzdynai | D46: =O46+E46+I46+M46+P46+Q46 -> 3884.6664 | E46: =SUM(F46:H46) -> 1552.833 | F46: 0 | G46: 0 | H46: 1552.833 | I46: =SUM(J46:L46) -> 2331.0224 | J46: 2331.0224 | K46: 0 | L46: 0 | M46: 0.81096 | N46: =O46+P46 -> 0 | O46: 0 | P46: 0 | Q46: 0 | R46: II.2.3.vamzdynai
B47: B.2.4. | C47: šilumos ir karšto vandens tiekimo vamzdynai | D47: =O47+E47+I47+M47+P47+Q47 -> 0 | E47: =SUM(F47:H47) -> 0 | F47: 0 | G47: 0 | H47: 0 | I47: =SUM(J47:L47) -> 0 | J47: 0 | K47: 0 | L47: 0 | M47: 0 | N47: =O47+P47 -> 0 | O47: 0 | P47: 0 | Q47: 0 | R47: II.2.4.ŠIL_KV vamzdynai
B48: B.2.5. | C48: saulės šviesos elektrinės | D48: =O48+E48+I48+M48+P48+Q48 -> 0 | E48: =SUM(F48:H48) -> 0 | F48: 0 | G48: 0 | H48: 0 | I48: =SUM(J48:L48) -> 0 | J48: 0 | K48: 0 | L48: 0 | M48: 0 | N48: =O48+P48 -> 0 | O48: 0 | P48: 0 | Q48: 0 | R48: II.2.5.saulės elektrinė
B49: B.2.6. | C49: Kiti įrenginiai (vandentiekio įrenginiai, nusodintuvai, diukeriai, vandens rezervuarai, gelžbetoniniai metantankai, smėlio gaudytuvai, aerotankai, nusodintuvai, nuotekų valymo flotatoriai, dumblo aikštelės ir kt.) | D49: =O49+E49+I49+M49+P49+Q49 -> 1539.3041 | E49: =SUM(F49:H49) -> 1013.3927 | F49: 201.78146 | G49: 760.54961 | H49: 51.0616 | I49: =SUM(J49:L49) -> 525.91142 | J49: 61.37321 | K49: 381.71272 | L49: 82.82549 | M49: 0 | N49: =O49+P49 -> 0 | O49: 0 | P49: 0 | Q49: 0 | R49: II.2.6.Kiti įrenginiai
B50: B.3. | C50: MAŠINOS IR ĮRANGA | D50: =O50+E50+I50+M50+P50+Q50 -> 135.77926 | E50: =SUM(F50:H50) -> 36.27484 | F50: =SUM(F51:F52) -> 3.2555 | G50: =SUM(G51:G52) -> 0 | H50: =SUM(H51:H52) -> 33.01934 | I50: =SUM(J50:L50) -> 99.50442 | J50: =SUM(J51:J52) -> 51.3806 | K50: =SUM(K51:K52) -> 48.12382 | L50: =SUM(L51:L52) -> 0 | M50: =SUM(M51:M52) -> 0 | N50: =O50+P50 -> 0 | O50: =SUM(O51:O52) -> 0 | P50: =SUM(P51:P52) -> 0 | Q50: =SUM(Q51:Q52) -> 0
B51: B.3.1. | C51: vandens siurbliai, nuotekų ir dumblo siurbliai virš 5 kW, kita įranga ( siurblių valdymo įranga, elektrotechninė įranga, stacionarios ir mobilios darbo bei hidrodinaminės mašinos, staklės, sklendės, grotelės, grėbliai, grandikliai, filtrai, centrifugos) | D51: =O51+E51+I51+M51+P51+Q51 -> 127.51722 | E51: =SUM(F51:H51) -> 36.27484 | F51: 3.2555 | G51: 0 | H51: 33.01934 | I51: =SUM(J51:L51) -> 91.24238 | J51: 48.97458 | K51: 42.2678 | L51: 0 | M51: 0 | N51: =O51+P51 -> 0 | O51: 0 | P51: 0 | Q51: 0 | R51: II.3.1.vandens siurbliai, nuotekų ir dumblo siurbliai virš 5 kW, kita įranga
B52: B.3.2. | C52: nuotekų ir dumblo siurbliai iki 5 kW | D52: =O52+E52+I52+M52+P52+Q52 -> 8.26204 | E52: =SUM(F52:H52) -> 0 | F52: 0 | G52: 0 | H52: 0 | I52: =SUM(J52:L52) -> 8.26204 | J52: 2.40602 | K52: 5.85602 | L52: 0 | M52: 0 | N52: =O52+P52 -> 0 | O52: 0 | P52: 0 | Q52: 0 | R52: II.3.2.nuotekų ir dumblo siurbliai iki 5 kW
B53: B.4. | C53: KITI ĮRENGINIAI, PRIETAISAI IR ĮRANKIAI | D53: =O53+E53+I53+M53+P53+Q53 -> 103.38695 | E53: =SUM(F53:H53) -> 9.465 | F53: =SUM(F54:F58) -> 0 | G53: =SUM(G54:G58) -> 0 | H53: =SUM(H54:H58) -> 9.465 | I53: =SUM(J53:L53) -> 0.59504 | J53: =SUM(J54:J58) -> 0 | K53: =SUM(K54:K58) -> 0.59504 | L53: =SUM(L54:L58) -> 0 | M53: =SUM(M54:M58) -> 0 | N53: =O53+P53 -> 93.32691 | O53: =SUM(O54:O58) -> 93.32691 | P53: =SUM(P54:P58) -> 0 | Q53: =SUM(Q54:Q58) -> 0
B54: B.4.1. | C54: geriamojo vandens apskaitos prietaisai | D54: =O54+E54+I54+M54+P54+Q54 -> 93.32691 | E54: =SUM(F54:H54) -> 0 | F54: 0 | G54: 0 | H54: 0 | I54: =SUM(J54:L54) -> 0 | J54: 0 | K54: 0 | L54: 0 | M54: 0 | N54: =O54+P54 -> 93.32691 | O54: 93.32691 | P54: 0 | Q54: 0 | R54: II.4.1. pas klientus įrengti apskaitos prietaisai
B55: B.4.2. | C55: atsiskaitomieji karšto vandens apskaitos prietaisai | D55: =O55+E55+I55+M55+P55+Q55 -> 0 | E55: =SUM(F55:H55) -> 0 | F55: 0 | G55: 0 | H55: 0 | I55: =SUM(J55:L55) -> 0 | J55: 0 | K55: 0 | L55: 0 | M55: 0 | N55: =O55+P55 -> 0 | O55: 0 | P55: 0 | Q55: 0 | R55: II.4.2. KV apskaitos prietaisai
B56: B.4.3. | C56: šilumos (atsiskaitomieji ir neatsiskaitomieji) apskaitos prietaisai | D56: =O56+E56+I56+M56+P56+Q56 -> 0 | E56: =SUM(F56:H56) -> 0 | F56: 0 | G56: 0 | H56: 0 | I56: =SUM(J56:L56) -> 0 | J56: 0 | K56: 0 | L56: 0 | M56: 0 | N56: =O56+P56 -> 0 | O56: 0 | P56: 0 | Q56: 0 | R56: II.4.3. ŠIL apskaitos prietaisai
B57: B.4.4. | C57: kiti geriamojo vandens ir nuotekų apskaitos prietaisai (įrengti gręžiniuose, įrenginiuose ir.t.t) | D57: =O57+E57+I57+M57+P57+Q57 -> 0 | E57: =SUM(F57:H57) -> 0 | F57: 0 | G57: 0 | H57: 0 | I57: =SUM(J57:L57) -> 0 | J57: 0 | K57: 0 | L57: 0 | M57: 0 | N57: =O57+P57 -> 0 | O57: 0 | P57: 0 | Q57: 0 | R57: II.4.4. kiti apskaitos prietaisai
B58: B.4.5. | C58: įrankiai (matavimo priemonės, elektriniai įrankiai ir prietaisai, gamybinis inventorius ir kt.) | D58: =O58+E58+I58+M58+P58+Q58 -> 10.06004 | E58: =SUM(F58:H58) -> 9.465 | F58: 0 | G58: 0 | H58: 9.465 | I58: =SUM(J58:L58) -> 0.59504 | J58: 0 | K58: 0.59504 | L58: 0 | M58: 0 | N58: =O58+P58 -> 0 | O58: 0 | P58: 0 | Q58: 0 | R58: II.4.5. įrankiai
B59: B.5. | C59: TRANSPORTO PRIEMONĖS | D59: =O59+E59+I59+M59+P59+Q59 -> 94.994 | E59: =SUM(F59:H59) -> 0 | F59: =SUM(F60:F61) -> 0 | G59: =SUM(G60:G61) -> 0 | H59: =SUM(H60:H61) -> 0 | I59: =SUM(J59:L59) -> 94.994 | J59: =SUM(J60:J61) -> 94.994 | K59: =SUM(K60:K61) -> 0 | L59: =SUM(L60:L61) -> 0 | M59: =SUM(M60:M61) -> 0 | N59: =O59+P59 -> 0 | O59: =SUM(O60:O61) -> 0 | P59: =SUM(P60:P61) -> 0 | Q59: =SUM(Q60:Q61) -> 0
B60: B.5.1. | C60: lengvieji automobiliai | D60: =O60+E60+I60+M60+P60+Q60 -> 0 | E60: =SUM(F60:H60) -> 0 | F60: 0 | G60: 0 | H60: 0 | I60: =SUM(J60:L60) -> 0 | J60: 0 | K60: 0 | L60: 0 | M60: 0 | N60: =O60+P60 -> 0 | O60: 0 | P60: 0 | Q60: 0 | R60: II.5.1.lengvieji automobiliai
B61: B.5.2. | C61: kitos transporto priemonės (transportas dumblui, vandeniui vežti, autobusai žmonėms vežti) | D61: =O61+E61+I61+M61+P61+Q61 -> 94.994 | E61: =SUM(F61:H61) -> 0 | F61: 0 | G61: 0 | H61: 0 | I61: =SUM(J61:L61) -> 94.994 | J61: 94.994 | K61: 0 | L61: 0 | M61: 0 | N61: =O61+P61 -> 0 | O61: 0 | P61: 0 | Q61: 0 | R61: II.5.2.kitos transporto priemonės
B62: B.6. | C62: KITAS ILGALAIKIS TURTAS | D62: =O62+E62+I62+M62+P62+Q62 -> 8.25124 | E62: =SUM(F62:H62) -> 0 | F62: =SUM(F63:F65) -> 0 | G62: =SUM(G63:G65) -> 0 | H62: =SUM(H63:H65) -> 0 | I62: =SUM(J62:L62) -> 8.25124 | J62: =SUM(J63:J65) -> 0 | K62: =SUM(K63:K65) -> 8.25124 | L62: =SUM(L63:L65) -> 0 | M62: =SUM(M63:M65) -> 0 | N62: =O62+P62 -> 0 | O62: =SUM(O63:O65) -> 0 | P62: =SUM(P63:P65) -> 0 | Q62: =SUM(Q63:Q65) -> 0
B63: B.6.1. | C63: žemė | D63: =O63+E63+I63+M63+P63+Q63 -> 7.2405 | E63: =SUM(F63:H63) -> 0 | F63: 0 | G63: 0 | H63: 0 | I63: =SUM(J63:L63) -> 7.2405 | J63: 0 | K63: 7.2405 | L63: 0 | M63: 0 | N63: =O63+P63 -> 0 | O63: 0 | P63: 0 | Q63: 0 | R63: II.6.1. žemė
B64: B.6.2. | C64: Kompiuteriai, kompiuteriniai tinklai ir jų įranga | D64: =O64+E64+I64+M64+P64+Q64 -> 1.01074 | E64: =SUM(F64:H64) -> 0 | F64: 0 | G64: 0 | H64: 0 | I64: =SUM(J64:L64) -> 1.01074 | J64: 0 | K64: 1.01074 | L64: 0 | M64: 0 | N64: =O64+P64 -> 0 | O64: 0 | P64: 0 | Q64: 0 | R64: II.6.2. Kompiuteriai, kompiuteriniai tinklai ir jų įranga
B65: B.6.3. | D65: =O65+E65+I65+M65+P65+Q65 -> 0 | E65: =SUM(F65:H65) -> 0 | F65: 0 | G65: 0 | H65: 0 | I65: =SUM(J65:L65) -> 0 | J65: 0 | K65: 0 | L65: 0 | M65: 0 | N65: =O65+P65 -> 0 | O65: 0 | P65: 0 | Q65: 0 | R65: II.6.3.
A66: Netiesioginės sąnaudos | B66: C. | C66: NETIESIOGIAI PASKIRSTOMAS ILGALAIKIS TURTAS | D66: =D67+D71+D78+D81+D87+D90 -> 201.86368 | E66: =E67+E71+E78+E81+E87+E90 -> 58.150903 | F66: =F67+F71+F78+F81+F87+F90 -> 3.1686279 | G66: =G67+G71+G78+G81+G87+G90 -> 7.1079634 | H66: =H67+H71+H78+H81+H87+H90 -> 47.874312 | I66: =I67+I71+I78+I81+I87+I90 -> 137.98634 | J66: =J67+J71+J78+J81+J87+J90 -> 85.466136 | K66: =K67+K71+K78+K81+K87+K90 -> 46.977378 | ... M66: =M67+M71+M78+M81+M87+M90 -> 4.7503363 | N66: =O66+P66 -> 0.44031994 | O66: =O67+O71+O78+O81+O87+O90 -> 0.44031994 | P66: =P67+P71+P78+P81+P87+P90 -> 0 | Q66: =Q67+Q71+Q78+Q81+Q87+Q90 -> 0.53577664
B67: C.1. | C67: NEMATERIALUSIS TURTAS | D67: =SUM(D68:D70) -> 0 | E67: =SUM(F67:H67) -> 0 | F67: =SUM(F68:F70) -> 0 | G67: =SUM(G68:G70) -> 0 | H67: =SUM(H68:H70) -> 0 | I67: =SUM(J67:L67) -> 0 | J67: =SUM(J68:J70) -> 0 | K67: =SUM(K68:K70) -> 0 | L67: =SUM(L68:L70) -> 0 | M67: =SUM(M68:M70) -> 0 | N67: =O67+P67 -> 0 | O67: =SUM(O68:O70) -> 0 | P67: =SUM(P68:P70) -> 0 | Q67: =SUM(Q68:Q70) -> 0
B68: C.1.1. | C68: standartinė programinė įranga | D68: 0 | E68: =SUM(F68:H68) -> 0 | F68: =IFERROR($D68*F95/100, 0) -> 0 | G68: =IFERROR($D68*G95/100, 0) -> 0 | H68: =IFERROR($D68*H95/100, 0) -> 0 | I68: =SUM(J68:L68) -> 0 | J68: =IFERROR($D68*J95/100, 0) -> 0 | K68: =IFERROR($D68*K95/100, 0) -> 0 | L68: =IFERROR($D68*L95/100, 0) -> 0 | M68: =IFERROR($D68*M95/100, 0) -> 0 | N68: =O68+P68 -> 0 | O68: =IFERROR($D68*O95/100, 0) -> 0 | P68: =IFERROR($D68*P95/100, 0) -> 0 | Q68: =IFERROR($D68*Q95/100, 0) -> 0 | R68: I.1.standartinė programinė įranga
B69: C.1.2. | C69: spec. programinė įranga | D69: 0 | E69: =SUM(F69:H69) -> 0 | F69: =IFERROR($D69*F96/100, 0) -> 0 | G69: =IFERROR($D69*G96/100, 0) -> 0 | H69: =IFERROR($D69*H96/100, 0) -> 0 | I69: =SUM(J69:L69) -> 0 | J69: =IFERROR($D69*J96/100, 0) -> 0 | K69: =IFERROR($D69*K96/100, 0) -> 0 | L69: =IFERROR($D69*L96/100, 0) -> 0 | M69: =IFERROR($D69*M96/100, 0) -> 0 | N69: =O69+P69 -> 0 | O69: =IFERROR($D69*O96/100, 0) -> 0 | P69: =IFERROR($D69*P96/100, 0) -> 0 | Q69: =IFERROR($D69*Q96/100, 0) -> 0 | R69: I.1.spec. programinė įranga
B70: C.1.3. | C70: kitas nematerialus turtas | D70: 0 | E70: =SUM(F70:H70) -> 0 | F70: =IFERROR($D70*F97/100, 0) -> 0 | G70: =IFERROR($D70*G97/100, 0) -> 0 | H70: =IFERROR($D70*H97/100, 0) -> 0 | I70: =SUM(J70:L70) -> 0 | J70: =IFERROR($D70*J97/100, 0) -> 0 | K70: =IFERROR($D70*K97/100, 0) -> 0 | L70: =IFERROR($D70*L97/100, 0) -> 0 | M70: =IFERROR($D70*M97/100, 0) -> 0 | N70: =O70+P70 -> 0 | O70: =IFERROR($D70*O97/100, 0) -> 0 | P70: =IFERROR($D70*P97/100, 0) -> 0 | Q70: =IFERROR($D70*Q97/100, 0) -> 0 | R70: I.1.kitas nematerialus turtas
B71: C.2. | C71: PASTATAI IR STATINIAI | D71: =SUM(D72:D77) -> 138.59648 | E71: =SUM(F71:H71) -> 39.925511 | F71: =SUM(F72:F77) -> 2.1755309 | G71: =SUM(G72:G77) -> 4.8802177 | H71: =SUM(H72:H77) -> 32.869762 | I71: =SUM(J71:L71) -> 94.739289 | J71: =SUM(J72:J77) -> 58.679726 | K71: =SUM(K72:K77) -> 32.253941 | L71: =SUM(L72:L77) -> 3.8056219 | M71: =SUM(M72:M77) -> 3.2615074 | N71: =O71+P71 -> 0.30231686 | O71: =SUM(O72:O77) -> 0.30231686 | P71: =SUM(P72:P77) -> 0 | Q71: =SUM(Q72:Q77) -> 0.36785595
B72: C.2.1. | C72: Pastatai (administraciniai, gamybiniai-ūkiniai ir pan.) | D72: 127.06826 | E72: =SUM(F72:H72) -> 36.604574 | F72: =IFERROR($D72*F98/100, 0) -> 1.9945739 | G72: =IFERROR($D72*G98/100, 0) -> 4.4742895 | H72: =IFERROR($D72*H98/100, 0) -> 30.135711 | I72: =SUM(J72:L72) -> 86.859036 | J72: =IFERROR($D72*J98/100, 0) -> 53.798846 | K72: =IFERROR($D72*K98/100, 0) -> 29.571113 | L72: =IFERROR($D72*L98/100, 0) -> 3.4890767 | M72: =IFERROR($D72*M98/100, 0) -> 2.9902208 | N72: =O72+P72 -> 0.27717066 | O72: =IFERROR($D72*O98/100, 0) -> 0.27717066 | P72: =IFERROR($D72*P98/100, 0) -> 0 | Q72: =IFERROR($D72*Q98/100, 0) -> 0.33725832 | R72: II.2.1.Pastatai
B73: C.2.2. | C73: keliai, aikštelės, šaligatviai ir tvoros | D73: 0 | E73: =SUM(F73:H73) -> 0 | F73: =IFERROR($D73*F99/100, 0) -> 0 | G73: =IFERROR($D73*G99/100, 0) -> 0 | H73: =IFERROR($D73*H99/100, 0) -> 0 | I73: =SUM(J73:L73) -> 0 | J73: =IFERROR($D73*J99/100, 0) -> 0 | K73: =IFERROR($D73*K99/100, 0) -> 0 | L73: =IFERROR($D73*L99/100, 0) -> 0 | M73: =IFERROR($D73*M99/100, 0) -> 0 | N73: =O73+P73 -> 0 | O73: =IFERROR($D73*O99/100, 0) -> 0 | P73: =IFERROR($D73*P99/100, 0) -> 0 | Q73: =IFERROR($D73*Q99/100, 0) -> 0 | R73: II.2.2.1.keliai | S73: II.2.2.2.aikštelės | T73: II.2.2.3.šaligatviai | U73: II.2.2.4.tvoros
B74: C.2.3. | C74: geriamojo vandens tiekimo ir nuotekų surinkimo vamzdynai | D74: 0 | E74: =SUM(F74:H74) -> 0 | F74: =IFERROR($D74*F100/100, 0) -> 0 | G74: =IFERROR($D74*G100/100, 0) -> 0 | H74: =IFERROR($D74*H100/100, 0) -> 0 | I74: =SUM(J74:L74) -> 0 | J74: =IFERROR($D74*J100/100, 0) -> 0 | K74: =IFERROR($D74*K100/100, 0) -> 0 | L74: =IFERROR($D74*L100/100, 0) -> 0 | M74: =IFERROR($D74*M100/100, 0) -> 0 | N74: =O74+P74 -> 0 | O74: =IFERROR($D74*O100/100, 0) -> 0 | P74: =IFERROR($D74*P100/100, 0) -> 0 | Q74: =IFERROR($D74*Q100/100, 0) -> 0 | R74: II.2.3.vamzdynai
B75: C.2.4. | C75: šilumos ir karšto vandens tiekimo vamzdynai | D75: 0 | E75: =SUM(F75:H75) -> 0 | F75: =IFERROR($D75*F101/100, 0) -> 0 | G75: =IFERROR($D75*G101/100, 0) -> 0 | H75: =IFERROR($D75*H101/100, 0) -> 0 | I75: =SUM(J75:L75) -> 0 | J75: =IFERROR($D75*J101/100, 0) -> 0 | K75: =IFERROR($D75*K101/100, 0) -> 0 | L75: =IFERROR($D75*L101/100, 0) -> 0 | M75: =IFERROR($D75*M101/100, 0) -> 0 | N75: =O75+P75 -> 0 | O75: =IFERROR($D75*O101/100, 0) -> 0 | P75: =IFERROR($D75*P101/100, 0) -> 0 | Q75: =IFERROR($D75*Q101/100, 0) -> 0 | R75: II.2.4.ŠIL_KV vamzdynai
B76: C.2.5. | C76: saulės šviesos elektrinės | D76: 0 | E76: =SUM(F76:H76) -> 0 | F76: =IFERROR($D76*F102/100, 0) -> 0 | G76: =IFERROR($D76*G102/100, 0) -> 0 | H76: =IFERROR($D76*H102/100, 0) -> 0 | I76: =SUM(J76:L76) -> 0 | J76: =IFERROR($D76*J102/100, 0) -> 0 | K76: =IFERROR($D76*K102/100, 0) -> 0 | L76: =IFERROR($D76*L102/100, 0) -> 0 | M76: =IFERROR($D76*M102/100, 0) -> 0 | N76: =O76+P76 -> 0 | O76: =IFERROR($D76*O102/100, 0) -> 0 | P76: =IFERROR($D76*P102/100, 0) -> 0 | Q76: =IFERROR($D76*Q102/100, 0) -> 0 | R76: II.2.5.saulės elektrinė
B77: C.2.6. | C77: Kiti įrenginiai (vandentiekio įrenginiai, nusodintuvai, diukeriai, vandens rezervuarai, gelžbetoniniai metantankai, smėlio gaudytuvai, aerotankai, nusodintuvai, nuotekų valymo flotatoriai, dumblo aikštelės ir kt.) | D77: 11.52822 | E77: =SUM(F77:H77) -> 3.3209362 | F77: =IFERROR($D77*F103/100, 0) -> 0.18095697 | G77: =IFERROR($D77*G103/100, 0) -> 0.40592822 | H77: =IFERROR($D77*H103/100, 0) -> 2.734051 | I77: =SUM(J77:L77) -> 7.8802533 | J77: =IFERROR($D77*J103/100, 0) -> 4.88088 | K77: =IFERROR($D77*K103/100, 0) -> 2.6828281 | L77: =IFERROR($D77*L103/100, 0) -> 0.31654517 | M77: =IFERROR($D77*M103/100, 0) -> 0.27128665 | N77: =O77+P77 -> 0.025146203 | O77: =IFERROR($D77*O103/100, 0) -> 0.025146203 | P77: =IFERROR($D77*P103/100, 0) -> 0 | Q77: =IFERROR($D77*Q103/100, 0) -> 0.030597634 | R77: II.2.6.Kiti įrenginiai
B78: C.3. | C78: MAŠINOS IR ĮRANGA | D78: =D79+D80 -> 3.56102 | E78: =SUM(F78:H78) -> 1.0258236 | F78: =F79+F80 -> 0.055896866 | G78: =G79+G80 -> 0.12538957 | H78: =H79+H80 -> 0.84453718 | I78: =SUM(J78:L78) -> 2.434178 | J78: =J79+J80 -> 1.5076839 | K78: =K79+K80 -> 0.82871462 | L78: =L79+L80 -> 0.097779509 | M78: =M79+M80 -> 0.083799337 | N78: =O78+P78 -> 0.0077675594 | O78: =O79+O80 -> 0.0077675594 | P78: =P79+P80 -> 0 | Q78: =Q79+Q80 -> 0.0094514839
B79: C.3.1. | C79: vandens siurbliai, nuotekų ir dumblo siurbliai virš 5 kW, kita įranga ( siurblių valdymo įranga, elektrotechninė įranga, stacionarios ir mobilios darbo bei hidrodinaminės mašinos, staklės, sklendės, grotelės, grėbliai, grandikliai, filtrai, centrifugos) | D79: 3.56102 | E79: =SUM(F79:H79) -> 1.0258236 | F79: =IFERROR($D79*F104/100, 0) -> 0.055896866 | G79: =IFERROR($D79*G104/100, 0) -> 0.12538957 | H79: =IFERROR($D79*H104/100, 0) -> 0.84453718 | I79: =SUM(J79:L79) -> 2.434178 | J79: =IFERROR($D79*J104/100, 0) -> 1.5076839 | K79: =IFERROR($D79*K104/100, 0) -> 0.82871462 | L79: =IFERROR($D79*L104/100, 0) -> 0.097779509 | M79: =IFERROR($D79*M104/100, 0) -> 0.083799337 | N79: =O79+P79 -> 0.0077675594 | O79: =IFERROR($D79*O104/100, 0) -> 0.0077675594 | P79: =IFERROR($D79*P104/100, 0) -> 0 | Q79: =IFERROR($D79*Q104/100, 0) -> 0.0094514839 | R79: II.3.1.vandens siurbliai, nuotekų ir dumblo siurbliai virš 5 kW, kita įranga
B80: C.3.2. | C80: nuotekų ir dumblo siurbliai iki 5 kW | D80: 0 | E80: =SUM(F80:H80) -> 0 | F80: =IFERROR($D80*F105/100, 0) -> 0 | G80: =IFERROR($D80*G105/100, 0) -> 0 | H80: =IFERROR($D80*H105/100, 0) -> 0 | I80: =SUM(J80:L80) -> 0 | J80: =IFERROR($D80*J105/100, 0) -> 0 | K80: =IFERROR($D80*K105/100, 0) -> 0 | L80: =IFERROR($D80*L105/100, 0) -> 0 | M80: =IFERROR($D80*M105/100, 0) -> 0 | N80: =O80+P80 -> 0 | O80: =IFERROR($D80*O105/100, 0) -> 0 | P80: =IFERROR($D80*P105/100, 0) -> 0 | Q80: =IFERROR($D80*Q105/100, 0) -> 0 | R80: II.3.2.nuotekų ir dumblo siurbliai iki 5 kW
B81: C.4. | C81: KITI ĮRENGINIAI, PRIETAISAI IR ĮRANKIAI | D81: =D82+D86 -> 11.18965 | E81: =SUM(F81:H81) -> 3.2234043 | F81: =F82+F86 -> 0.17564248 | G81: =G82+G86 -> 0.3940066 | H81: =H82+H86 -> 2.6537552 | I81: =SUM(J81:L81) -> 7.6488197 | J81: =J82+J86 -> 4.7375345 | K81: =K82+K86 -> 2.6040366 | L81: =L82+L86 -> 0.30724862 | M81: =M82+M86 -> 0.26331929 | N81: =O81+P81 -> 0.02440769 | O81: =O82+O86 -> 0.02440769 | P81: =P82+P86 -> 0 | Q81: =Q82+Q86 -> 0.029699018
B82: C.4.1. | C82: geriamojo vandens apskaitos prietaisai | D82: 0 | E82: =SUM(F82:H82) -> 0 | F82: =IFERROR($D82*F106/100, 0) -> 0 | G82: =IFERROR($D82*G106/100, 0) -> 0 | H82: =IFERROR($D82*H106/100, 0) -> 0 | I82: =SUM(J82:L82) -> 0 | J82: =IFERROR($D82*J106/100, 0) -> 0 | K82: =IFERROR($D82*K106/100, 0) -> 0 | L82: =IFERROR($D82*L106/100, 0) -> 0 | M82: =IFERROR($D82*M106/100, 0) -> 0 | N82: =O82+P82 -> 0 | O82: =IFERROR($D82*O106/100, 0) -> 0 | P82: =IFERROR($D82*P106/100, 0) -> 0 | Q82: =IFERROR($D82*Q106/100, 0) -> 0 | R82: II.4.1. pas klientus įrengti apskaitos prietaisai
B83: C.4.2. | C83: atsiskaitomieji karšto vandens apskaitos prietaisai | D83: 0 | E83: =SUM(F83:H83) -> 0 | F83: =IFERROR($D83*F107/100, 0) -> 0 | G83: =IFERROR($D83*G107/100, 0) -> 0 | H83: =IFERROR($D83*H107/100, 0) -> 0 | I83: =SUM(J83:L83) -> 0 | J83: =IFERROR($D83*J107/100, 0) -> 0 | K83: =IFERROR($D83*K107/100, 0) -> 0 | L83: =IFERROR($D83*L107/100, 0) -> 0 | M83: =IFERROR($D83*M107/100, 0) -> 0 | N83: =O83+P83 -> 0 | O83: =IFERROR($D83*O107/100, 0) -> 0 | P83: =IFERROR($D83*P107/100, 0) -> 0 | Q83: =IFERROR($D83*Q107/100, 0) -> 0 | R83: II.4.2. KV apskaitos prietaisai
B84: C.4.3. | C84: šilumos (atsiskaitomieji ir neatsiskaitomieji) apskaitos prietaisai | D84: 0 | E84: =SUM(F84:H84) -> 0 | F84: =IFERROR($D84*F108/100, 0) -> 0 | G84: =IFERROR($D84*G108/100, 0) -> 0 | H84: =IFERROR($D84*H108/100, 0) -> 0 | I84: =SUM(J84:L84) -> 0 | J84: =IFERROR($D84*J108/100, 0) -> 0 | K84: =IFERROR($D84*K108/100, 0) -> 0 | L84: =IFERROR($D84*L108/100, 0) -> 0 | M84: =IFERROR($D84*M108/100, 0) -> 0 | N84: =O84+P84 -> 0 | O84: =IFERROR($D84*O108/100, 0) -> 0 | P84: =IFERROR($D84*P108/100, 0) -> 0 | Q84: =IFERROR($D84*Q108/100, 0) -> 0 | R84: II.4.3. ŠIL apskaitos prietaisai
B85: C.4.4. | C85: kiti geriamojo vandens ir nuotekų apskaitos prietaisai (įrengti gręžiniuose, įrenginiuose ir.t.t) | D85: 0 | E85: =SUM(F85:H85) -> 0 | F85: =IFERROR($D85*F109/100, 0) -> 0 | G85: =IFERROR($D85*G109/100, 0) -> 0 | H85: =IFERROR($D85*H109/100, 0) -> 0 | I85: =SUM(J85:L85) -> 0 | J85: =IFERROR($D85*J109/100, 0) -> 0 | K85: =IFERROR($D85*K109/100, 0) -> 0 | L85: =IFERROR($D85*L109/100, 0) -> 0 | M85: =IFERROR($D85*M109/100, 0) -> 0 | N85: =O85+P85 -> 0 | O85: =IFERROR($D85*O109/100, 0) -> 0 | P85: =IFERROR($D85*P109/100, 0) -> 0 | Q85: =IFERROR($D85*Q109/100, 0) -> 0 | R85: II.4.4. kiti apskaitos prietaisai
B86: C.4.5. | C86: įrankiai (matavimo priemonės, elektriniai įrankiai ir prietaisai, gamybinis inventorius ir kt.) | D86: 11.18965 | E86: =SUM(F86:H86) -> 3.2234043 | F86: =IFERROR($D86*F110/100, 0) -> 0.17564248 | G86: =IFERROR($D86*G110/100, 0) -> 0.3940066 | H86: =IFERROR($D86*H110/100, 0) -> 2.6537552 | I86: =SUM(J86:L86) -> 7.6488197 | J86: =IFERROR($D86*J110/100, 0) -> 4.7375345 | K86: =IFERROR($D86*K110/100, 0) -> 2.6040366 | L86: =IFERROR($D86*L110/100, 0) -> 0.30724862 | M86: =IFERROR($D86*M110/100, 0) -> 0.26331929 | N86: =O86+P86 -> 0.02440769 | O86: =IFERROR($D86*O110/100, 0) -> 0.02440769 | P86: =IFERROR($D86*P110/100, 0) -> 0 | Q86: =IFERROR($D86*Q110/100, 0) -> 0.029699018 | R86: II.4.5. įrankiai
B87: C.5. | C87: TRANSPORTO PRIEMONĖS | D87: =D88+D89 -> 47.856201 | E87: =SUM(F87:H87) -> 13.785944 | F87: =F88+F89 -> 0.75119254 | G87: =G88+G89 -> 1.6850982 | H87: =H88+H89 -> 11.349653 | I87: =SUM(J87:L87) -> 32.712681 | J87: =J88+J89 -> 20.261617 | K87: =K88+K89 -> 11.137015 | L87: =L88+L89 -> 1.3140493 | M87: =M88+M89 -> 1.1261711 | N87: =O87+P87 -> 0.10438747 | O87: =O88+O89 -> 0.10438747 | P87: =P88+P89 -> 0 | Q87: =Q88+Q89 -> 0.12701757
B88: C.5.1. | C88: lengvieji automobiliai | D88: 47.109091 | E88: =SUM(F88:H88) -> 13.570723 | F88: =IFERROR($D88*F111/100, 0) -> 0.73946525 | G88: =IFERROR($D88*G111/100, 0) -> 1.6587912 | H88: =IFERROR($D88*H111/100, 0) -> 11.172467 | I88: =SUM(J88:L88) -> 32.201985 | J88: =IFERROR($D88*J111/100, 0) -> 19.945301 | K88: =IFERROR($D88*K111/100, 0) -> 10.963149 | L88: =IFERROR($D88*L111/100, 0) -> 1.2935349 | M88: =IFERROR($D88*M111/100, 0) -> 1.1085898 | N88: =O88+P88 -> 0.10275782 | O88: =IFERROR($D88*O111/100, 0) -> 0.10275782 | P88: =IFERROR($D88*P111/100, 0) -> 0 | Q88: =IFERROR($D88*Q111/100, 0) -> 0.12503463 | R88: II.5.1.lengvieji automobiliai
B89: C.5.2. | C89: kitos transporto priemonės (transportas dumblui, vandeniui vežti, autobusai žmonėms vežti) | D89: 0.74711 | E89: =SUM(F89:H89) -> 0.2152201 | F89: =IFERROR($D89*F112/100, 0) -> 0.011727288 | G89: =IFERROR($D89*G112/100, 0) -> 0.026307013 | H89: =IFERROR($D89*H112/100, 0) -> 0.1771858 | I89: =SUM(J89:L89) -> 0.51069602 | J89: =IFERROR($D89*J112/100, 0) -> 0.31631547 | K89: =IFERROR($D89*K112/100, 0) -> 0.17386619 | L89: =IFERROR($D89*L112/100, 0) -> 0.020514361 | M89: =IFERROR($D89*M112/100, 0) -> 0.017581289 | N89: =O89+P89 -> 0.0016296514 | O89: =IFERROR($D89*O112/100, 0) -> 0.0016296514 | P89: =IFERROR($D89*P112/100, 0) -> 0 | Q89: =IFERROR($D89*Q112/100, 0) -> 0.0019829426 | R89: II.5.2.kitos transporto priemonės
B90: C.6. | C90: KITAS ILGALAIKIS TURTAS | D90: =D91+D92+D93 -> 0.66033 | E90: =E91+E92+E93 -> 0.19022137 | F90: =F91+F92+F93 -> 0.010365114 | G90: =G91+G92+G93 -> 0.023251342 | H90: =H91+H92+H93 -> 0.15660491 | I90: =I91+I92+I93 -> 0.45137651 | J90: =J91+J92+J93 -> 0.27957408 | K90: =K91+K92+K93 -> 0.15367089 | ... M90: =M91+M92+M93 -> 0.015539148 | N90: =O90+P90 -> 0.0014403605 | O90: =O91+O92+O93 -> 0.0014403605 | P90: =P91+P92+P93 -> 0 | Q90: =Q91+Q92+Q93 -> 0.0017526154
B91: C.6.1. | C91: žemė | D91: 0 | E91: =SUM(F91:H91) -> 0 | F91: =IFERROR($D91*F113/100, 0) -> 0 | G91: =IFERROR($D91*G113/100, 0) -> 0 | H91: =IFERROR($D91*H113/100, 0) -> 0 | I91: =SUM(J91:L91) -> 0 | J91: =IFERROR($D91*J113/100, 0) -> 0 | K91: =IFERROR($D91*K113/100, 0) -> 0 | L91: =IFERROR($D91*L113/100, 0) -> 0 | M91: =IFERROR($D91*M113/100, 0) -> 0 | N91: =O91+P91 -> 0 | O91: =IFERROR($D91*O113/100, 0) -> 0 | P91: =IFERROR($D91*P113/100, 0) -> 0 | Q91: =IFERROR($D91*Q113/100, 0) -> 0 | R91: II.6.1. žemė
B92: C.6.2. | C92: Kompiuteriai, kompiuteriniai tinklai ir jų įranga | D92: 0.66033 | E92: =SUM(F92:H92) -> 0.19022137 | F92: =IFERROR($D92*F114/100, 0) -> 0.010365114 | G92: =IFERROR($D92*G114/100, 0) -> 0.023251342 | H92: =IFERROR($D92*H114/100, 0) -> 0.15660491 | I92: =SUM(J92:L92) -> 0.45137651 | J92: =IFERROR($D92*J114/100, 0) -> 0.27957408 | K92: =IFERROR($D92*K114/100, 0) -> 0.15367089 | L92: =IFERROR($D92*L114/100, 0) -> 0.018131531 | M92: =IFERROR($D92*M114/100, 0) -> 0.015539148 | N92: =O92+P92 -> 0.0014403605 | O92: =IFERROR($D92*O114/100, 0) -> 0.0014403605 | P92: =IFERROR($D92*P114/100, 0) -> 0 | Q92: =IFERROR($D92*Q114/100, 0) -> 0.0017526154 | R92: II.6.2. Kompiuteriai, kompiuteriniai tinklai ir jų įranga
B93: C.6.3. | D93: 0 | E93: =SUM(F93:H93) -> 0 | F93: =IFERROR($D93*F115/100, 0) -> 0 | G93: =IFERROR($D93*G115/100, 0) -> 0 | H93: =IFERROR($D93*H115/100, 0) -> 0 | I93: =SUM(J93:L93) -> 0 | J93: =IFERROR($D93*J115/100, 0) -> 0 | K93: =IFERROR($D93*K115/100, 0) -> 0 | L93: =IFERROR($D93*L115/100, 0) -> 0 | M93: =IFERROR($D93*M115/100, 0) -> 0 | N93: =O93+P93 -> 0 | O93: =IFERROR($D93*O115/100, 0) -> 0 | P93: =IFERROR($D93*P115/100, 0) -> 0 | Q93: =IFERROR($D93*Q115/100, 0) -> 0 | R93: II.6.3.
B94: D. | C94: Netiesiogiai paskirstomo ilgalaikio turto paskirstymo kriterijus | D94: 1. IŠ VISO | E94: 2. Iš viso GVT | F94: 2.1. Geriamojo vandens gavyba | G94: 2.2. Geriamojo vandens ruošimas | H94: 2.3. Geriamojo vandens pristatymas | I94: 3. Iš viso NT | J94: 3.1. Nuotekų surinkimas | K94: 3.2. Nuotekų valymas | L94: 3.3. Nuotekų dumblo tvarkymas | M94: 4. Paviršinių nuotekų tvarkymas (tik esant atskirai paviršinių nuotekų tvarkymo sistemai) | N94: 5. Kitos reguliuojamosios veiklos verslo vienetas | O94: 5.1 Apskaitos veikla | P94: 5.2. Kita reguliuojama veikla | Q94: 6. Kitos veiklos (nereguliuojamosios veiklos) verslo vienetas
A95: I.1.standartinė programinė įranga | B95: D.1. | C95: C.1.1 Punktui Tiesiogiai paslaugoms priskirto naudojamo turto buhalterinė įsigijimo vertė | D95: =O95+E95+I95+M95+P95+Q95 -> 100 | E95: =SUM(F95:H95) -> 28.807016 | F95: 1.569687 | G95: 3.52117 | H95: 23.716159 | I95: =SUM(J95:L95) -> 68.356202 | J95: 42.33854 | K95: 23.271833 | L95: 2.7458287 | M95: 2.3532397 | N95: =O95+P95 -> 0.21812737 | O95: 0.21812737 | P95: 0 | Q95: 0.26541507 | R95: C.1.1 Punktui
A96: I.1.spec. programinė įranga | B96: D.2. | C96: C.1.2. Punktui Tiesiogiai paslaugoms priskirto naudojamo turto buhalterinė įsigijimo vertė | D96: =O96+E96+I96+M96+P96+Q96 -> 100 | E96: =SUM(F96:H96) -> 28.807016 | F96: 1.569687 | G96: 3.52117 | H96: 23.716159 | I96: =SUM(J96:L96) -> 68.356202 | J96: 42.33854 | K96: 23.271833 | L96: 2.7458287 | M96: 2.3532397 | N96: =O96+P96 -> 0.21812737 | O96: 0.21812737 | P96: 0 | Q96: 0.26541507 | R96: C.1.2. Punktui
A97: I.1.kitas nematerialus turtas | B97: D.3. | C97: C.1.3. Punktui Tiesiogiai paslaugoms priskirto naudojamo turto buhalterinė įsigijimo vertė | D97: =O97+E97+I97+M97+P97+Q97 -> 100 | E97: =SUM(F97:H97) -> 28.807016 | F97: 1.569687 | G97: 3.52117 | H97: 23.716159 | I97: =SUM(J97:L97) -> 68.356202 | J97: 42.33854 | K97: 23.271833 | L97: 2.7458287 | M97: 2.3532397 | N97: =O97+P97 -> 0.21812737 | O97: 0.21812737 | P97: 0 | Q97: 0.26541507 | R97: C.1.3. Punktui
A98: II.2.1.Pastatai | B98: D.4. | C98: C.2.1 Punktui Tiesiogiai paslaugoms priskirto naudojamo turto buhalterinė įsigijimo vertė | D98: =O98+E98+I98+M98+P98+Q98 -> 100 | E98: =SUM(F98:H98) -> 28.807016 | F98: 1.569687 | G98: 3.52117 | H98: 23.716159 | I98: =SUM(J98:L98) -> 68.356202 | J98: 42.33854 | K98: 23.271833 | L98: 2.7458287 | M98: 2.3532397 | N98: =O98+P98 -> 0.21812737 | O98: 0.21812737 | P98: 0 | Q98: 0.26541507 | R98: C.2.1 Punktui
A99: II.2.2.1.keliai | B99: D.5. | C99: C.2.2. Punktui Tiesiogiai paslaugoms priskirto naudojamo turto buhalterinė įsigijimo vertė | D99: =O99+E99+I99+M99+P99+Q99 -> 100 | E99: =SUM(F99:H99) -> 28.807016 | F99: 1.569687 | G99: 3.52117 | H99: 23.716159 | I99: =SUM(J99:L99) -> 68.356202 | J99: 42.33854 | K99: 23.271833 | L99: 2.7458287 | M99: 2.3532397 | N99: =O99+P99 -> 0.21812737 | O99: 0.21812737 | P99: 0 | Q99: 0.26541507 | R99: C.2.2. Punktui
A100: II.2.3.vamzdynai | B100: D.6. | C100: C.2.3 Punktui Tiesiogiai paslaugoms priskirto naudojamo turto buhalterinė įsigijimo vertė | D100: =O100+E100+I100+M100+P100+Q100 -> 100 | E100: =SUM(F100:H100) -> 28.807016 | F100: 1.569687 | G100: 3.52117 | H100: 23.716159 | I100: =SUM(J100:L100) -> 68.356202 | J100: 42.33854 | K100: 23.271833 | L100: 2.7458287 | M100: 2.3532397 | N100: =O100+P100 -> 0.21812737 | O100: 0.21812737 | P100: 0 | Q100: 0.26541507 | R100: C.2.3 Punktui
A101: II.2.4.ŠIL_KV vamzdynai | B101: D.7. | C101: C.2.4 Punktui Tiesiogiai paslaugoms priskirto naudojamo turto buhalterinė įsigijimo vertė | D101: =O101+E101+I101+M101+P101+Q101 -> 100 | E101: =SUM(F101:H101) -> 28.807016 | F101: 1.569687 | G101: 3.52117 | H101: 23.716159 | I101: =SUM(J101:L101) -> 68.356202 | J101: 42.33854 | K101: 23.271833 | L101: 2.7458287 | M101: 2.3532397 | N101: =O101+P101 -> 0.21812737 | O101: 0.21812737 | P101: 0 | Q101: 0.26541507 | R101: C.2.4 Punktui
A102: II.2.5.saulės elektrinė | B102: D.8. | C102: C.2.5 Punktui Tiesiogiai paslaugoms priskirto naudojamo turto buhalterinė įsigijimo vertė | D102: =O102+E102+I102+M102+P102+Q102 -> 100 | E102: =SUM(F102:H102) -> 28.807016 | F102: 1.569687 | G102: 3.52117 | H102: 23.716159 | I102: =SUM(J102:L102) -> 68.356202 | J102: 42.33854 | K102: 23.271833 | L102: 2.7458287 | M102: 2.3532397 | N102: =O102+P102 -> 0.21812737 | O102: 0.21812737 | P102: 0 | Q102: 0.26541507 | R102: C.2.5 Punktui
A103: II.2.6.Kiti įrenginiai | B103: D.9. | C103: C.2.6 Punktui Tiesiogiai paslaugoms priskirto naudojamo turto buhalterinė įsigijimo vertė | D103: =O103+E103+I103+M103+P103+Q103 -> 100 | E103: =SUM(F103:H103) -> 28.807016 | F103: 1.569687 | G103: 3.52117 | H103: 23.716159 | I103: =SUM(J103:L103) -> 68.356202 | J103: 42.33854 | K103: 23.271833 | L103: 2.7458287 | M103: 2.3532397 | N103: =O103+P103 -> 0.21812737 | O103: 0.21812737 | P103: 0 | Q103: 0.26541507 | R103: C.2.6 Punktui
A104: II.3.1.vandens siurbliai, nuotekų ir dumblo siurbliai virš 5 kW, kita įranga | B104: D.10. | C104: C.3.1. Punktui Tiesiogiai paslaugoms priskirto naudojamo turto buhalterinė įsigijimo vertė | D104: =O104+E104+I104+M104+P104+Q104 -> 100 | E104: =SUM(F104:H104) -> 28.807016 | F104: 1.569687 | G104: 3.52117 | H104: 23.716159 | I104: =SUM(J104:L104) -> 68.356202 | J104: 42.33854 | K104: 23.271833 | L104: 2.7458287 | M104: 2.3532397 | N104: =O104+P104 -> 0.21812737 | O104: 0.21812737 | P104: 0 | Q104: 0.26541507 | R104: C.3.1. Punktui
...

Sheet 7
C2: Ūkio subjektas: UAB „Kaišiadorių vandenys“ | Q2: Geriamojo vandens tiekimo ir nuotekų tvarkymo bei paviršinių nuotekų tvarkymo paslaugų įmonių apskaitos atskyrimo taisyklių ir susijusių reikalavimų sąvado 7 priedas
C3: Ataskaitinis laikotarpis: 2024-01-01 - 2024-12-31
C5: Ataskaitinio laikotarpio reguliuojamo ilgalaikio turto likutinės vertės ( suskaičiuotos pagal Sąvado nuostatas) paskirstymo verslo vienetams ir paslaugoms ataskaita (tūkst. Eur)
F8: II.Gavyba | G8: II.Ruošimas | H8: II.Pristatymas | J8: III.Surinkimas | K8: III.Valymas | L8: III.Dumblas | M8: III.Pav.nuotekos | O8: I.Apskaitos veikla | P8: IV.Kita_reguliuojama | Q8: V.Nereguliuojama
B9: Eil. Nr. | C9: ILGALAIKIS TURTAS | D9: 1. IŠ VISO | E9: 2. Iš viso GVT | F9: 2.1. Geriamojo vandens gavyba | G9: 2.2. Geriamojo vandens ruošimas | H9: 2.3. Geriamojo vandens pristatymas | I9: 3. Iš viso NT | J9: 3.1. Nuotekų surinkimas | K9: 3.2. Nuotekų valymas | L9: 3.3. Nuotekų dumblo tvarkymas | M9: 4. Paviršinių nuotekų tvarkymas (tik esant atskirai paviršinių nuotekų tvarkymo sistemai) | N9: 5. Kitos reguliuojamosios veiklos verslo vienetas | O9: 5.1 Apskaitos veikla | P9: 5.2. Kita reguliuojama veikla | Q9: 6. Kitos veiklos (nereguliuojamosios veiklos) verslo vienetas
B10: A. | C10: PASKIRSTOMAS ILGALAIKIS TURTAS | D10: =D11+D15+D22+D25+D31+D34 -> 3719.1724 | E10: =E11+E15+E22+E25+E31+E34 -> 1499.5392 | F10: =F11+F15+F22+F25+F31+F34 -> 100.2315 | G10: =G11+G15+G22+G25+G31+G34 -> 409.8603 | H10: =H11+H15+H22+H25+H31+H34 -> 989.4474 | I10: =I11+I15+I22+I25+I31+I34 -> 2156.6053 | J10: =J11+J15+J22+J25+J31+J34 -> 1589.3424 | K10: =K11+K15+K22+K25+K31+K34 -> 510.82819 | ... M10: =M11+M15+M22+M25+M31+M34 -> 2.1008127 | N10: =O10+P10 -> 60.762976 | O10: =O11+O15+O22+O25+O31+O34 -> 60.762976 | P10: =P11+P15+P22+P25+P31+P34 -> 0 | Q10: =Q11+Q15+Q22+Q25+Q31+Q34 -> 0.16407712
B11: A.1. | C11: NEMATERIALUSIS TURTAS | D11: =O11+E11+I11+M11+P11+Q11 -> 0 | E11: =SUM(F11:H11) -> 0 | F11: =SUM(F12:F14) -> 0 | G11: =SUM(G12:G14) -> 0 | H11: =SUM(H12:H14) -> 0 | I11: =SUM(J11:L11) -> 0 | J11: =SUM(J12:J14) -> 0 | K11: =SUM(K12:K14) -> 0 | L11: =SUM(L12:L14) -> 0 | M11: =SUM(M12:M14) -> 0 | N11: =O11+P11 -> 0 | O11: =SUM(O12:O14) -> 0 | P11: =SUM(P12:P14) -> 0 | Q11: =SUM(Q12:Q14) -> 0
B12: A.1.1. | C12: standartinė programinė įranga | D12: =O12+E12+I12+M12+P12+Q12 -> 0 | E12: =SUM(F12:H12) -> 0 | F12: =SUM(F40,F68,F118) -> 0 | G12: =SUM(G40,G68,G118) -> 0 | H12: =SUM(H40,H68,H118) -> 0 | I12: =SUM(J12:L12) -> 0 | J12: =SUM(J40,J68,J118) -> 0 | K12: =SUM(K40,K68,K118) -> 0 | L12: =SUM(L40,L68,L118) -> 0 | M12: =SUM(M40,M68,M118) -> 0 | N12: =O12+P12 -> 0 | O12: =SUM(O40,O68,O118) -> 0 | P12: =SUM(P40,P68,P118) -> 0 | Q12: =SUM(Q40,Q68,Q118) -> 0
B13: A.1.2. | C13: spec. programinė įranga | D13: =O13+E13+I13+M13+P13+Q13 -> 0 | E13: =SUM(F13:H13) -> 0 | F13: =SUM(F41,F69,F119) -> 0 | G13: =SUM(G41,G69,G119) -> 0 | H13: =SUM(H41,H69,H119) -> 0 | I13: =SUM(J13:L13) -> 0 | J13: =SUM(J41,J69,J119) -> 0 | K13: =SUM(K41,K69,K119) -> 0 | L13: =SUM(L41,L69,L119) -> 0 | M13: =SUM(M41,M69,M119) -> 0 | N13: =O13+P13 -> 0 | O13: =SUM(O41,O69,O119) -> 0 | P13: =SUM(P41,P69,P119) -> 0 | Q13: =SUM(Q41,Q69,Q119) -> 0
B14: A.1.3. | C14: kitas nematerialus turtas | D14: =O14+E14+I14+M14+P14+Q14 -> 0 | E14: =SUM(F14:H14) -> 0 | F14: =SUM(F42,F70,F120) -> 0 | G14: =SUM(G42,G70,G120) -> 0 | H14: =SUM(H42,H70,H120) -> 0 | I14: =SUM(J14:L14) -> 0 | J14: =SUM(J42,J70,J120) -> 0 | K14: =SUM(K42,K70,K120) -> 0 | L14: =SUM(L42,L70,L120) -> 0 | M14: =SUM(M42,M70,M120) -> 0 | N14: =O14+P14 -> 0 | O14: =SUM(O42,O70,O120) -> 0 | P14: =SUM(P42,P70,P120) -> 0 | Q14: =SUM(Q42,Q70,Q120) -> 0
B15: A.2. | C15: PASTATAI IR STATINIAI | D15: =O15+E15+I15+M15+P15+Q15 -> 3511.4083 | E15: =SUM(F15:H15) -> 1473.2287 | F15: =SUM(F16:F21) -> 98.272473 | G15: =SUM(G16:G21) -> 409.36411 | H15: =SUM(H16:H21) -> 965.59212 | I15: =SUM(J15:L15) -> 2036.1796 | J15: =SUM(J16:J21) -> 1498.6359 | K15: =SUM(K16:K21) -> 481.49589 | L15: =SUM(L16:L21) -> 56.047855 | M15: =SUM(M16:M21) -> 1.769205 | N15: =O15+P15 -> 0.1041068 | O15: =SUM(O16:O21) -> 0.1041068 | P15: =SUM(P16:P21) -> 0 | Q15: =SUM(Q16:Q21) -> 0.12667605
B16: A.2.1. | C16: Pastatai (administraciniai, gamybiniai-ūkiniai ir pan.) | D16: =O16+E16+I16+M16+P16+Q16 -> 404.13322 | E16: =SUM(F16:H16) -> 43.202868 | F16: =SUM(F44,F72,F122) -> 8.2489824 | G16: =SUM(G44,G72,G122) -> 24.882271 | H16: =SUM(H44,H72,H122) -> 10.071614 | I16: =SUM(J16:L16) -> 359.72564 | J16: =SUM(J44,J72,J122) -> 19.232676 | K16: =SUM(K44,K72,K122) -> 339.32689 | L16: =SUM(L44,L72,L122) -> 1.1660795 | M16: =SUM(M44,M72,M122) -> 0.99935756 | N16: =O16+P16 -> 0.092632823 | O16: =SUM(O44,O72,O122) -> 0.092632823 | P16: =SUM(P44,P72,P122) -> 0 | Q16: =SUM(Q44,Q72,Q122) -> 0.11271464
B17: A.2.2. | C17: keliai, aikštelės, šaligatviai ir tvoros | D17: =O17+E17+I17+M17+P17+Q17 -> 3.788544 | E17: =SUM(F17:H17) -> 0 | F17: =SUM(F45,F73,F123) -> 0 | G17: =SUM(G45,G73,G123) -> 0 | H17: =SUM(H45,H73,H123) -> 0 | I17: =SUM(J17:L17) -> 3.788544 | J17: =SUM(J45,J73,J123) -> 0 | K17: =SUM(K45,K73,K123) -> 3.788544 | L17: =SUM(L45,L73,L123) -> 0 | M17: =SUM(M45,M73,M123) -> 0 | N17: =O17+P17 -> 0 | O17: =SUM(O45,O73,O123) -> 0 | P17: =SUM(P45,P73,P123) -> 0 | Q17: =SUM(Q45,Q73,Q123) -> 0
B18: A.2.3. | C18: geriamojo vandens tiekimo ir nuotekų surinkimo vamzdynai | D18: =O18+E18+I18+M18+P18+Q18 -> 2373.3109 | E18: =SUM(F18:H18) -> 924.32365 | F18: =SUM(F46,F74,F124) -> 0 | G18: =SUM(G46,G74,G124) -> 0 | H18: =SUM(H46,H74,H124) -> 924.32365 | I18: =SUM(J18:L18) -> 1448.3412 | J18: =SUM(J46,J74,J124) -> 1448.3412 | K18: =SUM(K46,K74,K124) -> 0 | L18: =SUM(L46,L74,L124) -> 0 | M18: =SUM(M46,M74,M124) -> 0.6460619 | N18: =O18+P18 -> 0 | O18: =SUM(O46,O74,O124) -> 0 | P18: =SUM(P46,P74,P124) -> 0 | Q18: =SUM(Q46,Q74,Q124) -> 0
B19: A.2.4. | C19: šilumos ir karšto vandens tiekimo vamzdynai | D19: =O19+E19+I19+M19+P19+Q19 -> 0 | E19: =SUM(F19:H19) -> 0 | F19: =SUM(F47,F75,F125) -> 0 | G19: =SUM(G47,G75,G125) -> 0 | H19: =SUM(H47,H75,H125) -> 0 | I19: =SUM(J19:L19) -> 0 | J19: =SUM(J47,J75,J125) -> 0 | K19: =SUM(K47,K75,K125) -> 0 | L19: =SUM(L47,L75,L125) -> 0 | M19: =SUM(M47,M75,M125) -> 0 | N19: =O19+P19 -> 0 | O19: =SUM(O47,O75,O125) -> 0 | P19: =SUM(P47,P75,P125) -> 0 | Q19: =SUM(Q47,Q75,Q125) -> 0
B20: A.2.5. | C20: saulės šviesos elektrinės | D20: =O20+E20+I20+M20+P20+Q20 -> 0 | E20: =SUM(F20:H20) -> 0 | F20: =SUM(F48,F76,F126) -> 0 | G20: =SUM(G48,G76,G126) -> 0 | H20: =SUM(H48,H76,H126) -> 0 | I20: =SUM(J20:L20) -> 0 | J20: =SUM(J48,J76,J126) -> 0 | K20: =SUM(K48,K76,K126) -> 0 | L20: =SUM(L48,L76,L126) -> 0 | M20: =SUM(M48,M76,M126) -> 0 | N20: =O20+P20 -> 0 | O20: =SUM(O48,O76,O126) -> 0 | P20: =SUM(P48,P76,P126) -> 0 | Q20: =SUM(Q48,Q76,Q126) -> 0
B21: A.2.6. | C21: Kiti įrenginiai (vandentiekio įrenginiai, nusodintuvai, diukeriai, vandens rezervuarai, gelžbetoniniai metantankai, smėlio gaudytuvai, aerotankai, nusodintuvai, nuotekų valymo flotatoriai, dumblo aikštelės ir kt.) | D21: =O21+E21+I21+M21+P21+Q21 -> 730.17562 | E21: =SUM(F21:H21) -> 505.70218 | F21: =SUM(F49,F77,F127) -> 90.02349 | G21: =SUM(G49,G77,G127) -> 384.48184 | H21: =SUM(H49,H77,H127) -> 31.196852 | I21: =SUM(J21:L21) -> 224.32422 | J21: =SUM(J49,J77,J127) -> 31.061983 | K21: =SUM(K49,K77,K127) -> 138.38046 | L21: =SUM(L49,L77,L127) -> 54.881775 | M21: =SUM(M49,M77,M127) -> 0.12378551 | N21: =O21+P21 -> 0.011473972 | O21: =SUM(O49,O77,O127) -> 0.011473972 | P21: =SUM(P49,P77,P127) -> 0 | Q21: =SUM(Q49,Q77,Q127) -> 0.013961408
B22: A.3. | C22: MAŠINOS IR ĮRANGA | D22: =O22+E22+I22+M22+P22+Q22 -> 58.956341 | E22: =SUM(F22:H22) -> 20.602136 | F22: =SUM(F23:F24) -> 1.7568378 | G22: =SUM(G23:G24) -> 0.042622061 | H22: =SUM(H23:H24) -> 18.802676 | I22: =SUM(J22:L22) -> 38.319868 | J22: =SUM(J23:J24) -> 19.548664 | K22: =SUM(K23:K24) -> 18.737967 | L22: =SUM(L23:L24) -> 0.033236929 | M22: =SUM(M23:M24) -> 0.028484829 | N22: =O22+P22 -> 0.0026403264 | O22: =SUM(O23:O24) -> 0.0026403264 | P22: =SUM(P23:P24) -> 0 | Q22: =SUM(Q23:Q24) -> 0.0032127212
B23: A.3.1. | C23: vandens siurbliai, nuotekų ir dumblo siurbliai virš 5 kW, kita įranga ( siurblių valdymo įranga, elektrotechninė įranga, stacionarios ir mobilios darbo bei hidrodinaminės mašinos, staklės, sklendės, grotelės, grėbliai, grandikliai, filtrai, centrifugos) | D23: =O23+E23+I23+M23+P23+Q23 -> 57.629467 | E23: =SUM(F23:H23) -> 20.602136 | F23: =SUM(F51,F79,F129) -> 1.7568378 | G23: =SUM(G51,G79,G129) -> 0.042622061 | H23: =SUM(H51,H79,H129) -> 18.802676 | I23: =SUM(J23:L23) -> 36.992994 | J23: =SUM(J51,J79,J129) -> 18.850159 | K23: =SUM(K51,K79,K129) -> 18.109598 | L23: =SUM(L51,L79,L129) -> 0.033236929 | M23: =SUM(M51,M79,M129) -> 0.028484829 | N23: =O23+P23 -> 0.0026403264 | O23: =SUM(O51,O79,O129) -> 0.0026403264 | P23: =SUM(P51,P79,P129) -> 0 | Q23: =SUM(Q51,Q79,Q129) -> 0.0032127212
B24: A.3.2. | C24: nuotekų ir dumblo siurbliai iki 5 kW | D24: =O24+E24+I24+M24+P24+Q24 -> 1.326874 | E24: =SUM(F24:H24) -> 0 | F24: =SUM(F52,F80) -> 0 | G24: =SUM(G52,G80) -> 0 | H24: =SUM(H52,H80) -> 0 | I24: =SUM(J24:L24) -> 1.326874 | J24: =SUM(J52,J80) -> 0.698505 | K24: =SUM(K52,K80) -> 0.628369 | L24: =SUM(L52,L80) -> 0 | M24: =SUM(M52,M80) -> 0 | N24: =O24+P24 -> 0 | O24: =SUM(O52,O80) -> 0 | P24: =SUM(P52,P80) -> 0 | Q24: =SUM(Q52,Q80) -> 0
B25: A.4. | C25: KITI ĮRENGINIAI, PRIETAISAI IR ĮRANKIAI | D25: =O25+E25+I25+M25+P25+Q25 -> 65.764854 | E25: =SUM(F25:H25) -> 2.8495883 | F25: =SUM(F26:F30) -> 0.046418724 | G25: =SUM(G26:G30) -> 0.10412791 | H25: =SUM(H26:H30) -> 2.6990417 | I25: =SUM(J25:L25) -> 2.2032448 | J25: =SUM(J26:J30) -> 1.2520337 | K25: =SUM(K26:K30) -> 0.87001154 | L25: =SUM(L26:L30) -> 0.081199543 | M25: =SUM(M26:M30) -> 0.069589916 | N25: =O25+P25 -> 60.634582 | O25: =SUM(O26:O30) -> 60.634582 | P25: =SUM(P26:P30) -> 0 | Q25: =SUM(Q26:Q30) -> 0.0078488446
B26: A.4.1. | C26: geriamojo vandens apskaitos prietaisai | D26: =O26+E26+I26+M26+P26+Q26 -> 60.628131 | E26: =SUM(F26:H26) -> 0 | F26: =SUM(F54,F82,F131) -> 0 | G26: =SUM(G54,G82,G131) -> 0 | H26: =SUM(H54,H82,H131) -> 0 | I26: =SUM(J26:L26) -> 0 | J26: =SUM(J54,J82,J131) -> 0 | K26: =SUM(K54,K82,K131) -> 0 | L26: =SUM(L54,L82,L131) -> 0 | M26: =SUM(M54,M82,M131) -> 0 | N26: =O26+P26 -> 60.628131 | O26: =SUM(O54,O82,O131) -> 60.628131 | P26: =SUM(P54,P82,P131) -> 0 | Q26: =SUM(Q54,Q82,Q131) -> 0
B27: A.4.2. | C27: atsiskaitomieji karšto vandens apskaitos prietaisai | D27: =O27+E27+I27+M27+P27+Q27 -> 0 | E27: =SUM(F27:H27) -> 0 | F27: =SUM(F55,F83,F132) -> 0 | G27: =SUM(G55,G83,G132) -> 0 | H27: =SUM(H55,H83,H132) -> 0 | I27: =SUM(J27:L27) -> 0 | J27: =SUM(J55,J83,J132) -> 0 | K27: =SUM(K55,K83,K132) -> 0 | L27: =SUM(L55,L83,L132) -> 0 | M27: =SUM(M55,M83,M132) -> 0 | N27: =O27+P27 -> 0 | O27: =SUM(O55,O83,O132) -> 0 | P27: =SUM(P55,P83,P132) -> 0 | Q27: =SUM(Q55,Q83,Q132) -> 0
B28: A.4.3. | C28: šilumos (atsiskaitomieji ir neatsiskaitomieji) apskaitos prietaisai | D28: =O28+E28+I28+M28+P28+Q28 -> 0 | E28: =SUM(F28:H28) -> 0 | F28: =SUM(F56,F84,F133) -> 0 | G28: =SUM(G56,G84,G133) -> 0 | H28: =SUM(H56,H84,H133) -> 0 | I28: =SUM(J28:L28) -> 0 | J28: =SUM(J56,J84,J133) -> 0 | K28: =SUM(K56,K84,K133) -> 0 | L28: =SUM(L56,L84,L133) -> 0 | M28: =SUM(M56,M84,M133) -> 0 | N28: =O28+P28 -> 0 | O28: =SUM(O56,O84,O133) -> 0 | P28: =SUM(P56,P84,P133) -> 0 | Q28: =SUM(Q56,Q84,Q133) -> 0
B29: A.4.4. | C29: kiti geriamojo vandens ir nuotekų apskaitos prietaisai (įrengti gręžiniuose, įrenginiuose ir.t.t) | D29: =O29+E29+I29+M29+P29+Q29 -> 0 | E29: =SUM(F29:H29) -> 0 | F29: =SUM(F57,F85,F134) -> 0 | G29: =SUM(G57,G85,G134) -> 0 | H29: =SUM(H57,H85,H134) -> 0 | I29: =SUM(J29:L29) -> 0 | J29: =SUM(J57,J85,J134) -> 0 | K29: =SUM(K57,K85,K134) -> 0 | L29: =SUM(L57,L85,L134) -> 0 | M29: =SUM(M57,M85,M134) -> 0 | N29: =O29+P29 -> 0 | O29: =SUM(O57,O85,O134) -> 0 | P29: =SUM(P57,P85,P134) -> 0 | Q29: =SUM(Q57,Q85,Q134) -> 0
B30: A.4.5. | C30: įrankiai (matavimo priemonės, elektriniai įrankiai ir prietaisai, gamybinis inventorius ir kt.) | D30: =O30+E30+I30+M30+P30+Q30 -> 5.1367224 | E30: =SUM(F30:H30) -> 2.8495883 | F30: =SUM(F58,F86,F135) -> 0.046418724 | G30: =SUM(G58,G86,G135) -> 0.10412791 | H30: =SUM(H58,H86,H135) -> 2.6990417 | I30: =SUM(J30:L30) -> 2.2032448 | J30: =SUM(J58,J86,J135) -> 1.2520337 | K30: =SUM(K58,K86,K135) -> 0.87001154 | L30: =SUM(L58,L86,L135) -> 0.081199543 | M30: =SUM(M58,M86,M135) -> 0.069589916 | N30: =O30+P30 -> 0.0064504545 | O30: =SUM(O58,O86,O135) -> 0.0064504545 | P30: =SUM(P58,P86,P135) -> 0 | Q30: =SUM(Q58,Q86,Q135) -> 0.0078488446
B31: A.5. | C31: TRANSPORTO PRIEMONĖS | D31: =O31+E31+I31+M31+P31+Q31 -> 75.559946 | E31: =SUM(F31:H31) -> 2.8391511 | F31: =SUM(F32:F33) -> 0.15470462 | G31: =SUM(G32:G33) -> 0.34703816 | H31: =SUM(H32:H33) -> 2.3374084 | I31: =SUM(J31:L31) -> 72.441208 | J31: =SUM(J32:J33) -> 69.876969 | K31: =SUM(K32:K33) -> 2.2936166 | L31: =SUM(L32:L33) -> 0.27062236 | M31: =SUM(M32:M33) -> 0.23192972 | N31: =O31+P31 -> 0.021498116 | O31: =SUM(O32:O33) -> 0.021498116 | P31: =SUM(P32:P33) -> 0 | Q31: =SUM(Q32:Q33) -> 0.02615868
B32: A.5.1. | C32: lengvieji automobiliai | D32: =O32+E32+I32+M32+P32+Q32 -> 9.532015 | E32: =SUM(F32:H32) -> 2.7458891 | F32: =SUM(F60,F88,F137) -> 0.14962279 | G32: =SUM(G60,G88,G137) -> 0.33563845 | H32: =SUM(H60,H88,H137) -> 2.2606279 | I32: =SUM(J32:L32) -> 6.5157234 | J32: =SUM(J60,J88,J137) -> 4.035716 | K32: =SUM(K60,K88,K137) -> 2.2182746 | L32: =SUM(L60,L88,L137) -> 0.2617328 | M32: =SUM(M60,M88,M137) -> 0.22431116 | N32: =O32+P32 -> 0.020791934 | O32: =SUM(O60,O88,O137) -> 0.020791934 | P32: =SUM(P60,P88,P137) -> 0 | Q32: =SUM(Q60,Q88,Q137) -> 0.025299405
B33: A.5.2. | C33: kitos transporto priemonės (transportas dumblui, vandeniui vežti, autobusai žmonėms vežti) | D33: =O33+E33+I33+M33+P33+Q33 -> 66.027931 | E33: =SUM(F33:H33) -> 0.093262043 | F33: =SUM(F61,F89,F138) -> 0.0050818249 | G33: =SUM(G61,G89,G138) -> 0.011399706 | H33: =SUM(H61,H89,H138) -> 0.076780512 | I33: =SUM(J33:L33) -> 65.925485 | J33: =SUM(J61,J89,J138) -> 65.841253 | K33: =SUM(K61,K89,K138) -> 0.075342016 | L33: =SUM(L61,L89,L138) -> 0.0088895563 | M33: =SUM(M61,M89,M138) -> 0.0076185586 | N33: =O33+P33 -> 0.00070618228 | O33: =SUM(O61,O89,O138) -> 0.00070618228 | P33: =SUM(P61,P89,P138) -> 0 | Q33: =SUM(Q61,Q89,Q138) -> 0.00085927511
B34: A.6. | C34: KITAS ILGALAIKIS TURTAS | D34: =O34+E34+I34+M34+P34+Q34 -> 7.4829729 | E34: =SUM(F34:H34) -> 0.019626014 | F34: =SUM(F35:F37) -> 0.0010694165 | G34: =SUM(G35:G37) -> 0.002398948 | H34: =SUM(H35:H37) -> 0.01615765 | I34: =SUM(J34:L34) -> 7.4614142 | J34: =SUM(J35:J37) -> 0.028844945 | K34: =SUM(K35:K37) -> 7.4306985 | L34: =SUM(L35:L37) -> 0.0018707135 | M34: =SUM(M35:M37) -> 0.0016032454 | N34: =O34+P34 -> 0.00014860862 | O34: =SUM(O35:O37) -> 0.00014860862 | P34: =SUM(P35:P37) -> 0 | Q34: =SUM(Q35:Q37) -> 0.00018082539
B35: A.6.1. | C35: žemė | D35: =O35+E35+I35+M35+P35+Q35 -> 7.2405 | E35: =SUM(F35:H35) -> 0 | F35: =SUM(F63,F91,F140) -> 0 | G35: =SUM(G63,G91,G140) -> 0 | H35: =SUM(H63,H91,H140) -> 0 | I35: =SUM(J35:L35) -> 7.2405 | J35: =SUM(J63,J91,J140) -> 0 | K35: =SUM(K63,K91,K140) -> 7.2405 | L35: =SUM(L63,L91,L140) -> 0 | M35: =SUM(M63,M91,M140) -> 0 | N35: =O35+P35 -> 0 | O35: =SUM(O63,O91,O140) -> 0 | P35: =SUM(P63,P91,P140) -> 0 | Q35: =SUM(Q63,Q91,Q140) -> 0
B36: A.6.2. | C36: Kompiuteriai, kompiuteriniai tinklai ir jų įranga | D36: =O36+E36+I36+M36+P36+Q36 -> 0.24247288 | E36: =SUM(F36:H36) -> 0.019626014 | F36: =SUM(F64,F92,F141) -> 0.0010694165 | G36: =SUM(G64,G92,G141) -> 0.002398948 | H36: =SUM(H64,H92,H141) -> 0.01615765 | I36: =SUM(J36:L36) -> 0.22091419 | J36: =SUM(J64,J92,J141) -> 0.028844945 | K36: =SUM(K64,K92,K141) -> 0.19019853 | L36: =SUM(L64,L92,L141) -> 0.0018707135 | M36: =SUM(M64,M92,M141) -> 0.0016032454 | N36: =O36+P36 -> 0.00014860862 | O36: =SUM(O64,O92,O141) -> 0.00014860862 | P36: =SUM(P64,P92,P141) -> 0 | Q36: =SUM(Q64,Q92,Q141) -> 0.00018082539
B37: A.6.3. | D37: =O37+E37+I37+M37+P37+Q37 -> 0 | E37: =SUM(F37:H37) -> 0 | F37: =SUM(F65,F93,F142) -> 0 | G37: =SUM(G65,G93,G142) -> 0 | H37: =SUM(H65,H93,H142) -> 0 | I37: =SUM(J37:L37) -> 0 | J37: =SUM(J65,J93,J142) -> 0 | K37: =SUM(K65,K93,K142) -> 0 | L37: =SUM(L65,L93,L142) -> 0 | M37: =SUM(M65,M93,M142) -> 0 | N37: =O37+P37 -> 0 | O37: =SUM(O65,O93,O142) -> 0 | P37: =SUM(P65,P93,P142) -> 0 | Q37: =SUM(Q65,Q93,Q142) -> 0
B38: B. | C38: TIESIOGIAI PASKIRSTOMAS ILGALAIKIS TURTAS | D38: =O38+E38+I38+M38+P38+Q38 -> 3657.3533 | E38: =E39+E43+E50+E53+E59+E62 -> 1481.731 | F38: =F39+F43+F50+F53+F59+F62 -> 99.261137 | G38: =G39+G43+G50+G53+G59+G62 -> 407.68354 | H38: =H39+H43+H50+H53+H59+H62 -> 974.78629 | I38: =I39+I43+I50+I53+I59+I62 -> 2114.3482 | J38: =J39+J43+J50+J53+J59+J62 -> 1563.1691 | K38: =K39+K43+K50+K53+K59+K62 -> 496.44176 | L38: =L39+L43+L50+L53+L59+L62 -> 54.737339 | M38: =M39+M43+M50+M53+M59+M62 -> 0.6460619 | N38: =O38+P38 -> 60.628131 | O38: =O39+O43+O50+O53+O59+O62 -> 60.628131 | P38: =P39+P43+P50+P53+P59+P62 -> 0 | Q38: =Q39+Q43+Q50+Q53+Q59+Q62 -> 0
B39: B.1. | C39: NEMATERIALUSIS TURTAS | D39: =O39+E39+I39+M39+P39+Q39 -> 0 | E39: =SUM(F39:H39) -> 0 | F39: =SUM(F40:F42) -> 0 | G39: =SUM(G40:G42) -> 0 | H39: =SUM(H40:H42) -> 0 | I39: =SUM(J39:L39) -> 0 | J39: =SUM(J40:J42) -> 0 | K39: =SUM(K40:K42) -> 0 | L39: =SUM(L40:L42) -> 0 | M39: =SUM(M40:M42) -> 0 | N39: =O39+P39 -> 0 | O39: =SUM(O40:O42) -> 0 | P39: =SUM(P40:P42) -> 0 | Q39: =SUM(Q40:Q42) -> 0
B40: B.1.1. | C40: standartinė programinė įranga | D40: =O40+E40+I40+M40+P40+Q40 -> 0 | E40: =SUM(F40:H40) -> 0 | F40: 0 | G40: 0 | H40: 0 | I40: =SUM(J40:L40) -> 0 | J40: 0 | K40: 0 | L40: 0 | M40: 0 | N40: =O40+P40 -> 0 | O40: 0 | P40: 0 | Q40: 0 | R40: I.1.standartinė programinė įranga
B41: B.1.2. | C41: spec. programinė įranga | D41: =O41+E41+I41+M41+P41+Q41 -> 0 | E41: =SUM(F41:H41) -> 0 | F41: 0 | G41: 0 | H41: 0 | I41: =SUM(J41:L41) -> 0 | J41: 0 | K41: 0 | L41: 0 | M41: 0 | N41: =O41+P41 -> 0 | O41: 0 | P41: 0 | Q41: 0 | R41: I.1.spec. programinė įranga
B42: B.1.3. | C42: kitas nematerialus turtas | D42: =O42+E42+I42+M42+P42+Q42 -> 0 | E42: =SUM(F42:H42) -> 0 | F42: 0 | G42: 0 | H42: 0 | I42: =SUM(J42:L42) -> 0 | J42: 0 | K42: 0 | L42: 0 | M42: 0 | N42: =O42+P42 -> 0 | O42: 0 | P42: 0 | Q42: 0 | R42: I.1.kitas nematerialus turtas
B43: B.2. | C43: PASTATAI IR STATINIAI | D43: =O43+E43+I43+M43+P43+Q43 -> 3463.6808 | E43: =SUM(F43:H43) -> 1459.4798 | F43: =SUM(F44:F49) -> 97.5233 | G43: =SUM(G44:G49) -> 407.68354 | H43: =SUM(H44:H49) -> 954.27298 | I43: =SUM(J43:L43) -> 2003.5549 | J43: =SUM(J44:J49) -> 1478.4287 | K43: =SUM(K44:K49) -> 470.38882 | L43: =SUM(L44:L49) -> 54.737339 | M43: =SUM(M44:M49) -> 0.6460619 | N43: =O43+P43 -> 0 | O43: =SUM(O44:O49) -> 0 | P43: =SUM(P44:P49) -> 0 | Q43: =SUM(Q44:Q49) -> 0
B44: B.2.1. | C44: Pastatai (administraciniai, gamybiniai-ūkiniai ir pan.) | D44: =O44+E44+I44+M44+P44+Q44 -> 361.66591 | E44: =SUM(F44:H44) -> 30.969304 | F44: 7.5823786 | G44: 23.386925 | H44: 0 | I44: =SUM(J44:L44) -> 330.6966 | J44: 1.2526375 | K44: 329.44397 | L44: 0 | M44: 0 | N44: =O44+P44 -> 0 | O44: 0 | P44: 0 | Q44: 0 | R44: II.2.1.Pastatai
B45: B.2.2. | C45: keliai, aikštelės, šaligatviai ir tvoros | D45: =O45+E45+I45+M45+P45+Q45 -> 3.788544 | E45: =SUM(F45:H45) -> 0 | F45: 0 | G45: 0 | H45: 0 | I45: =SUM(J45:L45) -> 3.788544 | J45: 0 | K45: 3.788544 | L45: 0 | M45: 0 | N45: =O45+P45 -> 0 | O45: 0 | P45: 0 | Q45: 0 | R45: II.2.2.1.keliai | S45: II.2.2.2.aikštelės | T45: II.2.2.3.šaligatviai | U45: II.2.2.4.tvoros
B46: B.2.3. | C46: geriamojo vandens tiekimo ir nuotekų surinkimo vamzdynai | D46: =O46+E46+I46+M46+P46+Q46 -> 2373.3109 | E46: =SUM(F46:H46) -> 924.32365 | F46: 0 | G46: 0 | H46: 924.32365 | I46: =SUM(J46:L46) -> 1448.3412 | J46: 1448.3412 | K46: 0 | L46: 0 | M46: 0.6460619 | N46: =O46+P46 -> 0 | O46: 0 | P46: 0 | Q46: 0 | R46: II.2.3.vamzdynai
B47: B.2.4. | C47: šilumos ir karšto vandens tiekimo vamzdynai | D47: =O47+E47+I47+M47+P47+Q47 -> 0 | E47: =SUM(F47:H47) -> 0 | F47: 0 | G47: 0 | H47: 0 | I47: =SUM(J47:L47) -> 0 | J47: 0 | K47: 0 | L47: 0 | M47: 0 | N47: =O47+P47 -> 0 | O47: 0 | P47: 0 | Q47: 0 | R47: II.2.4.ŠIL_KV vamzdynai
B48: B.2.5. | C48: saulės šviesos elektrinės | D48: =O48+E48+I48+M48+P48+Q48 -> 0 | E48: =SUM(F48:H48) -> 0 | F48: 0 | G48: 0 | H48: 0 | I48: =SUM(J48:L48) -> 0 | J48: 0 | K48: 0 | L48: 0 | M48: 0 | N48: =O48+P48 -> 0 | O48: 0 | P48: 0 | Q48: 0 | R48: II.2.5.saulės elektrinė
B49: B.2.6. | C49: Kiti įrenginiai (vandentiekio įrenginiai, nusodintuvai, diukeriai, vandens rezervuarai, gelžbetoniniai metantankai, smėlio gaudytuvai, aerotankai, nusodintuvai, nuotekų valymo flotatoriai, dumblo aikštelės ir kt.) | D49: =O49+E49+I49+M49+P49+Q49 -> 724.91541 | E49: =SUM(F49:H49) -> 504.18687 | F49: 89.940921 | G49: 384.29662 | H49: 29.94933 | I49: =SUM(J49:L49) -> 220.72854 | J49: 28.834884 | K49: 137.15631 | L49: 54.737339 | M49: 0 | N49: =O49+P49 -> 0 | O49: 0 | P49: 0 | Q49: 0 | R49: II.2.6.Kiti įrenginiai
B50: B.3. | C50: MAŠINOS IR ĮRANGA | D50: =O50+E50+I50+M50+P50+Q50 -> 57.745889 | E50: =SUM(F50:H50) -> 20.253441 | F50: =SUM(F51:F52) -> 1.7378375 | G50: =SUM(G51:G52) -> 0 | H50: =SUM(H51:H52) -> 18.515603 | I50: =SUM(J50:L50) -> 37.492449 | J50: =SUM(J51:J52) -> 19.036176 | K50: =SUM(K51:K52) -> 18.456273 | L50: =SUM(L51:L52) -> 0 | M50: =SUM(M51:M52) -> 0 | N50: =O50+P50 -> 0 | O50: =SUM(O51:O52) -> 0 | P50: =SUM(P51:P52) -> 0 | Q50: =SUM(Q51:Q52) -> 0
B51: B.3.1. | C51: vandens siurbliai, nuotekų ir dumblo siurbliai virš 5 kW, kita įranga ( siurblių valdymo įranga, elektrotechninė įranga, stacionarios ir mobilios darbo bei hidrodinaminės mašinos, staklės, sklendės, grotelės, grėbliai, grandikliai, filtrai, centrifugos) | D51: =O51+E51+I51+M51+P51+Q51 -> 56.419015 | E51: =SUM(F51:H51) -> 20.253441 | F51: 1.7378375 | G51: 0 | H51: 18.515603 | I51: =SUM(J51:L51) -> 36.165575 | J51: 18.337671 | K51: 17.827904 | L51: 0 | M51: 0 | N51: =O51+P51 -> 0 | O51: 0 | P51: 0 | Q51: 0 | R51: II.3.1.vandens siurbliai, nuotekų ir dumblo siurbliai virš 5 kW, kita įranga
B52: B.3.2. | C52: nuotekų ir dumblo siurbliai iki 5 kW | D52: =O52+E52+I52+M52+P52+Q52 -> 1.326874 | E52: =SUM(F52:H52) -> 0 | F52: 0 | G52: 0 | H52: 0 | I52: =SUM(J52:L52) -> 1.326874 | J52: 0.698505 | K52: 0.628369 | L52: 0 | M52: 0 | N52: =O52+P52 -> 0 | O52: 0 | P52: 0 | Q52: 0 | R52: II.3.2.nuotekų ir dumblo siurbliai iki 5 kW
B53: B.4. | C53: KITI ĮRENGINIAI, PRIETAISAI IR ĮRANKIAI | D53: =O53+E53+I53+M53+P53+Q53 -> 62.807658 | E53: =SUM(F53:H53) -> 1.9977083 | F53: =SUM(F54:F58) -> 0 | G53: =SUM(G54:G58) -> 0 | H53: =SUM(H54:H58) -> 1.9977083 | I53: =SUM(J53:L53) -> 0.18181778 | J53: =SUM(J54:J58) -> 0 | K53: =SUM(K54:K58) -> 0.18181778 | L53: =SUM(L54:L58) -> 0 | M53: =SUM(M54:M58) -> 0 | N53: =O53+P53 -> 60.628131 | O53: =SUM(O54:O58) -> 60.628131 | P53: =SUM(P54:P58) -> 0 | Q53: =SUM(Q54:Q58) -> 0
B54: B.4.1. | C54: geriamojo vandens apskaitos prietaisai | D54: =O54+E54+I54+M54+P54+Q54 -> 60.628131 | E54: =SUM(F54:H54) -> 0 | F54: 0 | G54: 0 | H54: 0 | I54: =SUM(J54:L54) -> 0 | J54: 0 | K54: 0 | L54: 0 | M54: 0 | N54: =O54+P54 -> 60.628131 | O54: 60.628131 | P54: 0 | Q54: 0 | R54: II.4.1. pas klientus įrengti apskaitos prietaisai
B55: B.4.2. | C55: atsiskaitomieji karšto vandens apskaitos prietaisai | D55: =O55+E55+I55+M55+P55+Q55 -> 0 | E55: =SUM(F55:H55) -> 0 | F55: 0 | G55: 0 | H55: 0 | I55: =SUM(J55:L55) -> 0 | J55: 0 | K55: 0 | L55: 0 | M55: 0 | N55: =O55+P55 -> 0 | O55: 0 | P55: 0 | Q55: 0 | R55: II.4.2. KV apskaitos prietaisai
B56: B.4.3. | C56: šilumos (atsiskaitomieji ir neatsiskaitomieji) apskaitos prietaisai | D56: =O56+E56+I56+M56+P56+Q56 -> 0 | E56: =SUM(F56:H56) -> 0 | F56: 0 | G56: 0 | H56: 0 | I56: =SUM(J56:L56) -> 0 | J56: 0 | K56: 0 | L56: 0 | M56: 0 | N56: =O56+P56 -> 0 | O56: 0 | P56: 0 | Q56: 0 | R56: II.4.3. ŠIL apskaitos prietaisai
B57: B.4.4. | C57: kiti geriamojo vandens ir nuotekų apskaitos prietaisai (įrengti gręžiniuose, įrenginiuose ir.t.t) | D57: =O57+E57+I57+M57+P57+Q57 -> 0 | E57: =SUM(F57:H57) -> 0 | F57: 0 | G57: 0 | H57: 0 | I57: =SUM(J57:L57) -> 0 | J57: 0 | K57: 0 | L57: 0 | M57: 0 | N57: =O57+P57 -> 0 | O57: 0 | P57: 0 | Q57: 0 | R57: II.4.4. kiti apskaitos prietaisai
B58: B.4.5. | C58: įrankiai (matavimo priemonės, elektriniai įrankiai ir prietaisai, gamybinis inventorius ir kt.) | D58: =O58+E58+I58+M58+P58+Q58 -> 2.1795261 | E58: =SUM(F58:H58) -> 1.9977083 | F58: 0 | G58: 0 | H58: 1.9977083 | I58: =SUM(J58:L58) -> 0.18181778 | J58: 0 | K58: 0.18181778 | L58: 0 | M58: 0 | N58: =O58+P58 -> 0 | O58: 0 | P58: 0 | Q58: 0 | R58: II.4.5. įrankiai
B59: B.5. | C59: TRANSPORTO PRIEMONĖS | D59: =O59+E59+I59+M59+P59+Q59 -> 65.704183 | E59: =SUM(F59:H59) -> 0 | F59: =SUM(F60:F61) -> 0 | G59: =SUM(G60:G61) -> 0 | H59: =SUM(H60:H61) -> 0 | I59: =SUM(J59:L59) -> 65.704183 | J59: =SUM(J60:J61) -> 65.704183 | K59: =SUM(K60:K61) -> 0 | L59: =SUM(L60:L61) -> 0 | M59: =SUM(M60:M61) -> 0 | N59: =O59+P59 -> 0 | O59: =SUM(O60:O61) -> 0 | P59: =SUM(P60:P61) -> 0 | Q59: =SUM(Q60:Q61) -> 0
B60: B.5.1. | C60: lengvieji automobiliai | D60: =O60+E60+I60+M60+P60+Q60 -> 0 | E60: =SUM(F60:H60) -> 0 | F60: 0 | G60: 0 | H60: 0 | I60: =SUM(J60:L60) -> 0 | J60: 0 | K60: 0 | L60: 0 | M60: 0 | N60: =O60+P60 -> 0 | O60: 0 | P60: 0 | Q60: 0 | R60: II.5.1.lengvieji automobiliai
B61: B.5.2. | C61: kitos transporto priemonės (transportas dumblui, vandeniui vežti, autobusai žmonėms vežti) | D61: =O61+E61+I61+M61+P61+Q61 -> 65.704183 | E61: =SUM(F61:H61) -> 0 | F61: 0 | G61: 0 | H61: 0 | I61: =SUM(J61:L61) -> 65.704183 | J61: 65.704183 | K61: 0 | L61: 0 | M61: 0 | N61: =O61+P61 -> 0 | O61: 0 | P61: 0 | Q61: 0 | R61: II.5.2.kitos transporto priemonės
B62: B.6. | C62: KITAS ILGALAIKIS TURTAS | D62: =O62+E62+I62+M62+P62+Q62 -> 7.4148436 | E62: =SUM(F62:H62) -> 0 | F62: =SUM(F63:F65) -> 0 | G62: =SUM(G63:G65) -> 0 | H62: =SUM(H63:H65) -> 0 | I62: =SUM(J62:L62) -> 7.4148436 | J62: =SUM(J63:J65) -> 0 | K62: =SUM(K63:K65) -> 7.4148436 | L62: =SUM(L63:L65) -> 0 | M62: =SUM(M63:M65) -> 0 | N62: =O62+P62 -> 0 | O62: =SUM(O63:O65) -> 0 | P62: =SUM(P63:P65) -> 0 | Q62: =SUM(Q63:Q65) -> 0
B63: B.6.1. | C63: žemė | D63: =O63+E63+I63+M63+P63+Q63 -> 7.2405 | E63: =SUM(F63:H63) -> 0 | F63: 0 | G63: 0 | H63: 0 | I63: =SUM(J63:L63) -> 7.2405 | J63: 0 | K63: 7.2405 | L63: 0 | M63: 0 | N63: =O63+P63 -> 0 | O63: 0 | P63: 0 | Q63: 0 | R63: II.6.1. žemė
B64: B.6.2. | C64: Kompiuteriai, kompiuteriniai tinklai ir jų įranga | D64: =O64+E64+I64+M64+P64+Q64 -> 0.17434359 | E64: =SUM(F64:H64) -> 0 | F64: 0 | G64: 0 | H64: 0 | I64: =SUM(J64:L64) -> 0.17434359 | J64: 0 | K64: 0.17434359 | L64: 0 | M64: 0 | N64: =O64+P64 -> 0 | O64: 0 | P64: 0 | Q64: 0 | R64: II.6.2. Kompiuteriai, kompiuteriniai tinklai ir jų įranga
B65: B.6.3. | D65: =O65+E65+I65+M65+P65+Q65 -> 0 | E65: =SUM(F65:H65) -> 0 | F65: 0 | G65: 0 | H65: 0 | I65: =SUM(J65:L65) -> 0 | J65: 0 | K65: 0 | L65: 0 | M65: 0 | N65: =O65+P65 -> 0 | O65: 0 | P65: 0 | Q65: 0 | R65: II.6.3.
A66: Netiesioginės sąnaudos | B66: C. | C66: NETIESIOGIAI PASKIRSTOMAS ILGALAIKIS TURTAS | D66: =D67+D71+D78+D81+D87+D90 -> 61.819065 | E66: =E67+E71+E78+E81+E87+E90 -> 17.808228 | F66: =F67+F71+F78+F81+F87+F90 -> 0.97036579 | G66: =G67+G71+G78+G81+G87+G90 -> 2.1767544 | H66: =H67+H71+H78+H81+H87+H90 -> 14.661108 | I66: =I67+I71+I78+I81+I87+I90 -> 42.257164 | J66: =J67+J71+J78+J81+J87+J90 -> 26.173289 | K66: =K67+K71+K78+K81+K87+K90 -> 14.386429 | ... M66: =M67+M71+M78+M81+M87+M90 -> 1.4547508 | N66: =O66+P66 -> 0.1348443 | O66: =O67+O71+O78+O81+O87+O90 -> 0.1348443 | P66: =P67+P71+P78+P81+P87+P90 -> 0 | Q66: =Q67+Q71+Q78+Q81+Q87+Q90 -> 0.16407712
B67: C.1. | C67: NEMATERIALUSIS TURTAS | D67: =SUM(D68:D70) -> 0 | E67: =SUM(F67:H67) -> 0 | F67: =SUM(F68:F70) -> 0 | G67: =SUM(G68:G70) -> 0 | H67: =SUM(H68:H70) -> 0 | I67: =SUM(J67:L67) -> 0 | J67: =SUM(J68:J70) -> 0 | K67: =SUM(K68:K70) -> 0 | L67: =SUM(L68:L70) -> 0 | M67: =SUM(M68:M70) -> 0 | N67: =O67+P67 -> 0 | O67: =SUM(O68:O70) -> 0 | P67: =SUM(P68:P70) -> 0 | Q67: =SUM(Q68:Q70) -> 0
B68: C.1.1. | C68: standartinė programinė įranga | D68: 0 | E68: =SUM(F68:H68) -> 0 | F68: =IFERROR($D68*F95/100, 0) -> 0 | G68: =IFERROR($D68*G95/100, 0) -> 0 | H68: =IFERROR($D68*H95/100, 0) -> 0 | I68: =SUM(J68:L68) -> 0 | J68: =IFERROR($D68*J95/100, 0) -> 0 | K68: =IFERROR($D68*K95/100, 0) -> 0 | L68: =IFERROR($D68*L95/100, 0) -> 0 | M68: =IFERROR($D68*M95/100, 0) -> 0 | N68: =O68+P68 -> 0 | O68: =IFERROR($D68*O95/100, 0) -> 0 | P68: =IFERROR($D68*P95/100, 0) -> 0 | Q68: =IFERROR($D68*Q95/100, 0) -> 0 | R68: I.1.standartinė programinė įranga
B69: C.1.2. | C69: spec. programinė įranga | D69: 0 | E69: =SUM(F69:H69) -> 0 | F69: =IFERROR($D69*F96/100, 0) -> 0 | G69: =IFERROR($D69*G96/100, 0) -> 0 | H69: =IFERROR($D69*H96/100, 0) -> 0 | I69: =SUM(J69:L69) -> 0 | J69: =IFERROR($D69*J96/100, 0) -> 0 | K69: =IFERROR($D69*K96/100, 0) -> 0 | L69: =IFERROR($D69*L96/100, 0) -> 0 | M69: =IFERROR($D69*M96/100, 0) -> 0 | N69: =O69+P69 -> 0 | O69: =IFERROR($D69*O96/100, 0) -> 0 | P69: =IFERROR($D69*P96/100, 0) -> 0 | Q69: =IFERROR($D69*Q96/100, 0) -> 0 | R69: I.1.spec. programinė įranga
B70: C.1.3. | C70: kitas nematerialus turtas | D70: 0 | E70: =SUM(F70:H70) -> 0 | F70: =IFERROR($D70*F97/100, 0) -> 0 | G70: =IFERROR($D70*G97/100, 0) -> 0 | H70: =IFERROR($D70*H97/100, 0) -> 0 | I70: =SUM(J70:L70) -> 0 | J70: =IFERROR($D70*J97/100, 0) -> 0 | K70: =IFERROR($D70*K97/100, 0) -> 0 | L70: =IFERROR($D70*L97/100, 0) -> 0 | M70: =IFERROR($D70*M97/100, 0) -> 0 | N70: =O70+P70 -> 0 | O70: =IFERROR($D70*O97/100, 0) -> 0 | P70: =IFERROR($D70*P97/100, 0) -> 0 | Q70: =IFERROR($D70*Q97/100, 0) -> 0 | R70: I.1.kitas nematerialus turtas
B71: C.2. | C71: PASTATAI IR STATINIAI | D71: =SUM(D72:D77) -> 47.727525 | E71: =SUM(F71:H71) -> 13.748876 | F71: =SUM(F72:F77) -> 0.74917273 | G71: =SUM(G72:G77) -> 1.6805673 | H71: =SUM(H72:H77) -> 11.319136 | I71: =SUM(J71:L71) -> 32.624723 | J71: =SUM(J72:J77) -> 20.207137 | K71: =SUM(K72:K77) -> 11.10707 | L71: =SUM(L72:L77) -> 1.3105161 | M71: =SUM(M72:M77) -> 1.1231431 | N71: =O71+P71 -> 0.1041068 | O71: =SUM(O72:O77) -> 0.1041068 | P71: =SUM(P72:P77) -> 0 | Q71: =SUM(Q72:Q77) -> 0.12667605
B72: C.2.1. | C72: Pastatai (administraciniai, gamybiniai-ūkiniai ir pan.) | D72: 42.467308 | E72: =SUM(F72:H72) -> 12.233564 | F72: =IFERROR($D72*F98/100, 0) -> 0.6666038 | G72: =IFERROR($D72*G98/100, 0) -> 1.4953461 | H72: =IFERROR($D72*H98/100, 0) -> 10.071614 | I72: =SUM(J72:L72) -> 29.029039 | J72: =IFERROR($D72*J98/100, 0) -> 17.980038 | K72: =IFERROR($D72*K98/100, 0) -> 9.8829209 | L72: =IFERROR($D72*L98/100, 0) -> 1.1660795 | M72: =IFERROR($D72*M98/100, 0) -> 0.99935756 | N72: =O72+P72 -> 0.092632823 | O72: =IFERROR($D72*O98/100, 0) -> 0.092632823 | P72: =IFERROR($D72*P98/100, 0) -> 0 | Q72: =IFERROR($D72*Q98/100, 0) -> 0.11271464 | R72: II.2.1.Pastatai
B73: C.2.2. | C73: keliai, aikštelės, šaligatviai ir tvoros | D73: 0 | E73: =SUM(F73:H73) -> 0 | F73: =IFERROR($D73*F99/100, 0) -> 0 | G73: =IFERROR($D73*G99/100, 0) -> 0 | H73: =IFERROR($D73*H99/100, 0) -> 0 | I73: =SUM(J73:L73) -> 0 | J73: =IFERROR($D73*J99/100, 0) -> 0 | K73: =IFERROR($D73*K99/100, 0) -> 0 | L73: =IFERROR($D73*L99/100, 0) -> 0 | M73: =IFERROR($D73*M99/100, 0) -> 0 | N73: =O73+P73 -> 0 | O73: =IFERROR($D73*O99/100, 0) -> 0 | P73: =IFERROR($D73*P99/100, 0) -> 0 | Q73: =IFERROR($D73*Q99/100, 0) -> 0 | R73: II.2.2.1.keliai | S73: II.2.2.2.aikštelės | T73: II.2.2.3.šaligatviai | U73: II.2.2.4.tvoros
B74: C.2.3. | C74: geriamojo vandens tiekimo ir nuotekų surinkimo vamzdynai | D74: 0 | E74: =SUM(F74:H74) -> 0 | F74: =IFERROR($D74*F100/100, 0) -> 0 | G74: =IFERROR($D74*G100/100, 0) -> 0 | H74: =IFERROR($D74*H100/100, 0) -> 0 | I74: =SUM(J74:L74) -> 0 | J74: =IFERROR($D74*J100/100, 0) -> 0 | K74: =IFERROR($D74*K100/100, 0) -> 0 | L74: =IFERROR($D74*L100/100, 0) -> 0 | M74: =IFERROR($D74*M100/100, 0) -> 0 | N74: =O74+P74 -> 0 | O74: =IFERROR($D74*O100/100, 0) -> 0 | P74: =IFERROR($D74*P100/100, 0) -> 0 | Q74: =IFERROR($D74*Q100/100, 0) -> 0 | R74: II.2.3.vamzdynai
B75: C.2.4. | C75: šilumos ir karšto vandens tiekimo vamzdynai | D75: 0 | E75: =SUM(F75:H75) -> 0 | F75: =IFERROR($D75*F101/100, 0) -> 0 | G75: =IFERROR($D75*G101/100, 0) -> 0 | H75: =IFERROR($D75*H101/100, 0) -> 0 | I75: =SUM(J75:L75) -> 0 | J75: =IFERROR($D75*J101/100, 0) -> 0 | K75: =IFERROR($D75*K101/100, 0) -> 0 | L75: =IFERROR($D75*L101/100, 0) -> 0 | M75: =IFERROR($D75*M101/100, 0) -> 0 | N75: =O75+P75 -> 0 | O75: =IFERROR($D75*O101/100, 0) -> 0 | P75: =IFERROR($D75*P101/100, 0) -> 0 | Q75: =IFERROR($D75*Q101/100, 0) -> 0 | R75: II.2.4.ŠIL_KV vamzdynai
B76: C.2.5. | C76: saulės šviesos elektrinės | D76: 0 | E76: =SUM(F76:H76) -> 0 | F76: =IFERROR($D76*F102/100, 0) -> 0 | G76: =IFERROR($D76*G102/100, 0) -> 0 | H76: =IFERROR($D76*H102/100, 0) -> 0 | I76: =SUM(J76:L76) -> 0 | J76: =IFERROR($D76*J102/100, 0) -> 0 | K76: =IFERROR($D76*K102/100, 0) -> 0 | L76: =IFERROR($D76*L102/100, 0) -> 0 | M76: =IFERROR($D76*M102/100, 0) -> 0 | N76: =O76+P76 -> 0 | O76: =IFERROR($D76*O102/100, 0) -> 0 | P76: =IFERROR($D76*P102/100, 0) -> 0 | Q76: =IFERROR($D76*Q102/100, 0) -> 0 | R76: II.2.5.saulės elektrinė
B77: C.2.6. | C77: Kiti įrenginiai (vandentiekio įrenginiai, nusodintuvai, diukeriai, vandens rezervuarai, gelžbetoniniai metantankai, smėlio gaudytuvai, aerotankai, nusodintuvai, nuotekų valymo flotatoriai, dumblo aikštelės ir kt.) | D77: 5.2602166 | E77: =SUM(F77:H77) -> 1.5153115 | F77: =IFERROR($D77*F103/100, 0) -> 0.082568934 | G77: =IFERROR($D77*G103/100, 0) -> 0.18522117 | H77: =IFERROR($D77*H103/100, 0) -> 1.2475214 | I77: =SUM(J77:L77) -> 3.5956843 | J77: =IFERROR($D77*J103/100, 0) -> 2.2270989 | K77: =IFERROR($D77*K103/100, 0) -> 1.2241488 | L77: =IFERROR($D77*L103/100, 0) -> 0.14443654 | M77: =IFERROR($D77*M103/100, 0) -> 0.12378551 | N77: =O77+P77 -> 0.011473972 | O77: =IFERROR($D77*O103/100, 0) -> 0.011473972 | P77: =IFERROR($D77*P103/100, 0) -> 0 | Q77: =IFERROR($D77*Q103/100, 0) -> 0.013961408 | R77: II.2.6.Kiti įrenginiai
B78: C.3. | C78: MAŠINOS IR ĮRANGA | D78: =D79+D80 -> 1.2104517 | E78: =SUM(F78:H78) -> 0.34869501 | F78: =F79+F80 -> 0.019000302 | G78: =G79+G80 -> 0.042622061 | H78: =H79+H80 -> 0.28707264 | I78: =SUM(J78:L78) -> 0.82741878 | J78: =J79+J80 -> 0.51248756 | K78: =K79+K80 -> 0.28169429 | L78: =L79+L80 -> 0.033236929 | M78: =M79+M80 -> 0.028484829 | N78: =O78+P78 -> 0.0026403264 | O78: =O79+O80 -> 0.0026403264 | P78: =P79+P80 -> 0 | Q78: =Q79+Q80 -> 0.0032127212
B79: C.3.1. | C79: vandens siurbliai, nuotekų ir dumblo siurbliai virš 5 kW, kita įranga ( siurblių valdymo įranga, elektrotechninė įranga, stacionarios ir mobilios darbo bei hidrodinaminės mašinos, staklės, sklendės, grotelės, grėbliai, grandikliai, filtrai, centrifugos) | D79: 1.2104517 | E79: =SUM(F79:H79) -> 0.34869501 | F79: =IFERROR($D79*F104/100, 0) -> 0.019000302 | G79: =IFERROR($D79*G104/100, 0) -> 0.042622061 | H79: =IFERROR($D79*H104/100, 0) -> 0.28707264 | I79: =SUM(J79:L79) -> 0.82741878 | J79: =IFERROR($D79*J104/100, 0) -> 0.51248756 | K79: =IFERROR($D79*K104/100, 0) -> 0.28169429 | L79: =IFERROR($D79*L104/100, 0) -> 0.033236929 | M79: =IFERROR($D79*M104/100, 0) -> 0.028484829 | N79: =O79+P79 -> 0.0026403264 | O79: =IFERROR($D79*O104/100, 0) -> 0.0026403264 | P79: =IFERROR($D79*P104/100, 0) -> 0 | Q79: =IFERROR($D79*Q104/100, 0) -> 0.0032127212 | R79: II.3.1.vandens siurbliai, nuotekų ir dumblo siurbliai virš 5 kW, kita įranga
B80: C.3.2. | C80: nuotekų ir dumblo siurbliai iki 5 kW | D80: 0 | E80: =SUM(F80:H80) -> 0 | F80: =IFERROR($D80*F105/100, 0) -> 0 | G80: =IFERROR($D80*G105/100, 0) -> 0 | H80: =IFERROR($D80*H105/100, 0) -> 0 | I80: =SUM(J80:L80) -> 0 | J80: =IFERROR($D80*J105/100, 0) -> 0 | K80: =IFERROR($D80*K105/100, 0) -> 0 | L80: =IFERROR($D80*L105/100, 0) -> 0 | M80: =IFERROR($D80*M105/100, 0) -> 0 | N80: =O80+P80 -> 0 | O80: =IFERROR($D80*O105/100, 0) -> 0 | P80: =IFERROR($D80*P105/100, 0) -> 0 | Q80: =IFERROR($D80*Q105/100, 0) -> 0 | R80: II.3.2.nuotekų ir dumblo siurbliai iki 5 kW
B81: C.4. | C81: KITI ĮRENGINIAI, PRIETAISAI IR ĮRANKIAI | D81: =D82+D86 -> 2.9571962 | E81: =SUM(F81:H81) -> 0.85188 | F81: =F82+F86 -> 0.046418724 | G81: =G82+G86 -> 0.10412791 | H81: =H82+H86 -> 0.70133337 | I81: =SUM(J81:L81) -> 2.021427 | J81: =J82+J86 -> 1.2520337 | K81: =K82+K86 -> 0.68819377 | L81: =L82+L86 -> 0.081199543 | M81: =M82+M86 -> 0.069589916 | N81: =O81+P81 -> 0.0064504545 | O81: =O82+O86 -> 0.0064504545 | P81: =P82+P86 -> 0 | Q81: =Q82+Q86 -> 0.0078488446
B82: C.4.1. | C82: geriamojo vandens apskaitos prietaisai | D82: 0 | E82: =SUM(F82:H82) -> 0 | F82: =IFERROR($D82*F106/100, 0) -> 0 | G82: =IFERROR($D82*G106/100, 0) -> 0 | H82: =IFERROR($D82*H106/100, 0) -> 0 | I82: =SUM(J82:L82) -> 0 | J82: =IFERROR($D82*J106/100, 0) -> 0 | K82: =IFERROR($D82*K106/100, 0) -> 0 | L82: =IFERROR($D82*L106/100, 0) -> 0 | M82: =IFERROR($D82*M106/100, 0) -> 0 | N82: =O82+P82 -> 0 | O82: =IFERROR($D82*O106/100, 0) -> 0 | P82: =IFERROR($D82*P106/100, 0) -> 0 | Q82: =IFERROR($D82*Q106/100, 0) -> 0 | R82: II.4.1. pas klientus įrengti apskaitos prietaisai
B83: C.4.2. | C83: atsiskaitomieji karšto vandens apskaitos prietaisai | D83: 0 | E83: =SUM(F83:H83) -> 0 | F83: =IFERROR($D83*F107/100, 0) -> 0 | G83: =IFERROR($D83*G107/100, 0) -> 0 | H83: =IFERROR($D83*H107/100, 0) -> 0 | I83: =SUM(J83:L83) -> 0 | J83: =IFERROR($D83*J107/100, 0) -> 0 | K83: =IFERROR($D83*K107/100, 0) -> 0 | L83: =IFERROR($D83*L107/100, 0) -> 0 | M83: =IFERROR($D83*M107/100, 0) -> 0 | N83: =O83+P83 -> 0 | O83: =IFERROR($D83*O107/100, 0) -> 0 | P83: =IFERROR($D83*P107/100, 0) -> 0 | Q83: =IFERROR($D83*Q107/100, 0) -> 0 | R83: II.4.2. KV apskaitos prietaisai
B84: C.4.3. | C84: šilumos (atsiskaitomieji ir neatsiskaitomieji) apskaitos prietaisai | D84: 0 | E84: =SUM(F84:H84) -> 0 | F84: =IFERROR($D84*F108/100, 0) -> 0 | G84: =IFERROR($D84*G108/100, 0) -> 0 | H84: =IFERROR($D84*H108/100, 0) -> 0 | I84: =SUM(J84:L84) -> 0 | J84: =IFERROR($D84*J108/100, 0) -> 0 | K84: =IFERROR($D84*K108/100, 0) -> 0 | L84: =IFERROR($D84*L108/100, 0) -> 0 | M84: =IFERROR($D84*M108/100, 0) -> 0 | N84: =O84+P84 -> 0 | O84: =IFERROR($D84*O108/100, 0) -> 0 | P84: =IFERROR($D84*P108/100, 0) -> 0 | Q84: =IFERROR($D84*Q108/100, 0) -> 0 | R84: II.4.3. ŠIL apskaitos prietaisai
B85: C.4.4. | C85: kiti geriamojo vandens ir nuotekų apskaitos prietaisai (įrengti gręžiniuose, įrenginiuose ir.t.t) | D85: 0 | E85: =SUM(F85:H85) -> 0 | F85: =IFERROR($D85*F109/100, 0) -> 0 | G85: =IFERROR($D85*G109/100, 0) -> 0 | H85: =IFERROR($D85*H109/100, 0) -> 0 | I85: =SUM(J85:L85) -> 0 | J85: =IFERROR($D85*J109/100, 0) -> 0 | K85: =IFERROR($D85*K109/100, 0) -> 0 | L85: =IFERROR($D85*L109/100, 0) -> 0 | M85: =IFERROR($D85*M109/100, 0) -> 0 | N85: =O85+P85 -> 0 | O85: =IFERROR($D85*O109/100, 0) -> 0 | P85: =IFERROR($D85*P109/100, 0) -> 0 | Q85: =IFERROR($D85*Q109/100, 0) -> 0 | R85: II.4.4. kiti apskaitos prietaisai
B86: C.4.5. | C86: įrankiai (matavimo priemonės, elektriniai įrankiai ir prietaisai, gamybinis inventorius ir kt.) | D86: 2.9571962 | E86: =SUM(F86:H86) -> 0.85188 | F86: =IFERROR($D86*F110/100, 0) -> 0.046418724 | G86: =IFERROR($D86*G110/100, 0) -> 0.10412791 | H86: =IFERROR($D86*H110/100, 0) -> 0.70133337 | I86: =SUM(J86:L86) -> 2.021427 | J86: =IFERROR($D86*J110/100, 0) -> 1.2520337 | K86: =IFERROR($D86*K110/100, 0) -> 0.68819377 | L86: =IFERROR($D86*L110/100, 0) -> 0.081199543 | M86: =IFERROR($D86*M110/100, 0) -> 0.069589916 | N86: =O86+P86 -> 0.0064504545 | O86: =IFERROR($D86*O110/100, 0) -> 0.0064504545 | P86: =IFERROR($D86*P110/100, 0) -> 0 | Q86: =IFERROR($D86*Q110/100, 0) -> 0.0078488446 | R86: II.4.5. įrankiai
B87: C.5. | C87: TRANSPORTO PRIEMONĖS | D87: =D88+D89 -> 9.8557626 | E87: =SUM(F87:H87) -> 2.8391511 | F87: =F88+F89 -> 0.15470462 | G87: =G88+G89 -> 0.34703816 | H87: =H88+H89 -> 2.3374084 | I87: =SUM(J87:L87) -> 6.737025 | J87: =J88+J89 -> 4.172786 | K87: =K88+K89 -> 2.2936166 | L87: =L88+L89 -> 0.27062236 | M87: =M88+M89 -> 0.23192972 | N87: =O87+P87 -> 0.021498116 | O87: =O88+O89 -> 0.021498116 | P87: =P88+P89 -> 0 | Q87: =Q88+Q89 -> 0.02615868
B88: C.5.1. | C88: lengvieji automobiliai | D88: 9.532015 | E88: =SUM(F88:H88) -> 2.7458891 | F88: =IFERROR($D88*F111/100, 0) -> 0.14962279 | G88: =IFERROR($D88*G111/100, 0) -> 0.33563845 | H88: =IFERROR($D88*H111/100, 0) -> 2.2606279 | I88: =SUM(J88:L88) -> 6.5157234 | J88: =IFERROR($D88*J111/100, 0) -> 4.035716 | K88: =IFERROR($D88*K111/100, 0) -> 2.2182746 | L88: =IFERROR($D88*L111/100, 0) -> 0.2617328 | M88: =IFERROR($D88*M111/100, 0) -> 0.22431116 | N88: =O88+P88 -> 0.020791934 | O88: =IFERROR($D88*O111/100, 0) -> 0.020791934 | P88: =IFERROR($D88*P111/100, 0) -> 0 | Q88: =IFERROR($D88*Q111/100, 0) -> 0.025299405 | R88: II.5.1.lengvieji automobiliai
B89: C.5.2. | C89: kitos transporto priemonės (transportas dumblui, vandeniui vežti, autobusai žmonėms vežti) | D89: 0.32374767 | E89: =SUM(F89:H89) -> 0.093262043 | F89: =IFERROR($D89*F112/100, 0) -> 0.0050818249 | G89: =IFERROR($D89*G112/100, 0) -> 0.011399706 | H89: =IFERROR($D89*H112/100, 0) -> 0.076780512 | I89: =SUM(J89:L89) -> 0.22130161 | J89: =IFERROR($D89*J112/100, 0) -> 0.13707004 | K89: =IFERROR($D89*K112/100, 0) -> 0.075342016 | L89: =IFERROR($D89*L112/100, 0) -> 0.0088895563 | M89: =IFERROR($D89*M112/100, 0) -> 0.0076185586 | N89: =O89+P89 -> 0.00070618228 | O89: =IFERROR($D89*O112/100, 0) -> 0.00070618228 | P89: =IFERROR($D89*P112/100, 0) -> 0 | Q89: =IFERROR($D89*Q112/100, 0) -> 0.00085927511 | R89: II.5.2.kitos transporto priemonės
B90: C.6. | C90: KITAS ILGALAIKIS TURTAS | D90: =D91+D92+D93 -> 0.068129286 | E90: =E91+E92+E93 -> 0.019626014 | F90: =F91+F92+F93 -> 0.0010694165 | G90: =G91+G92+G93 -> 0.002398948 | H90: =H91+H92+H93 -> 0.01615765 | I90: =I91+I92+I93 -> 0.046570592 | J90: =J91+J92+J93 -> 0.028844945 | K90: =K91+K92+K93 -> 0.015854933 | ... M90: =M91+M92+M93 -> 0.0016032454 | N90: =O90+P90 -> 0.00014860862 | O90: =O91+O92+O93 -> 0.00014860862 | P90: =P91+P92+P93 -> 0 | Q90: =Q91+Q92+Q93 -> 0.00018082539
B91: C.6.1. | C91: žemė | D91: 0 | E91: =SUM(F91:H91) -> 0 | F91: =IFERROR($D91*F113/100, 0) -> 0 | G91: =IFERROR($D91*G113/100, 0) -> 0 | H91: =IFERROR($D91*H113/100, 0) -> 0 | I91: =SUM(J91:L91) -> 0 | J91: =IFERROR($D91*J113/100, 0) -> 0 | K91: =IFERROR($D91*K113/100, 0) -> 0 | L91: =IFERROR($D91*L113/100, 0) -> 0 | M91: =IFERROR($D91*M113/100, 0) -> 0 | N91: =O91+P91 -> 0 | O91: =IFERROR($D91*O113/100, 0) -> 0 | P91: =IFERROR($D91*P113/100, 0) -> 0 | Q91: =IFERROR($D91*Q113/100, 0) -> 0 | R91: II.6.1. žemė
B92: C.6.2. | C92: Kompiuteriai, kompiuteriniai tinklai ir jų įranga | D92: 0.068129286 | E92: =SUM(F92:H92) -> 0.019626014 | F92: =IFERROR($D92*F114/100, 0) -> 0.0010694165 | G92: =IFERROR($D92*G114/100, 0) -> 0.002398948 | H92: =IFERROR($D92*H114/100, 0) -> 0.01615765 | I92: =SUM(J92:L92) -> 0.046570592 | J92: =IFERROR($D92*J114/100, 0) -> 0.028844945 | K92: =IFERROR($D92*K114/100, 0) -> 0.015854933 | L92: =IFERROR($D92*L114/100, 0) -> 0.0018707135 | M92: =IFERROR($D92*M114/100, 0) -> 0.0016032454 | N92: =O92+P92 -> 0.00014860862 | O92: =IFERROR($D92*O114/100, 0) -> 0.00014860862 | P92: =IFERROR($D92*P114/100, 0) -> 0 | Q92: =IFERROR($D92*Q114/100, 0) -> 0.00018082539 | R92: II.6.2. Kompiuteriai, kompiuteriniai tinklai ir jų įranga
B93: C.6.3. | D93: 0 | E93: =SUM(F93:H93) -> 0 | F93: =IFERROR($D93*F115/100, 0) -> 0 | G93: =IFERROR($D93*G115/100, 0) -> 0 | H93: =IFERROR($D93*H115/100, 0) -> 0 | I93: =SUM(J93:L93) -> 0 | J93: =IFERROR($D93*J115/100, 0) -> 0 | K93: =IFERROR($D93*K115/100, 0) -> 0 | L93: =IFERROR($D93*L115/100, 0) -> 0 | M93: =IFERROR($D93*M115/100, 0) -> 0 | N93: =O93+P93 -> 0 | O93: =IFERROR($D93*O115/100, 0) -> 0 | P93: =IFERROR($D93*P115/100, 0) -> 0 | Q93: =IFERROR($D93*Q115/100, 0) -> 0 | R93: II.6.3.
B94: D. | C94: Netiesiogiai paskirstomo ilgalaikio turto paskirstymo kriterijus | D94: 1. IŠ VISO | E94: 2. Iš viso GVT | F94: 2.1. Geriamojo vandens gavyba | G94: 2.2. Geriamojo vandens ruošimas | H94: 2.3. Geriamojo vandens pristatymas | I94: 3. Iš viso NT | J94: 3.1. Nuotekų surinkimas | K94: 3.2. Nuotekų valymas | L94: 3.3. Nuotekų dumblo tvarkymas | M94: 4. Paviršinių nuotekų tvarkymas (tik esant atskirai paviršinių nuotekų tvarkymo sistemai) | N94: 5. Kitos reguliuojamosios veiklos verslo vienetas | O94: 5.1 Apskaitos veikla | P94: 5.2. Kita reguliuojama veikla | Q94: 6. Kitos veiklos (nereguliuojamosios veiklos) verslo vienetas
B95: D.1. | C95: ='6'!C95 -> C.1.1 Punktui Tiesiogiai paslaugoms priskirto naudojamo turto buhalterinė įsigijimo vertė | D95: =O95+E95+I95+M95+P95+Q95 -> 100 | E95: =SUM(F95:H95) -> 28.807016 | F95: ='6'!F95 -> 1.569687 | G95: ='6'!G95 -> 3.52117 | H95: ='6'!H95 -> 23.716159 | I95: =SUM(J95:L95) -> 68.356202 | J95: ='6'!J95 -> 42.33854 | K95: ='6'!K95 -> 23.271833 | L95: ='6'!L95 -> 2.7458287 | M95: ='6'!M95 -> 2.3532397 | N95: =O95+P95 -> 0.21812737 | O95: ='6'!O95 -> 0.21812737 | P95: ='6'!P95 -> 0 | Q95: ='6'!Q95 -> 0.26541507 | R95: C.1.1 Punktui
B96: D.2. | C96: ='6'!C96 -> C.1.2. Punktui Tiesiogiai paslaugoms priskirto naudojamo turto buhalterinė įsigijimo vertė | D96: =O96+E96+I96+M96+P96+Q96 -> 100 | E96: =SUM(F96:H96) -> 28.807016 | F96: ='6'!F96 -> 1.569687 | G96: ='6'!G96 -> 3.52117 | H96: ='6'!H96 -> 23.716159 | I96: =SUM(J96:L96) -> 68.356202 | J96: ='6'!J96 -> 42.33854 | K96: ='6'!K96 -> 23.271833 | L96: ='6'!L96 -> 2.7458287 | M96: ='6'!M96 -> 2.3532397 | N96: =O96+P96 -> 0.21812737 | O96: ='6'!O96 -> 0.21812737 | P96: ='6'!P96 -> 0 | Q96: ='6'!Q96 -> 0.26541507 | R96: C.1.2. Punktui
B97: D.3. | C97: ='6'!C97 -> C.1.3. Punktui Tiesiogiai paslaugoms priskirto naudojamo turto buhalterinė įsigijimo vertė | D97: =O97+E97+I97+M97+P97+Q97 -> 100 | E97: =SUM(F97:H97) -> 28.807016 | F97: ='6'!F97 -> 1.569687 | G97: ='6'!G97 -> 3.52117 | H97: ='6'!H97 -> 23.716159 | I97: =SUM(J97:L97) -> 68.356202 | J97: ='6'!J97 -> 42.33854 | K97: ='6'!K97 -> 23.271833 | L97: ='6'!L97 -> 2.7458287 | M97: ='6'!M97 -> 2.3532397 | N97: =O97+P97 -> 0.21812737 | O97: ='6'!O97 -> 0.21812737 | P97: ='6'!P97 -> 0 | Q97: ='6'!Q97 -> 0.26541507 | R97: C.1.3. Punktui
B98: D.4. | C98: ='6'!C98 -> C.2.1 Punktui Tiesiogiai paslaugoms priskirto naudojamo turto buhalterinė įsigijimo vertė | D98: =O98+E98+I98+M98+P98+Q98 -> 100 | E98: =SUM(F98:H98) -> 28.807016 | F98: ='6'!F98 -> 1.569687 | G98: ='6'!G98 -> 3.52117 | H98: ='6'!H98 -> 23.716159 | I98: =SUM(J98:L98) -> 68.356202 | J98: ='6'!J98 -> 42.33854 | K98: ='6'!K98 -> 23.271833 | L98: ='6'!L98 -> 2.7458287 | M98: ='6'!M98 -> 2.3532397 | N98: =O98+P98 -> 0.21812737 | O98: ='6'!O98 -> 0.21812737 | P98: ='6'!P98 -> 0 | Q98: ='6'!Q98 -> 0.26541507 | R98: C.2.1 Punktui
B99: D.5. | C99: ='6'!C99 -> C.2.2. Punktui Tiesiogiai paslaugoms priskirto naudojamo turto buhalterinė įsigijimo vertė | D99: =O99+E99+I99+M99+P99+Q99 -> 100 | E99: =SUM(F99:H99) -> 28.807016 | F99: ='6'!F99 -> 1.569687 | G99: ='6'!G99 -> 3.52117 | H99: ='6'!H99 -> 23.716159 | I99: =SUM(J99:L99) -> 68.356202 | J99: ='6'!J99 -> 42.33854 | K99: ='6'!K99 -> 23.271833 | L99: ='6'!L99 -> 2.7458287 | M99: ='6'!M99 -> 2.3532397 | N99: =O99+P99 -> 0.21812737 | O99: ='6'!O99 -> 0.21812737 | P99: ='6'!P99 -> 0 | Q99: ='6'!Q99 -> 0.26541507 | R99: C.2.2. Punktui
B100: D.6. | C100: ='6'!C100 -> C.2.3 Punktui Tiesiogiai paslaugoms priskirto naudojamo turto buhalterinė įsigijimo vertė | D100: =O100+E100+I100+M100+P100+Q100 -> 100 | E100: =SUM(F100:H100) -> 28.807016 | F100: ='6'!F100 -> 1.569687 | G100: ='6'!G100 -> 3.52117 | H100: ='6'!H100 -> 23.716159 | I100: =SUM(J100:L100) -> 68.356202 | J100: ='6'!J100 -> 42.33854 | K100: ='6'!K100 -> 23.271833 | L100: ='6'!L100 -> 2.7458287 | M100: ='6'!M100 -> 2.3532397 | N100: =O100+P100 -> 0.21812737 | O100: ='6'!O100 -> 0.21812737 | P100: ='6'!P100 -> 0 | Q100: ='6'!Q100 -> 0.26541507 | R100: C.2.3 Punktui
B101: D.7. | C101: ='6'!C101 -> C.2.4 Punktui Tiesiogiai paslaugoms priskirto naudojamo turto buhalterinė įsigijimo vertė | D101: =O101+E101+I101+M101+P101+Q101 -> 100 | E101: =SUM(F101:H101) -> 28.807016 | F101: ='6'!F101 -> 1.569687 | G101: ='6'!G101 -> 3.52117 | H101: ='6'!H101 -> 23.716159 | I101: =SUM(J101:L101) -> 68.356202 | J101: ='6'!J101 -> 42.33854 | K101: ='6'!K101 -> 23.271833 | L101: ='6'!L101 -> 2.7458287 | M101: ='6'!M101 -> 2.3532397 | N101: =O101+P101 -> 0.21812737 | O101: ='6'!O101 -> 0.21812737 | P101: ='6'!P101 -> 0 | Q101: ='6'!Q101 -> 0.26541507 | R101: C.2.4 Punktui
B102: D.8. | C102: ='6'!C102 -> C.2.5 Punktui Tiesiogiai paslaugoms priskirto naudojamo turto buhalterinė įsigijimo vertė | D102: =O102+E102+I102+M102+P102+Q102 -> 100 | E102: =SUM(F102:H102) -> 28.807016 | F102: ='6'!F102 -> 1.569687 | G102: ='6'!G102 -> 3.52117 | H102: ='6'!H102 -> 23.716159 | I102: =SUM(J102:L102) -> 68.356202 | J102: ='6'!J102 -> 42.33854 | K102: ='6'!K102 -> 23.271833 | L102: ='6'!L102 -> 2.7458287 | M102: ='6'!M102 -> 2.3532397 | N102: =O102+P102 -> 0.21812737 | O102: ='6'!O102 -> 0.21812737 | P102: ='6'!P102 -> 0 | Q102: ='6'!Q102 -> 0.26541507 | R102: C.2.5 Punktui
B103: D.9. | C103: ='6'!C103 -> C.2.6 Punktui Tiesiogiai paslaugoms priskirto naudojamo turto buhalterinė įsigijimo vertė | D103: =O103+E103+I103+M103+P103+Q103 -> 100 | E103: =SUM(F103:H103) -> 28.807016 | F103: ='6'!F103 -> 1.569687 | G103: ='6'!G103 -> 3.52117 | H103: ='6'!H103 -> 23.716159 | I103: =SUM(J103:L103) -> 68.356202 | J103: ='6'!J103 -> 42.33854 | K103: ='6'!K103 -> 23.271833 | L103: ='6'!L103 -> 2.7458287 | M103: ='6'!M103 -> 2.3532397 | N103: =O103+P103 -> 0.21812737 | O103: ='6'!O103 -> 0.21812737 | P103: ='6'!P103 -> 0 | Q103: ='6'!Q103 -> 0.26541507 | R103: C.2.6 Punktui
B104: D.10. | C104: ='6'!C104 -> C.3.1. Punktui Tiesiogiai paslaugoms priskirto naudojamo turto buhalterinė įsigijimo vertė | D104: =O104+E104+I104+M104+P104+Q104 -> 100 | E104: =SUM(F104:H104) -> 28.807016 | F104: ='6'!F104 -> 1.569687 | G104: ='6'!G104 -> 3.52117 | H104: ='6'!H104 -> 23.716159 | I104: =SUM(J104:L104) -> 68.356202 | J104: ='6'!J104 -> 42.33854 | K104: ='6'!K104 -> 23.271833 | L104: ='6'!L104 -> 2.7458287 | M104: ='6'!M104 -> 2.3532397 | N104: =O104+P104 -> 0.21812737 | O104: ='6'!O104 -> 0.21812737 | P104: ='6'!P104 -> 0 | Q104: ='6'!Q104 -> 0.26541507 | R104: C.3.1. Punktui
...

Sheet 8
E2: Geriamojo vandens tiekimo ir nuotekų tvarkymo bei paviršinių nuotekų tvarkymo paslaugų įmonių apskaitos atskyrimo taisyklių ir susijusių reikalavimų sąvado 8 priedas
C3: Ūkio subjektas: UAB „Kaišiadorių vandenys“
C4: Ataskaitinis laikotarpis: 2024-01-01 - 2024-12-31
C6: Ataskaitinio laikotarpio geriamojo vandens ir nuotekų tvarkymo paslaugų realizacija
B9: Eil. Nr. | C9: RODIKLIAI | D9: Matavimo vienetai | E9: Ataskaitinis laikotarpis
C10: G E R I A M A S I S V A N D U O
B11: 1 | C11: IŠGAUTO POŽEMINIO VANDENS KIEKIS (pirmas pakėlimas) | D11: tūkst. m3 | E11: 1138.924
B12: 2 | C12: PARUOŠTO GERIAMOJO VANDENS KIEKIS | D12: tūkst. m3 | E12: 1138.085
B13: 3 | C13: PATIEKTO GERIAMOJO VANDENS KIEKIS (antro pakėlimo perpumpavimo stotyse pakelto vandens kiekis) | D13: tūkst. m3 | E13: 1082.563
B14: 3.1. | C14: iš šio skaičiaus: patiekto daugiabučiams namams* | D14: tūkst. m3 | E14: =+F105+G105 -> 0
B15: 3.1.1. | C15: iš šio skaičiaus: karšto vandens ruošimui | D15: tūkst. m3 | E15: 0
B16: 3.2. | C16: Trečio, ketvirto,..n-to pakėlimo perpumpavimo stotyse pakelto vandens kiekis | D16: tūkst. m3 | E16: 0
B17: 4. | C17: REALIZUOTAS GERIAMOJO VANDENS KIEKIS | D17: tūkst. m3 | E17: =E18+E23+E25 -> 816.005
B18: 4.1. | C18: Vartotojams | D18: tūkst. m3 | E18: =E19+E22 -> 458.585
B19: 4.1.1. | C19: Daugiabučiuose namuose | D19: tūkst. m3 | E19: 182.827
B20: 4.1.1.1. | C20: iš šio skaičiaus: pagal daugiabučių namų įvadinius apskaitos prietaisus (pvz.bendrijos)** | D20: tūkst. m3 | E20: 0
B21: 4.1.1.2. | C21: iš šio skaičiaus: karšto vandens ruošimui | D21: tūkst. m3 | E21: 0
B22: 4.1.2. | C22: Individualiuose namuose | D22: tūkst. m3 | E22: 275.758
B23: 4.2. | C23: Abonentams | D23: tūkst. m3 | E23: 357.42
B24: 4.2.1. | C24: iš šio skaičiaus: karšto vandens tiekėjams | D24: tūkst. m3 | E24: 69.147
B25: 4.3. | C25: Sezoniniams abonentams | D25: tūkst. m3 | E25: 0
B26: 5. | C26: VANDENS KIEKIS SUVARTOTAS PER HIDRANTUS GAISRAMS GESINTI | D26: tūkst. m3 | E26: 0
B27: 6. | C27: NEAPSKAITYTAS VANDENS KIEKIS | D27: tūkst. m3 | E27: =E11-E17-E26 -> 322.919
B28: 6.1. | C28: iš šio skaičiaus: technologiniai nuostoliai vandens ruošime (filtrų plovimas) | D28: tūkst. m3 | E28: =E11-E13 -> 56.361
B29: 6.2. | C29: tiekimo tinkluose iki vandentiekio įvadų | D29: tūkst. m3 | E29: =E13-E17-E26-E31 -> 449.385
B30: 6.3. | C30: daugiabučių namų tinkluose | D30: tūkst. m3 | E30: =$E$14-$E$19 -> -182.827
B31: 6.3.1. | C31: skirtumas daugiabučiuose tarp įvadinės ir apskaitos butuose | D31: tūkst. m3 | E31: =$E$14-$E$19 -> -182.827
B32: 6.3.1.1 | C32: iš šio skaičiaus: karšto vandens skirtumas | D32: tūkst. m3 | E32: =E15-E21 -> 0
C33: N U O T E K O S
B34: 7. | C34: SURINKTA BUITINIŲ IR GAMYBINIŲ NUOTEKŲ | D34: tūkst. m3 | E34: =E35+E36 -> 1517.291
B35: 7.1. | C35: iš šio skaičiaus: buitinių ir gamybinių nuotekų tinklais | D35: tūkst. m3 | E35: 1512.393
B36: 7.2. | C36: surenkamų asenizacijos transporto priemonėmis | D36: tūkst. m3 | E36: 4.898
B37: 8. | C37: PERPUMPUOTAS BUITINIŲ IR GAMYBINIŲ NUOTEKŲ KIEKIS (per pirmąsias siurblines) | D37: tūkst. m3 | E37: 1512.393
B38: 8.1 | C38: PERPUMPUOTAS BUITINIŲ IR GAMYBINIŲ NUOTEKŲ KIEKIS (per antrąsias, trečiąsias, ketvirtąsias,...n-tąsias siurblines) | D38: tūkst. m3 | E38: 0
B39: 9. | C39: IŠVALYTAS BUITINIŲ IR GAMYBINIŲ NUOTEKŲ KIEKIS | D39: tūkst. m3 | E39: 1574.041
B40: 10. | C40: SUTVARKYTAS DUMBLO KIEKIS | D40: tūkst. m3 | E40: =+E39 -> 1574.041
B41: 11. | C41: REALIZUOTAS BUITINIŲ IR GAMYBINIŲ NUOTEKŲ TVARKYMO PASLAUGOS KIEKIS | D41: tūkst. m3 | E41: =E43+E49+E52 -> 793.097
C42: REALIZUOTAS IŠVALYTŲ BUITINIŲ IR GAMYBINIŲ NUOTEKŲ TVARKYMO PASLAUGOS KIEKIS | D42: tūkst. m3 | E42: =+E44+E47+E50 -> 854.745
B43: 11.1. | C43: Vartotojams už surinkimą | D43: tūkst. m3 | E43: =E44+E46 -> 408.587
B44: 11.1.1. | C44: Daugiabučiuose namuose | D44: tūkst. m3 | E44: 177.292
B45: 11.1.1.1. | C45: iš šio skaičiaus: karšto vandens nuotekos | D45: tūkst. m3 | E45: 0
B46: 11.1.2. | C46: Individualiuose namuose už surinkimą | D46: tūkst. m3 | E46: 231.295
B47: 11.1.2.1. | C47: Individualiuose namuose už valymą | D47: tūkst. m3 | E47: 231.295
B48: 11.1.2.2. | C48: Individualiuose namuose už nuotekų dumblo tvarkymą | D48: tūkst. m3 | E48: 231.295
B49: 11.2. | C49: Abonentams už surinkimą | D49: tūkst. m3 | E49: 384.51
B50: 11.2.1. | C50: Abonentams už valymą | D50: tūkst. m3 | E50: 446.158
B51: 11.2.2. | C51: Abonentams už nuotekų dumblo tvarkymą | D51: tūkst. m3 | E51: 446.158
B52: 11.3. | C52: Sezoniniams abonentams už surinkimą | D52: tūkst. m3 | E52: 0
B53: 12. | C53: NEAPSKAITYTAS BUITINIŲ IR GAMYBINIŲ NUOTEKŲ KIEKIS | D53: tūkst. m3 | E53: =E34-E41 -> 724.194
B54: 12.1. | C54: iš šio skaičiaus: nuotekų infiltracija tinkluose | D54: tūkst. m3 | E54: =E53-E55 -> 724.194
B55: 12.2. | C55: įvadinės ir apskaitos butuose skirtumas | D55: tūkst. m3 | E55: =(E44/(100-E71)*100)-E44 -> 0
B56: 12.2.1. | C56: iš šio skaičiaus: karšto vandens tarp įvadinės ir apskaitos butuose skirtumas | D56: tūkst. m3 | E56: 0
C57: P A V I R Š I N Ė S N U O T E K O S
B58: 13. | C58: SURINKTA PAVIRŠINIŲ NUOTEKŲ | D58: tūkst. m3 | E58: =SUM(E59:E60) -> 427.27
B59: 13.1. | C59: Surinkta mišrių nuotekų surinkimo sistema | D59: tūkst. m3 | E59: 0
B60: 13.2. | C60: Surinkta atskira paviršinių nuotekų tvarkymo sistema | D60: tūkst. m3 | E60: 427.27
B61: 14. | C61: IŠVALYTAS PAVIRŠINIŲ NUOTEKŲ KIEKIS | D61: tūkst. m3 | E61: 427.27
B62: 15. | C62: REALIZUOTAS PAVIRŠINIŲ NUOTEKŲ TVARKYMO KIEKIS | D62: tūkst. m3 | E62: =SUM(E63:E64) -> 427.27
B63: 15.1. | C63: Surinkta mišrių nuotekų surinkimo sistema | D63: tūkst. m3 | E63: 0
B64: 15.2. | C64: Surinkta atskira paviršinių nuotekų tvarkymo sistema | D64: tūkst. m3 | E64: 427.27
B65: 16. | C65: NEAPMOKĖTAS PAVIRŠINIŲ NUOTEKŲ KIEKIS | D65: tūkst. m3 | E65: =E58-E62 -> 0
C66: N E T E K T Y S
B67: 17. | C67: NEAPSKAITYTAS VANDENS KIEKIS NUO IŠGAUTO VANDENS KIEKIO | D67: % | E67: =IF(E11=0,0,E27/E11*100) -> 28.352989
B68: 17.1. | C68: Iš šio skaičiaus: technologiniai nuostoliai vandens ruošime | D68: % | E68: =IF(E11=0,0,E28/E11*100) -> 4.9486182
B69: 17.2. | C69: tiekimo tinkluose iki vandentiekio įvadų | D69: % | E69: =IF(E11=0,0,E29/E11*100) -> 39.456979
B70: 17.3. | C70: daugiabučių namų tinkluose | D70: % | E70: =IF(E11=0,0,E30/E11*100) -> -16.052608
B71: 17.3.1. | C71: skirtumas daugiabučiuose tarp įvadinės ir apskaitos butuose | D71: % | E71: =IF(E14=0,0,E31/E14*100) -> 0
B72: 17.3.1.1. | C72: geriamojo vandens skirtumas | D72: % | E72: =IF(E15=0,0,E32/E15*100) -> 0
B73: 17.3.1.2. | C73: iš šio skaičiaus: karšto vandens skirtumas | D73: % | E73: =IF(E15=0,0,E32/E15*100) -> 0
B74: 18. | C74: NEAPSKAITYTŲ BUITINIŲ IR GAMYBINIŲ NUOTEKŲ KIEKIS NUO SURINKTŲ NUOTEKŲ KIEKIO | D74: % | E74: =IF(E34=0,0,E53/E34*100) -> 47.729407
B75: 18.1 | C75: iš šio skaičiaus: nuotekų infiltracija tinkluose | D75: % | E75: =IF($E$34=0,0,E54/$E$34*100) -> 47.729407
B76: 18.2 | C76: įvadinės ir apskaitos butuose skirtumas | D76: % | E76: =IF($E$34=0,0,E55/$E$34*100) -> 0
B77: 18.2.1. | C77: iš šio skaičiaus: karšto vandens tarp įvadinės ir apskaitos butuose skirtumas | D77: % | E77: =IF($E$34=0,0,E56/$E$34*100) -> 0
B78: 19. | C78: NEAPMOKĖTAS PAVIRŠINIŲ NUOTEKŲ KIEKIS NUO SURINKTŲ NUOTEKŲ KIEKIO | D78: % | E78: =IF(E58=0,0,E65/E58*100) -> 0
C79: V A R T O T O J A I
B80: 20. | C80: Gyventojų skaičius aptarnaujamoje teritorijoje | D80: žm. | E80: 19350
B81: 21. | C81: Namų ūkių skaičius aptarnaujamoje teritorijoje | D81: vnt. | E81: 9380
B82: 22. | C82: Aptarnaujamų Ūkio subjekto paslaugomis vartotojų skaičius | D82: vnt. | E82: =E83+E86+E87+E88+E89 -> 9448
B83: 22.1. | C83: Vartotojai, kuriems tiekiamas ir vanduo, ir tvarkomos nuotekos | D83: vnt. | E83: =SUM(E84:E85) -> 7812
B84: 22.1.1. | C84: iš šio skaičiaus: gyvenantys daugiabučiuose namuose | D84: vnt. | E84: 4486
B85: 22.1.2 | C85: individualiuose gyvenamuosiuose namuose | D85: vnt. | E85: 3326
B86: 22.2. | C86: Vartotojai kuriems tiekiamas tik vanduo | D86: vnt. | E86: 1252
B87: 22.3. | C87: Vartotojai kuriems tik centralizuotai surenkamos nuotekos | D87: vnt. | E87: 230
B88: 22.4. | C88: Vartotojai kuriems surenkamos nuotekos asenizacijos transporto priemonėmis | D88: vnt. | E88: 154
B89: 22.5. | C89: Kiti Ūkio subjekto GVTNT paslaugų vartotojai | D89: vnt. | E89: 0
B90: 23. | C90: Aptarnaujamų Ūkio subjekto paslaugomis abonentų skaičius | D90: vnt. | E90: =SUM(E91:E93) -> 294
B91: 23.1. | C91: Abonentai kuriems tiekiamas ir vanduo, ir tvarkomos nuotekos | D91: vnt. | E91: 249
B92: 23.3. | C92: Abonentai kuriems tiekiamas tik vanduo | D92: vnt. | E92: 39
B93: 23.2. | C93: Abonentai kuriems tik centralizuotai surenkamos nuotekos | D93: vnt. | E93: 6
B94: 24. | C94: Aptarnaujamų Ūkio subjekto paslaugomis vartotojų ir abonentų skaičius iš viso | D94: vnt. | E94: =SUM(E95:E97) -> 9588
B95: 24.1. | C95: Abonentai ir vartotojai kuriems tiekiamas ir vanduo, ir tvarkomos nuotekos, iš viso | D95: vnt. | E95: =+E83+E91 -> 8061
B96: 24.2. | C96: Abonentai ir vartotojai kuriems tik tiekiamas vanduo, iš viso | D96: vnt. | E96: =+E86+E92 -> 1291
B97: 24.3. | C97: Abonentai ir vartotojai kuriems tik centralizuotai surenkamos nuotekos, iš viso | D97: vnt. | E97: =+E87+E93 -> 236
B99: *Pildo Ūkio subjektai, kurių 70 proc. ir daugiau daugiabučių namų įvaduose yra įrengta įvadinė apskaita. Patiekto vandens kiekis apskaičiuojamas 1 lentelėje.
B100: **Realizuotas geriamojo vandens kiekis daugiabučiuose namuose, už kurį atsiskaitoma pagal daugiabučių namų įvadinius apskaitos prietaisus (pvz. Bendrijos)
B103: 1 lentelė. | C103: Patiekto geriamojo vandens kiekio daugiabučiuose namuose nustatymas (Pildo Ūkio subjektai, kurių 70 proc. ir daugiau daugiabučių namų įvaduose yra įrengta įvadinė apskaita).
C104: Straipsnis | F104: įrengta įvadinė | G104: neįrengta įvadinė
B105: P.1. | C105: Geriamojo vandens kiekis patiektas daugiabučiams namams, tūkst. m3 | F105: 0 | G105: =$G$106/(1-$F$107) -> 0
B106: P.2. | C106: Realizuotas geriamojo vandens kiekis daugiabučiams namams, tūkst.m3 (suma turi sutapti su 4.1.1. eilute), tūkst. m3 | F106: 0 | G106: 0
B107: P.3. | C107: Skirtumas daugiabučiuose tarp įvadinės ir apskaitos butuose, proc. | F107: =IF($F$105=0,0,1-(($F$106))/($F$105)) -> 0 | G107: =IF($G$105=0,0,1-$G$106/$G$105) -> 0

Sheet 9
E2: Geriamojo vandens tiekimo ir nuotekų tvarkymo bei paviršinių nuotekų tvarkymo paslaugų įmonių apskaitos atskyrimo taisyklių ir susijusių reikalavimų sąvado 9 priedas
C3: Ūkio subjektas: UAB „Kaišiadorių vandenys“
C4: Ataskaitinis laikotarpis: 2024-01-01 - 2024-12-31
C6: Ataskaitinio laikotarpio technologiniai rodikliai
B9: Eil. Nr. | C9: TECHNOLOGINIAI RODIKLIAI | D9: Matavimo vienetai | E9: Ataskaitinis laikotarpis
C10: A. ŪKIO PROJEKTINIS PAJĖGUMAS
B11: A.1. | C11: Vandens išgavimo | D11: tūkst.m3/metus | E11: 7559
B12: A.2. | C12: Vandens ruošimo įrenginių | D12: tūkst.m3/metus | E12: 8254.93
B13: A.3. | C13: Vandens pakėlimo stočių | D13: tūkst.m3/metus | E13: 5290
B14: A.4. | C14: Nuotekų siurblinių | D14: tūkst.m3/metus | E14: 27675.1
B15: A.5. | C15: Paviršinių nuotekų siurblinių | D15: tūkst.m3/metus | E15: 0
B16: A.6. | C16: Nuotekų valyklų | D16: tūkst.m3/metus | E16: 8227.01
B17: A.6.1. | C17: Vidutinis pajėgumas BDS7 | D17: mgO2/l | E17: 450
B18: A.6.2. | C18: Vidutinis pajėgumas SM | D18: mg/l | E18: 0
B19: A.6.3. | C19: Vidutinis pajėgumas bendrojo azoto | D19: mg/l | E19: 65
B20: A.6.4. | C20: Vidutinis pajėgumas bendrojo fosforo | D20: mg/l | E20: 11
B21: A.7. | C21: Paviršinių nuotekų valyklų | D21: tūkst.m3/metus | E21: 0
B22: A.7.1. | C22: Vidutinis pajėgumas BDS7 | D22: mgO2/l | E22: 0
... B30: A.8.5. | C30: nuotekų dumblo kompostavimo įrenginių | D30: tonos/metus | E30: 3228
C31: B. GERIAMOJO VANDENS GAVYBA
B32: B.1. | C32: Vandenviečių skaičius | D32: vnt. | E32: 30
B33: B.2. | C33: Gręžiniuose instaliuotų siurblių skaičius | D33: vnt. | E33: 58
B34: B.3. | C34: Vidutinis svertinis vandens pakėlimo aukštis gavyboje (įvertinant slėgį) | D34: mH2O* | E34: 104.5
C35: C. GERIAMOJO VANDENS RUOŠIMAS
B36: C.1. | C36: Vandens aeravimo įrenginių skaičius | D36: vnt. | E36: 23
B37: C.1.1. | C37: iš to skaičiaus: vandens aeravimas su priverstine aeracija | D37: vnt. | E37: 22
B38: C.1.2. | C38: Metinis paruošto vandens kiekis | D38: tūkst. m3 | E38: 1138.085
B39: C.1.2.1. | C39: iš to skaičiaus: Uždarose slėginėse nugeležinimo sistemose be membraninių osmoso filtrų aeruotas vandens kiekis | D39: tūkst. m3 | E39: 397.279
B40: C.1.2.2. | C40: Beslėgėse ir kitose sistemose aeruotas vandens kiekis | D40: tūkst. m3 | E40: 740.806
B41: C.1.2.3. | C41: Uždarose slėginėse nugeležinimo sistemose su membraniniais osmoso filtrais nugeležintas vandens kiekis | D41: tūkst. m3 | E41: 0
B42: C.1.2.4. | C42: Kitais būdais paruošto vandens kiekis | D42: tūkst. m3 | E42: 0
B43: C.2. | C43: Patiektas vandens kiekis atitinkantis higienos normų reikalavimus | D43: tūkst. m3 | E43: 1065.215
B44: C.3. | C44: Dezinfekuoto vandens kiekis | D44: tūkst. m3 | E44: 0
B45: C.3.1. | C45: Dezinfekavimo įrenginių kiekis | D45: vnt. | E45: 0
B46: C.3.1.1. | C46: iš to skaičiaus: natrio hipochloritu | D46: vnt. | E46: 0
B47: C.3.1.1.1. | C47: dezinfekuoto natrio hipochloritu vandens kiekis | D47: tūkst. m3 | E47: 0
... B56: C.10. | C56: Vidutinis svertinis vandens pakėlimo aukštis ruošime (įvertinant slėgį) | D56: mH2O | E56: 0
C57: D. GERIAMOJO VANDENS PRISTATYMAS
B58: D.1. | C58: Vandentiekių skaičius | D58: vnt. | E58: 27
B59: D.2. | C59: Vandens pakėlimo stočių skaičius | D59: vnt. | E59: 3
B60: D.3. | C60: Vandens pakėlimo stotyse instaliuotų siurblių skaičius | D60: vnt. | E60: 14
B61: D.4. | C61: Vidutinis svertinis vandens pakėlimo aukštis paskirstyme (įvertinant slėgį) | D61: mH2O | E61: 60
B62: D.5. | C62: Požeminio vandens tinklų ilgis | D62: km | E62: =SUM(E63:E64) -> 236.12
B63: D.5.1. | C63: magistralinių vandentiekio tinklų ilgis | D63: km | E63: 236.12
B64: D.5.2. | C64: kitų vandentiekio tinklų ilgis | D64: km | E64: 0
B65: D.6. | C65: Vandentiekio prijungimų (įvadų) skaičius | D65: vnt. | E65: 9585
B66: D.7. | C66: Daugiabučių namų skaičius | D66: vnt. | E66: 253
B67: D.8. | C67: Vandens ėmimo kolonėlių skaičius | D67: vnt. | E67: 0
B68: D.9. | C68: Hidrantų skaičius | D68: vnt. | E68: 159
B69: D.10. | C69: Įvadinių (kartu su poįvadiniais) apskaitos prietaisų skaičius | D69: vnt. | E69: =SUM(E70:E72) -> 5926
B70: D.10.1. | C70: iš šio skaičiaus: individualiuose namuose | D70: vnt. | E70: 5325
B71: D.10.2 | C71: daugiabučiuose namuose | D71: vnt. | E71: 115
B72: D.10.3 | C72: abonentų skaitikliai | D72: vnt. | E72: 486
B73: D.11. | C73: Skaitiklių butuose skaičius | D73: vnt. | E73: 5997
B74: D.12. | C74: Vandentiekyje likviduotų avarijų skaičius | D74: vnt. | E74: 115
C75: E. NUOTEKŲ SURINKIMAS
B76: E.1. | C76: Kanalizacijos sistemų skaičius | D76: vnt. | E76: 12
B77: E.2. | C77: Nuotekų perpumpavimo stočių skaičius | D77: vnt. | E77: 101
B78: E.3. | C78: Perpumpavimo stotyse instaliuotų siurblių skaičius | D78: vnt. | E78: 184
B79: E.4. | C79: Vidutinis svertinis nuotekų pakėlimo aukštis surinkime (įvertinant slėgį) | D79: mH2O | E79: 21.86
B80: E.5. | C80: Nuotekų tinklų ilgis | D80: km | E80: 194.37
B81: E.5.1. | C81: iš šio skaičiaus: spaudiminių tinklų | D81: km | E81: 15
B82: E.6. | C82: Kanalizacijos išvadų skaičius | D82: vnt. | E82: 4068
B83: E.7. | C83: Kanalizavimo paslaugų vartotojų ir abonentų skaičius | D83: vnt. | E83: =SUM(E84:E86) -> 8450
B84: E.7.1. | C84: iš šio skaičiaus: butų skaičius | D84: vnt. | E84: 4635
B85: E.7.2. | C85: individualių namų skaičius | D85: vnt. | E85: 3556
B86: E.7.3. | C86: abonentų skaičius | D86: vnt. | E86: 259
B87: E.8. | C87: Kanalizacijoje likviduotų avarijų skaičius | D87: vnt. | E87: 1365
C88: F. PAVIRŠINIŲ NUOTEKŲ SURINKIMAS**
B89: F.1. | C89: Paviršinių nuotekų sistemų skaičius | D89: vnt. | E89: 2
B90: F.2. | C90: Paviršinių nuotekų perpumpavimo stočių skaičius | D90: vnt. | E90: 0
B91: F.3. | C91: Paviršinių nuotekų perpumpavimo stotyse instaliuotų siurblių skaičius | D91: vnt. | E91: 0
B92: F.4. | C92: Vidutinis svertinis paviršinių nuotekų pakėlimo aukštis surinkime (įvertinant slėgį) | D92: mH2O | E92: 0
B93: F.5. | C93: Paviršinių nuotekų tinklų ilgis | D93: km | E93: 17.677
B94: F.5.1. | C94: iš šio skaičiaus: spaudiminių tinklų | D94: km | E94: 0
B95: F.6. | C95: Paviršinių nuotekų išleistuvų skaičius | D95: vnt. | E95: 9
B96: F.7. | C96: Paviršinių nuotekų tvarkymo paslaugų abonentų skaičius | D96: vnt. | E96: 55
B97: F.8. | C97: paviršinių nuotekų tinkluose likviduotų avarijų skaičius | D97: vnt. | E97: 0
C98: G. BUITINIŲ IR GAMYBINIŲ NUOTEKŲ VALYMAS
B99: G.1. | C99: Filtracijos laukų skaičius | D99: vnt. | E99: 2
B100: G.2. | C100: Filtracijos laukų plotas | D100: ha | E100: 1.53
B101: G.3. | C101: Metinis filtravimo laukuose išvalytų nuotekų kiekis | D101: tūkst. m3 | E101: 0
B102: G.4. | C102: Mechaninio valymo įrenginių skaičius | D102: vnt. | E102: 0
B103: G.5. | C103: Metinis mechaninio valymo įrenginiuose išvalytų nuotekų kiekis | D103: tūkst. m3 | E103: 0
B104: G.6. | C104: Biologinio su mechaninio valymo įrenginių skaičius | D104: vnt. | E104: 9
B105: G.7. | C105: Metinis biologinio su mech. valymo įrenginiuose išvalytų nuotekų kiekis | D105: tūkst. m3 | E105: 552.551
B106: G.8. | C106: Denitrifikacijos su biologinio ir mechaninio valymo įrenginių skaičius | D106: vnt. | E106: 3
B107: G.9. | C107: Metinis denitrifikacijos su biolog.ir mech. įrenginiuose išvalytų nuotekų kiekis | D107: tūkst. m3 | E107: 1021.489
B108: G.10. | C108: Nuotekų valyklose esančių orapūčių kiekis | D108: vnt. | E108: 20
B109: G.11. | C109: Nuotekų valyklose esančių siurblių skaičius | D109: vnt. | E109: 36
B110: G.12. | C110: Kitų darbo mašinų ir įrengimų skaičius | D110: vnt. | E110: 24
B111: G.13. | C111: Atitekančių nuotekų taršos koncentracija
B112: G.13.1. | C112: pagal: biocheminis deguonies suvartojimas (BDS7) | D112: mg/l | E112: 430
B113: G.13.2. | C113: suspenduotos medžiagos (SM) | D113: mg/l | E113: 171
B114: G.13..3. | C114: riebalai (R) | D114: mg/l | E114: 0
B115: G.13.4. | C115: azotas (N) | D115: mg/l | E115: 55
B116: G.13.5. | C116: fosforas (P) | D116: mg/l | E116: 5.9
B117: G.14. | C117: Išleidžiamų nuotekų taršos koncentracija
B118: G.14.1. | C118: pagal: biocheminis deguonies suvartojimas (BDS7) | D118: mg/l | E118: 9.7
B119: G.14.2. | C119: suspenduotos medžiagos (SM) | D119: mg/l | E119: 8.4
...

Sheet 10
G2: Geriamojo vandens tiekimo ir nuotekų tvarkymo bei paviršinių nuotekų tvarkymo paslaugų įmonių apskaitos atskyrimo taisyklių ir susijusių reikalavimų sąvado 10 priedas
C3: Ūkio subjektas: UAB „Kaišiadorių vandenys“
C4: Ataskaitinis laikotarpis: 2024-01-01 - 2024-12-31
C6: Ataskaitinio laikotarpio personalo duomenų ataskaita
B9: Eil. Nr. | C9: RODIKLIS | D9: Matavimo vienetai | E9: Ataskaitinis laikotarpis | G9: Pastabos
E10: Vidutinis sąlyginis darbuotojų skaičius | F10: Vidutinis sąrašinis darbuotojų skaičius
B11: A | C11: DARBUOTOJŲ SKAIČIUS ĮMONĖJE IŠ VISO | D11: darb. | E11: =E12+E26 -> 74.61 | F11: =F12+F26 -> 74
B12: B | C12: DARBUOTOJŲ SKAIČIUS REGULIUOJAMOJE VEIKLOJE | D12: darb. | E12: =E14+E18+E22+E23+E24+E25 -> 71.847268 | F12: =F14+F18+F22+F23+F24+F25 -> 71.49011
B13: B.1 | C13: Tiesiogiai priskirtų reguliuojamai veiklai darbuotojų skaičius | D13: darb. | E13: =E14+E18+E23+E22 -> 50.26 | F13: =F14+F18+F23+F22 -> 49.458333
B14: B.1.1. | C14: Geriamojo vandens tiekimo (GVT) veikloje | D14: darb. | E14: =SUM(E15:E17) -> 21.85 | F14: =SUM(F15:F17) -> 21.958333
B15: B.1.1.1. | C15: iš šio skaičiaus: vandens gavyboje | D15: darb. | E15: 7.72 | F15: 7
B16: B.1.1.2. | C16: vandens ruošime | D16: darb. | E16: 1.1 | F16: 1
B17: B.1.1.3. | C17: vandens pristatyme | D17: darb. | E17: 13.03 | F17: 13.958333
B18: B.1.2. | C18: Nuotekų tvarkymo (NT) veikloje | D18: darb. | E18: =SUM(E19:E21) -> 23.52 | F18: =SUM(F19:F21) -> 22.375
B19: B.1.2.1. | C19: iš šio skaičiaus: nuotekų surinkime | D19: darb. | E19: 8.7 | F19: 8.7916667
B20: B.1.2.2. | C20: nuotekų valyme | D20: darb. | E20: 12.5 | F20: 11.583333
B21: B.1.2.3. | C21: nuotekų dumblo tvarkyme | D21: darb. | E21: 2.32 | F21: 2
B22: B.1.3. | C22: Paviršinių nuotekų tvarkymo veikloje* | D22: darb. | E22: 2.19 | F22: 2
B23: B.1.4. | C23: Apskaitos veikloje | D23: darb. | E23: 2.7 | F23: 3.125
B24: B.2 | C24: Netiesiogiai priskiriamų reguliuojamai veiklai darbuotojų skaičius | D24: darb. | E24: 10.262689 | F24: 10.555244
B25: B.3. | C25: Reguliuojamai veiklai bendrai priskiriamų administracijos darbuotojų skaičius | D25: darb. | E25: 11.324579 | F25: 11.476533
B26: C | C26: DARBUOTOJŲ SKAIČIUS KITOSE VEIKLOSE | D26: darb. | E26: 2.7627324 | F26: 2.5098902
B27: D | C27: SANTYKINIAI RODIKLIAI
B28: D.1 | C28: GVT veiklai tiesiogiai priskirtų darbuotojų vidutinis darbo užmokestis | D28: Eur/mėn. | E28: =IFERROR(E29/E14/12*1000, 0) -> 1446.7101
B29: D.1.1. | C29: GVT veiklai tiesiogiai priskirtų darbuotojų darbo užmokesčio sąnaudos | D29: tūkst. Eur | E29: ='4'!$E$53 -> 379.32738 | G29: 4 priedas
B30: D.2. | C30: NT veiklai tiesiogiai priskirtų darbuotojų vidutinis darbo užmokestis | D30: Eur/mėn. | E30: =IFERROR(E31/E18/12*1000, 0) -> 1529.2382
B31: D.2.1. | C31: NT veiklai tiesiogiai priskirtų darbuotojų darbo užmokesčio sąnaudos | D31: tūkst. Eur | E31: ='4'!$I$53 -> 431.6122 | G31: 4 priedas
B32: D.3. | C32: Paviršinių nuotekų tvarkymo veiklai priskirtų darbuotojų vidutinis darbo užmokestis* | D32: Eur/mėn. | E32: =IFERROR(E33/E22/12*1000, 0) -> 1699.7983
B33: D.3.1. | C33: Paviršinių nuotekų tvarkymui tiesiogiai priskirtų darbuotojų vidutinis darbo užmokestis | D33: tūkst. Eur | E33: ='4'!$M$53 -> 44.6707 | G33: 4 priedas
B34: D.4. | C34: Apskaitos veiklai tiesiogiai priskirtų darbuotojų vidutinis darbo užmokestis | D34: Eur/mėn. | E34: =IFERROR(E35/E23/12*1000, 0) -> 1436.9401
B35: D.4.1. | C35: Apskaitos veiklai tiesiogiai priskirtų darbuotojų darbo užmokesčio sąnaudos | D35: tūkst. Eur | E35: ='4'!$O$53 -> 46.55686 | G35: 4 priedas
B36: D.5. | C36: Netiesiogiai priskiriamų reguliuojamai veiklai darbuotojų vidutinis darbo užmokestis | D36: Eur/mėn. | E36: =IFERROR(E37/E24/12*1000, 0) -> 1568.7657
B37: D.5.1. | C37: Netiesiogiai priskiriamų reguliuojamai veiklai darbuotojų darbo užmokesčio sąnaudos | D37: tūkst. Eur | E37: ='4'!O109+'4'!E109+'4'!I109+'4'!M109 -> 193.19705 | G37: 4 priedas
B38: D.6. | C38: Bendrai priskiriamų reguliuojamai veiklai darbuotojų vidutinis darbo užmokestis | D38: Eur/mėn. | E38: =IFERROR(E39/E25/12*1000, 0) -> 2413.7035
B39: D.6.1. | C39: Reguliuojamai veiklai bendrai priskiriamų administracijos darbuotojų darbo užmokesčio sąnaudos | D39: tūkst. Eur | E39: ='4'!O206+'4'!E206+'4'!I206+'4'!M206 -> 328.0101 | G39: 4 priedas
B40: D.7. | C40: Vidutinis darbo užmokestis reguliuojamoje veikloje | D40: Eur/mėn. | E40: =IFERROR((E29+E31+E33+E35+E37+E39)/E12/12*1000, 0) -> 1650.926
B41: D.8. | C41: Tiesiogiai ir netiesiogiai priskirtų reguliuojamai veiklai darbuotojų skaičius, tenkantis 1 bendrai reguliuojamai veiklai priskiriamam administracijos darbuotojui | D41: žm. | E41: =IFERROR((E13+E24)/E25, 0) -> 5.3443655
C43: * pildyti tik esant atskirai paviršinių nuotekų tvarkymo sistemai

Sheet 11
F2: Geriamojo vandens tiekimo ir nuotekų tvarkymo bei paviršinių nuotekų tvarkymo paslaugų įmonių apskaitos atskyrimo taisyklių ir susijusių reikalavimų sąvado 11 priedas
C3: Ūkio subjektas: UAB „Kaišiadorių vandenys“
C4: Ataskaitinis laikotarpis: 2024-01-01 - 2024-12-31
C6: Ataskaitinio laikotarpio elektros energijos (įskaitant ir savo pasigamintą) suvartojimo ataskaita
B9: Eil. Nr. | C9: RODIKLIS | D9: Matavimo vienetai | E9: Ataskaitinis laikotarpis | F9: Pastabos
B10: A | C10: ELEKTROS ENERGIJOS SUVARTOJIMAS TECHNOLOGINĖMS REIKMĖMS REGULIUOJAMOJE VEIKLOJE (įskaitant pasigamintą) | D10: tūkst. kWh | E10: =E11+E20 -> 2039.3039
B11: A.1.1. | C11: iš šio skaičiaus: Elektros energija patalpų šildymui ir eksploatacijai | D11: tūkst. kWh | E11: =SUM(E12:E19) -> 96.673
B12: A.1.1.1. | C12: iš šio skaičiaus: vandens gavyboje | D12: tūkst. kWh | E12: 55.593
B13: A.1.1.2. | C13: vandens ruošime | D13: tūkst. kWh | E13: 0
B14: A.1.1.3. | C14: vandens pristatyme | D14: tūkst. kWh | E14: 0
B15: A.1.1.4. | C15: nuotekų surinkime | D15: tūkst. kWh | E15: 0
B16: A.1.1.5. | C16: nuotekų valyme | D16: tūkst. kWh | E16: 41.08
B17: A.1.1.6. | C17: nuotekų dumblo tvarkyme | D17: tūkst. kWh | E17: 0
B18: A.1.1.7. | C18: paviršinių nuotekų tvarkyme* | D18: tūkst. kWh | E18: 0
B19: A.1.1.8. | C19: netiesioginėje veikloje | D19: tūkst. kWh | E19: 0
B20: A.1.2. | C20: Elektros energija vandens ir nuotekų siurbliams, orapūtėms, maišyklėms ir kitiems technologiniams įrenginiams | D20: tūkst. kWh | E20: =SUM(E21:E28) -> 1942.6309 | F20: Tuo atveju, jeigu įmonė naudoja bendrą skaitliuką skirtingose veiklose ir tiesioginėje veikloje naudojamų vandens ir nuotekų siurblių, orapūčių, maišyklių ir kitų technologinių įrenginių elektros energijos suvartojimas yra skirstomas naudodajant paskirstymo kriterijus, toks elektros energijos suvartojimas parodomas tiesioginėje veikloje. Netiesioginėje veikloje parodomas tarnybų (pvz. avarinė tarnyba), aptarnaujančių skirtingas veiklas technologinių įrenginių elektros energijos suvartojimas.
B21: A.1.2.1. | C21: iš šio skaičiaus: vandens gavyboje | D21: tūkst. kWh | E21: 622.571
B22: A.1.2.2. | C22: vandens ruošime | D22: tūkst. kWh | E22: 27.14
B23: A.1.2.3. | C23: vandens pristatyme | D23: tūkst. kWh | E23: 78.537
B24: A.1.2.4. | C24: nuotekų surinkime | D24: tūkst. kWh | E24: 300.98
B25: A.1.2.5. | C25: nuotekų valyme | D25: tūkst. kWh | E25: 856.009
B26: A.1.2.6. | C26: nuotekų dumblo tvarkyme | D26: tūkst. kWh | E26: 5.088
B27: A.1.2.7. | C27: paviršinių nuotekų tvarkyme* | D27: tūkst. kWh | E27: 0
B28: A.1.2.8. | C28: netiesioginėje veikloje | D28: tūkst. kWh | E28: 52.30585
B29: B. | C29: ELEKTROS ENERGIJOS SUVARTOJIMAS REGULIUOJAMOJE VEIKLOJE IŠ VISO (įskaitant pasigamintą) | D29: tūkst. kWh | E29: =E31+E10 -> 2045.5439
B30: B.1.1. | C30: Apskaitos veikloje | D30: tūkst. kWh | E30: 0.11464775
B31: B.1.2. | C31: Administracinėje veikloje (bendrai) sunaudota elektra | D31: tūkst. kWh | E31: 6.24 | F31: bendros sąnaudos
B32: C. | C32: ELEKTROS ENERGIJOS SUVARTOJIMAS KITOSE VEIKLOSE | D32: tūkst. kWh | E32: 104.0305
B33: D. | C33: PASIGAMINTA ELEKTROS ENERGIJA | D33: tūkst. kWh | E33: 0
B34: E. | C34: ELEKTROS ENERGIJOS GAMYBOS IR SUVARTOJIMO BALANSAS (B.+C.-D.) | D34: tūkst. kWh | E34: =E29+E32-E33+E30 -> 2149.689
B35: F. | C35: ELEKTROS ENERGIJOS SUVARTOJIMO SANTYKINIAI RODIKLIAI
B36: F.1.1. | C36: Elektros energijos suvartojimas vandens gavybos ir pristatymo veikloje | D36: kWh/m³/100mH2O | E36: =IF((E37+E39)=0,"0",(E21+E23)*100/(E40*(E41+E42+E43))) -> 0.38109632
B37: F.1.1.1. | C37: Vidutinis svertinis vandens pakėlimo aukštis vandens gavyboje (įvertinant slėgį) | D37: mH2O | E37: ='9'!E34 -> 104.5 | F37: 9 priedas
B38: F.1.1.2. | C38: Vidutinis svertinis vandens pakėlimo aukštis ruošime (įvertinant slėgį) | D38: mH2O | E38: =+'9'!E56 -> 0 | F38: 9 priedas
B39: F.1.1.3. | C39: Vidutinis svertinis vandens pakėlimo aukštis vandens pristatyme (įvertinant slėgį) | D39: mH2O | E39: ='9'!E61 -> 60 | F39: 9 priedas
B40: F.1.1.4. | C40: Vidutinis svertinis vandens pakėlimo aukštis gręžiniuose ir pakėlimo stotyse | D40: mH2O | E40: =(($E$41*($E$37+$E$38))+($E$42+$E$43)*$E$39)/($E$41+$E$42+$E$43) -> 82.814501
B41: F.1.1.5. | C41: Išgauto požeminio vandens kiekis (pirmas pakėlimas) | D41: tūkst. m3 | E41: =+'8'!E11 -> 1138.924 | F41: 8 priedas
B42: F.1.1.6. | C42: Patiekto geriamojo vandens kiekis (antro pakėlimo perpumpavimo stotyse pakelto vandens kiekis) | D42: tūkst. m3 | E42: ='8'!E13 -> 1082.563 | F42: 8 priedas
B43: F.1.1.7. | C43: Trečio, ketvirto,..n-to pakėlimo perpumpavimo stotyse pakelto vandens kiekis | D43: tūkst. m3 | E43: =+'8'!E16 -> 0 | F43: 8 priedas
B44: F.1.2. | C44: Elektros energijos suvartojimas vandens ruošimo veikloje | D44: kWh/m³ | E44: =IF(E45=0,"0",E22/E46) -> 0
B45: F.1.2.1. | C45: Vidutinis svertinis vandens pakėlimo aukštis ruošime (įvertinant slėgį) | D45: mH2O | E45: ='9'!E56 -> 0 | F45: 9 priedas
B46: F.1.2.2. | C46: Paruošto geriamojo vandens kiekis | D46: tūkst. m3 | E46: ='8'!E12 -> 1138.085 | F46: 8 priedas
B47: F.1.3. | C47: Elektros energijos suvartojimas nuotekoms surinkti | D47: kWh/m³/100mH2O | E47: =IF(E48=0,"-",((E24*100)/(E50+E51)/E48)) -> 0.91038024
B48: F.1.3.1. | C48: Vidutinis svertinis vandens pakėlimo aukštis nuotekų surinkime (įvertinant slėgį) | D48: mH2O | E48: ='9'!E79 -> 21.86 | F48: 9 priedas
B49: F.1.3.2. | C49: Surinktų nuotekų kiekis | D49: tūkst. m3 | E49: ='8'!E34 -> 1517.291 | F49: 8 priedas
B50: F.1.3.3. | C50: Perpumpuotų nuotekų kiekis (per pirmąsias siurblines) | D50: tūkst. m3 | E50: ='8'!E37 -> 1512.393 | F50: 8 priedas
B51: F.1.3.4. | C51: Perpumpuotų nuotekų kiekis (per per antrąsias, trečiąsias, ketvirtąsias,...n-tąsias siurblines) | D51: tūkst. m3 | E51: =+'8'!E38 -> 0
B52: F.1.4. | C52: Elektros energijos suvartojimas nuotekoms valyti | D52: kWh/tona | E52: =IF(E53=0,"-",((E25*1000)/E53)) -> 1293.9065
B53: F.1.4.1. | C53: Pašalinta teršalų iš išvalytų atitekančių nuotekų (BDS7) | D53: tonos | E53: ='9'!E129 -> 661.56943 | F53: 9 priedas
B54: F.1.5. | C54: Elektros energijos vidutinė kaina reguliuojamoje veikloje | D54: Eur/kWh | E54: =IFERROR(E55/(E29-E33-E30), 0) -> 0.1615499
B55: F.1.5.1. | C55: Elektros energijos sąnaudos reguliuojamoje veikloje | D55: tūkst. Eur | E55: =+'4'!E13+'4'!I13+'4'!M13 -> 330.43887 | F55: 4 priedas
C57: * pildyti tik esant atskirai paviršinių nuotekų tvarkymo sistemai
