Workbook

Sheet 1
E2: Geriamojo vandens tiekimo ir nuotekų tvarkymo bei paviršinių nuotekų tvarkymo paslaugų įmonių apskaitos atskyrimo taisyklių ir susijusių reikalavimų sąvado 1 priedas
D3: Ilgalaikio turto grupių ir nusidėvėjimo (amortizacijos) skaičiavimo laikotarpių sąrašas
C5: Eil. Nr. | D5: Ilgalaikio turto grupės | E5: Laikotarpis, metais
C6: I. | D6: NEMATERIALUSIS TURTAS
C7: I.1. | D7: standartinė programinė įranga | E7: 4
C8: I.1. | D8: spec. programinė įranga | E8: 4-15
C9: I.1. | D9: kitas nematerialus turtas | E9: 4-15
C10: II.2. | D10: PASTATAI IR STATINIAI
C11: II.2.1. | D11: Pastatai (administraciniai, gamybiniai-ūkiniai ir pan.) | E11: 50-70
C12: II.2.2. | D12: keliai, aikštelės, šaligatviai ir tvoros | E12: 27-30
C13: II.2.3. | D13: geriamojo vandens tiekimo ir nuotekų surinkimo vamzdynai | E13: 50
C14: II.2.4. | D14: šilumos ir karšto vandens tiekimo vamzdynai | E14: 30
C15: II.2.5. | D15: saulės šviesos elektrinės | E15: 20
C16: II.2.6. | D16: Kiti įrenginiai (siurblinių statiniai, vandentiekio įrenginiai, nusodintuvai, diukeriai, vandens rezervuarai, gelžbetoniniai metantankai, smėlio gaudytuvai, aerotankai, nusodintuvai, nuotekų valymo flotatoriai, dumblo aikštelės ir kt.) | E16: 35
C17: II.3. | D17: MAŠINOS IR ĮRANGA
C18: II.3.1. | D18: vandens siurbliai, nuotekų ir dumblo siurbliai virš 5 kW, kita įranga ( siurblių valdymo įranga, elektrotechninė įranga, stacionarios ir mobilios darbo bei hidrodinaminės mašinos, staklės, sklendės, grotelės, grėbliai, grandikliai, filtrai, centrifugos) | E18: 10
C19: II.3.2. | D19: nuotekų ir dumblo siurbliai iki 5 kW | E19: 5
C20: II.4. | D20: KITI ĮRENGINIAI, PRIETAISAI IR ĮRANKIAI
C21: II.4.1. | D21: geriamojo vandens apskaitos prietaisai | E21: Ne mažesnis už metrologinės patikros galiojimo metų skaičių
C22: II.4.2. | D22: atsiskaitomieji karšto vandens apskaitos prietaisai | E22: Metrologinės patikros galiojimo metų skaičius
C23: II.4.3. | D23: šilumos (atsiskaitomieji ir neatsiskaitomieji) apskaitos prietaisai | E23: 7
C24: II.4.4. | D24: kiti geriamojo vandens ir nuotekų apskaitos prietaisai (įrengti gręžiniuose, įrenginiuose ir.t.t) | E24: 6
C25: II.4.5. | D25: Kompiuteriai, kompiuteriniai tinklai ir jų įranga | E25: 4
C26: II.4.6. | D26: įrankiai (matavimo priemonės, elektriniai įrankiai ir prietaisai, gamybinis inventorius ir kt.) | E26: 6
C27: II.5. | D27: TRANSPORTO PRIEMONĖS
C28: II.5.1. | D28: lengvieji automobiliai | E28: 7
C29: II.5.2. | D29: kitos transporto priemonės (transportas dumblui, vandeniui vežti, autobusai žmonėms vežti) | E29: 10

Sheet 3
E2: Geriamojo vandens tiekimo ir nuotekų tvarkymo bei paviršinių nuotekų tvarkymo paslaugų įmonių apskaitos atskyrimo taisyklių ir susijusių reikalavimų sąvado 3 priedas
C3: Ūkio subjektas: UAB „Kaišiadorių vandenys“
C4: Ataskaitinis laikotarpis: 2024-01-01 - 2024-12-31
C6: Ataskaitinio laikotarpio reguliuojamosios veiklos pelno (nuostolių) ataskaita (tūkst. Eur)
B9: Eil. Nr. | C9: STRAIPSNIAI | D9: Ataskaitinis laikotarpis | E9: Paaiškinimai
B10: I. | C10: PAJAMOS
B11: A. | C11: (GARANTINIO) GERIAMOJO VANDENS TIEKIMO IR NUOTEKŲ TVARKYMO (GVTNT) PAJAMOS: | D11: =D12+D15+D31 -> 2440.3475
B12: A.1. | C12: (garantinio) geriamojo vandens tiekimo (GVT) pajamos | D12: =SUM(D13:D14) -> 1149.6555
B13: A.1.1. | C13: geriamojo vandens tiekimo pajamos | D13: 1149.6555
B14: A.1.2. | C14: GVTNT ilgalaikio turto nuomos pajamos | D14: 0
B15: A.2. | C15: (garantinio) nuotekų tvarkymo (NT) veiklos pajamos | D15: =D16+D20+D26 -> 1250.9165
B16: A.2.1. | C16: (garantinis) nuotekų surinkimas centralizuotais nuotekų surinkimo tinklais pajamos | D16: =SUM(D17:D19) -> 574.61314
B17: A.2.1.1. | C17: pajamos už buitinių ir gamybinių nuotekų surinkimą | D17: 574.61314
B18: A.2.1.2. | C18: pajamos už paviršinių nuotekų tvarkymą, jei yra mišri nuotekų surinkimo sistema | D18: 0
B19: A.2.1.3. | C19: GVTNT ilgalaikio turto nuomos pajamos | D19: 0 | K19: `
B20: A.2.2. | C20: (garantinio) nuotekų valymo pajamos | D20: =SUM(D21:D25) -> 565.89019
B21: A.2.2.1. | C21: pajamos už buitinių ir gamybinių nuotekų valymą (be padidėjusios taršos) | D21: 539.82684
B22: A.2.2.2. | C22: pajamos už padidėjusią ir savitąją taršą | D22: 26.06335
B23: A.2.2.3. | C23: pajamos už paviršinių nuotekų tvarkymą, jei yra mišri nuotekų surinkimo sistema | D23: 0
B24: A.2.2.4. | C24: GVTNT ilgalaikio turto nuomos pajamos | D24: 0
B25: A.2.2.5. | C25: Elektros energijos telkimo pajamos | D25: 0
B26: A.2.3. | C26: (garantinio) nuotekų dumblo tvarkymo pajamos | D26: =SUM(D27:D30) -> 110.41315
B27: A.2.3.1. | C27: pajamos už dumblo tvarkymą (be kitų bendrovių atvežto nuotekų dumblo) | D27: 110.41315
B28: A.2.3.2. | C28: pajamos už kitų bendrovių atvežtą tvarkyti nuotekų dumblą | D28: 0
B29: A.2.3.3. | C29: pajamos už paviršinių nuotekų tvarkymą, jei yra mišri nuotekų surinkimo sistema | D29: 0
B30: A.2.3.4. | C30: GVTNT ilgalaikio turto nuomos pajamos | D30: 0
B31: A.3. | C31: paviršinių nuotekų tvarkymo pajamos | D31: =SUM(D32+D33) -> 39.77554
B32: A.3.1. | C32: pajamos už paviršinių nuotekų tvarkymą, jei yra atskira paviršinių nuotekų surinkimo sistema | D32: 39.77554
B33: A.3.2. | C33: GVTNT ilgalaikio turto nuomos pajamos | D33: 0
B34: B. | C34: KITŲ VEIKLŲ PAJAMOS | D34: =D35+D40 -> 337.40973
B35: B.1. | C35: (garantinio vandens tiekėjo) kitos reguliuojamosios veiklos pajamos | D35: =SUM(D36:D39) -> 167.30669
B36: B.1.1. | C36: apskaitos veiklos pajamos | D36: 167.30669
B37: B.1.2. | C37: garantiniam tiekėjui sumokėtų įmokų pajamos | D37: 0
B38: B.1.3. | C38: kitos reguliuojamos veiklos pajamos | D38: 0
B39: B.1.4. | C39: GVTNT ilgalaikio turto nuomos pajamos | D39: 0
B40: B.2. | C40: (garantinio vandens tiekėjo) nereguliuojamosios veiklos pajamos | D40: =SUM(D41:D43) -> 170.10304
B41: B.2.1. | C41: nereguliuojamos veiklos pajamos (įskaitant finansinę veiklą) | D41: 170.10304
B42: B.2.2. | C42: GVTNT ilgalaikio turto nuomos pajamos | D42: =+SUM(D14,D19,D24,D30,D33,D39) -> 0
B43: B.2.3. | C43: Elektros energijos telkimo pajamos | D43: 0
B44: II. | C44: PASKIRSTOMOSIOS SĄNAUDOS | D44: =D45+D52 -> 2649.7749 | E44: 4 priedas
...

Sheet 4
C2: Ūkio subjektas: UAB „Kaišiadorių vandenys“ | Q2: Geriamojo vandens tiekimo ir nuotekų tvarkymo bei paviršinių nuotekų tvarkymo paslaugų įmonių apskaitos atskyrimo taisyklių ir susijusių reikalavimų sąvado 4 priedas
C3: Ataskaitinis laikotarpis: 2024-01-01 - 2024-12-31
C5: Ataskaitinio laikotarpio reguliuojamos veiklos sąnaudų paskirstymo verslo vienetams ir paslaugoms ataskaita (tūkst. Eur)
B9: Eil. Nr. | C9: SĄNAUDOS | D9: 1. IŠ VISO | E9: 2. Iš viso GVT | F9: 2.1. Geriamojo vandens gavyba | G9: 2.2. Geriamojo vandens ruošimas | H9: 2.3. Geriamojo vandens pristatymas | I9: 3. Iš viso NT | J9: 3.1. Nuotekų surinkimas | K9: 3.2. Nuotekų valymas | L9: 3.3. Nuotekų dumblo tvarkymas | M9: 4. Paviršinių nuotekų tvarkymas (tik esant atskirai paviršinių nuotekų tvarkymo sistemai) | N9: 5. Kitos reguliuojamosios veiklos verslo vienetas | O9: 5.1. Apskaitos veikla | P9: 5.2. Kita reguliuojama veikla | Q9: 6. Kitos veiklos (nereguliuojamosios veiklos) verslo vienetas
B10: A. | C10: PASKIRSTOMŲJŲ SĄNAUDŲ SUVESTINĖ
B11: A.1. | C11: Geriamojo vandens įsigijimo sąnaudos | D11: =D30 -> 0 | E11: =E30 -> 0 | F11: =F30 -> 0 | G11: =G30 -> 0 | H11: =H30 -> 0 | I11: =I30 -> 0 | J11: =J30 -> 0 | K11: =K30 -> 0 | ... M11: =M30 -> 0 | N11: =O11+P11 -> 0 | O11: =O30 -> 0 | P11: =P30 -> 0 | Q11: =Q30 -> 0
B12: A.2. | C12: Nuotekų tvarkymo paslaugų pirkimo sąnaudos | D12: =D31 -> 4.552 | E12: =E31 -> 0 | F12: =F31 -> 0 | G12: =G31 -> 0 | H12: =H31 -> 0 | I12: =I31 -> 4.552 | J12: =J31 -> 0 | K12: =K31 -> 4.552 | ... M12: =M31 -> 0 | N12: =O12+P12 -> 0 | O12: =O31 -> 0 | P12: =P31 -> 0 | Q12: =Q31 -> 0
B13: A.3. | C13: Elektros energijos sąnaudos, iš šio skaičiaus | D13: =D34+D93+D191 -> 347.3489 | E13: =E34+E93+E191 -> 129.49607 | F13: =F34+F93+F191 -> 109.81551 | G13: =G34+G93+G191 -> 4.7217307 | H13: =H34+H93+H191 -> 14.958824 | I13: =I34+I93+I191 -> 200.71046 | J13: =J34+J93+J191 -> 52.466297 | K13: =K34+K93+K191 -> 147.15365 | ... M13: =M34+M93+M191 -> 0.23234892 | N13: =O13+P13 -> 0.060053045 | O13: =O34+O93+O191 -> 0.060053045 | P13: =P34+P93+P191 -> 0 | Q13: =Q34+Q93+Q191 -> 16.849974
B14: A.3.1. | C14: Elektros energija siurbliams, orapūtėms, maišyklėms ir kitiems technologiniams įrenginiams | D14: =D35+D94 -> 330.72011 | E14: =E35+E94 -> 120.11753 | F14: =F35+F94 -> 100.72895 | G14: =G35+G94 -> 4.6843524 | H14: =H35+H94 -> 14.704232 | I14: =I35+I94 -> 193.57485 | J14: =J35+J94 -> 52.228335 | K14: =K35+K94 -> 140.2912 | ... M14: =M35+M94 -> 0.19985359 | N14: =O14+P14 -> 0.018524903 | O14: =O35+O94 -> 0.018524903 | P14: =P35+P94 -> 0 | Q14: =Q35+Q94 -> 16.809351
B15: A.4. | C15: Technologinių medžiagų ir technologinio kuro sąnaudos | D15: =D37 -> 19.0602 | E15: =E37 -> 0 | F15: =F37 -> 0 | G15: =G37 -> 0 | H15: =H37 -> 0 | I15: =I37 -> 19.0602 | J15: =J37 -> 0 | K15: =K37 -> 19.0602 | ... M15: =M37 -> 0 | N15: =O15+P15 -> 0 | O15: =O37 -> 0 | P15: =P37 -> 0 | Q15: =Q37 -> 0
B16: A.5. | C16: Einamojo remonto ir aptarnavimo sąnaudos, iš šio skaičius: | D16: =D45+D101+D198 -> 139.86423 | E16: =E45+E101+E198 -> 69.245632 | F16: =F45+F101+F198 -> 11.039945 | G16: =G45+G101+G198 -> 8.8658349 | H16: =H45+H101+H198 -> 49.339852 | I16: =I45+I101+I198 -> 63.152985 | J16: =J45+J101+J198 -> 36.3196 | K16: =K45+K101+K198 -> 24.291928 | ... M16: =M45+M101+M198 -> 1.3495024 | N16: =O16+P16 -> 5.5126531 | O16: =O45+O101+O198 -> 5.5126531 | P16: =P45+P101+P198 -> 0 | Q16: =Q45+Q101+Q198 -> 0.60345806
B17: A.5.1. | C17: Remonto medžiagų ir detalių sąnaudos | D17: =D46+D102+D199 -> 84.70123 | E17: =E46+E102+E199 -> 31.737709 | F17: =F46+F102+F199 -> 4.8490162 | G17: =G46+G102+G199 -> 5.7287031 | H17: =H46+H102+H199 -> 21.159989 | I17: =I46+I102+I199 -> 48.168207 | J17: =J46+J102+J199 -> 25.523138 | K17: =K46+K102+K199 -> 21.199099 | ... M17: =M46+M102+M199 -> 1.2660716 | N17: =O17+P17 -> 2.9605234 | O17: =O46+O102+O199 -> 2.9605234 | P17: =P46+P102+P199 -> 0 | Q17: =Q46+Q102+Q199 -> 0.56871958
B18: A.5.2. | C18: Avarijų šalinimo sąnaudos | D18: =D49+D105+D202 -> 26.178 | E18: =E49+E105+E202 -> 19.888 | F18: =F49+F105+F202 -> 0 | G18: =G49+G105+G202 -> 0 | H18: =H49+H105+H202 -> 19.888 | I18: =I49+I105+I202 -> 6.29 | J18: =J49+J105+J202 -> 6.29 | K18: =K49+K105+K202 -> 0 | ... M18: =M49+M105+M202 -> 0 | N18: =O18+P18 -> 0 | O18: =O49+O105+O202 -> 0 | P18: =P49+P105+P202 -> 0 | Q18: =Q49+Q105+Q202 -> 0
B19: A.5.3. | C19: Remonto ir aptarnavimo paslaugų pirkimo sąnaudos | D19: =D47+D103+D200 -> 19.733 | E19: =E47+E103+E200 -> 14.69077 | F19: =F47+F103+F200 -> 6.1584987 | G19: =G47+G103+G200 -> 3.0643844 | H19: =H47+H103+H200 -> 5.4678872 | I19: =I47+I103+I200 -> 4.9485387 | J19: =J47+J103+J200 -> 3.6317474 | K19: =K47+K103+K200 -> 0.27803313 | ... M19: =M47+M103+M200 -> 0.034812866 | N19: =O19+P19 -> 0.029623196 | O19: =O47+O103+O200 -> 0.029623196 | P19: =P47+P103+P200 -> 0 | Q19: =Q47+Q103+Q200 -> 0.029255004
B20: A.6. | C20: Personalo sąnaudos, iš šio skaičius: | D20: =D52+D108+D205 -> 1518.9671 | E20: =E52+E108+E205 -> 584.47063 | F20: =F52+F108+F205 -> 159.63171 | G20: =G52+G108+G205 -> 37.921304 | H20: =H52+H108+H205 -> 386.91762 | I20: =I52+I108+I205 -> 753.04198 | J20: =J52+J108+J205 -> 330.49107 | K20: =K52+K108+K205 -> 361.97152 | ... M20: =M52+M108+M205 -> 61.814928 | N20: =O20+P20 -> 62.78266 | O20: =O52+O108+O205 -> 62.78266 | P20: =P52+P108+P205 -> 0 | Q20: =Q52+Q108+Q205 -> 56.856883
B21: A.6.1. | C21: Darbo užmokesčio sąnaudos | D21: =D53+D109+D206 -> 1478.6737 | E21: =E53+E109+E206 -> 569.28421 | F21: =F53+F109+F206 -> 155.35541 | G21: =G53+G109+G206 -> 36.780113 | H21: =H53+H109+H206 -> 377.14869 | I21: =I53+I109+I206 -> 732.78924 | J21: =J53+J109+J206 -> 321.40986 | K21: =K53+K109+K206 -> 352.37794 | ... M21: =M53+M109+M206 -> 60.24436 | N21: =O21+P21 -> 61.056485 | O21: =O53+O109+O206 -> 61.056485 | P21: =P53+P109+P206 -> 0 | Q21: =Q53+Q109+Q206 -> 55.299447
B22: A.7. | C22: Perkamų paslaugų (veiklos rangos) sąnaudos | D22: =D32+D33+D47+D69+D71+D75+D77+D78+D79+D81+D87+D88+D103+D122+D124+D128+D131+D132+D134+D140+D141+D200+D219+D221+D225+D227+D228+D229+D231+D238+D239+D130 -> 153.93787 | E22: =E32+E33+E47+E69+E71+E75+E77+E78+E79+E81+E87+E88+E103+E122+E124+E128+E131+E132+E134+E140+E141+E200+E219+E221+E225+E227+E228+E229+E231+E238+E239+E130 -> 64.94318 | F22: =F32+F33+F47+F69+F71+F75+F77+F78+F79+F81+F87+F88+F103+F122+F124+F128+F131+F132+F134+F140+F141+F200+F219+F221+F225+F227+F228+F229+F231+F238+F239+F130 -> 16.883892 | G22: =G32+G33+G47+G69+G71+G75+G77+G78+G79+G81+G87+G88+G103+G122+G124+G128+G131+G132+G134+G140+G141+G200+G219+G221+G225+G227+G228+G229+G231+G238+G239+G130 -> 7.2044386 | H22: =H32+H33+H47+H69+H71+H75+H77+H78+H79+H81+H87+H88+H103+H122+H124+H128+H131+H132+H134+H140+H141+H200+H219+H221+H225+H227+H228+H229+H231+H238+H239+H130 -> 40.854849 | I22: =I32+I33+I47+I69+I71+I75+I77+I78+I79+I81+I87+I88+I103+I122+I124+I128+I131+I132+I134+I140+I141+I200+I219+I221+I225+I227+I228+I229+I231+I238+I239+I130 -> 80.637176 | J22: =J32+J33+J47+J69+J71+J75+J77+J78+J79+J81+J87+J88+J103+J122+J124+J128+J131+J132+J134+J140+J141+J200+J219+J221+J225+J227+J228+J229+J231+J238+J239+J130 -> 41.082371 | K22: =K32+K33+K47+K69+K71+K75+K77+K78+K79+K81+K87+K88+K103+K122+K124+K128+K131+K132+K134+K140+K141+K200+K219+K221+K225+K227+K228+K229+K231+K238+K239+K130 -> 34.934821 | ... M22: =M32+M33+M47+M69+M71+M75+M77+M78+M79+M81+M87+M88+M103+M122+M124+M128+M131+M132+M134+M140+M141+M200+M219+M221+M225+M227+M228+M229+M231+M238+M239+M130 -> 3.239796 | N22: =O22+P22 -> 2.5722587 | O22: =O32+O33+O47+O69+O71+O75+O77+O78+O79+O81+O87+O88+O103+O122+O124+O128+O131+O132+O134+O140+O141+O200+O219+O221+O225+O227+O228+O229+O231+O238+O239+O130 -> 2.5722587 | P22: =P32+P33+P47+P69+P71+P75+P77+P78+P79+P81+P87+P88+P103+P122+P124+P128+P131+P132+P134+P140+P141+P200+P219+P221+P225+P227+P228+P229+P231+P238+P239+P130 -> 0 | Q22: =Q32+Q33+Q47+Q69+Q71+Q75+Q77+Q78+Q79+Q81+Q87+Q88+Q103+Q122+Q124+Q128+Q131+Q132+Q134+Q140+Q141+Q200+Q219+Q221+Q225+Q227+Q228+Q229+Q231+Q238+Q239+Q130 -> 2.5454596
B23: A.B. | C23: VISOS PASKIRSTOMOSIOS SĄNAUDOS, IŠ ŠIO SKAIČIAUS: | D23: =D29+D92+D190 -> 2649.7749 | E23: =E29+E92+E190 -> 1069.9829 | F23: =F29+F92+F190 -> 423.59764 | G23: =G29+G92+G190 -> 84.953092 | H23: =H29+H92+H190 -> 561.43212 | I23: =I29+I92+I190 -> 1316.5644 | J23: =J29+J92+J190 -> 563.24383 | K23: =K29+K92+K190 -> 676.67676 | ... M23: =M29+M92+M190 -> 69.982531 | N23: =O23+P23 -> 89.198879 | O23: =O29+O92+O190 -> 89.198879 | P23: =P29+P92+P190 -> 0 | Q23: =Q29+Q92+Q190 -> 104.04622
B24: A.B.1. | C24: Pastoviosios paskirstomosios sąnaudos, iš šio skaičius: | D24: =O24+E24+I24+M24+P24+Q24 -> 2165.2275 | E24: =SUM(E25:E27) -> 849.88732 | F24: =SUM(F25:F27) -> 222.89069 | G24: =SUM(G25:G27) -> 80.26874 | H24: =SUM(H25:H27) -> 546.72789 | I24: =SUM(I25:I27) -> 1069.1403 | J24: =SUM(J25:J27) -> 511.01549 | K24: =SUM(K25:K27) -> 482.53636 | L24: =SUM(L25:L27) -> 75.588472 | M24: =SUM(M25:M27) -> 69.782678 | N24: =O24+P24 -> 89.180354 | O24: =SUM(O25:O27) -> 89.180354 | P24: =SUM(P25:P27) -> 0 | Q24: =SUM(Q25:Q27) -> 87.236865
B25: A.B.1.1. | C25: Tiesioginės pastoviosios sąnaudos | D25: =O25+E25+I25+M25+P25+Q25 -> 1329.8869 | E25: =SUM(F25:H25) -> 556.54923 | F25: =F29-F30-F31-F35-F38-F39-F59-F60-F91 -> 165.7569 | G25: =G29-G30-G31-G35-G38-G39-G59-G60-G91 -> 49.916441 | H25: =H29-H30-H31-H35-H38-H39-H59-H60-H91 -> 340.87589 | I25: =SUM(J25:L25) -> 593.89456 | J25: =J29-J30-J31-J35-J38-J39-J59-J60-J91 -> 251.89013 | K25: =K29-K30-K31-K35-K38-K39-K59-K60-K91 -> 293.11305 | L25: =L29-L30-L31-L35-L38-L39-L59-L60-L91 -> 48.891383 | M25: =M29-M30-M31-M35-M38-M39-M59-M60-M91 -> 45.737089 | N25: =O25+P25 -> 67.676513 | O25: =O29-O30-O31-O35-O38-O39-O59-O60-O91 -> 67.676513 | P25: =P29-P30-P31-P35-P38-P39-P59-P60-P91 -> 0 | Q25: =Q29-Q30-Q31-Q35-Q38-Q39-Q59-Q60-Q91 -> 66.02952
B26: A.B.1.2. | C26: Netiesioginės pastoviosios sąnaudos | D26: =O26+E26+I26+M26+P26+Q26 -> 330.76159 | E26: =SUM(F26:H26) -> 95.282546 | F26: =F92-F94-F143 -> 5.1919216 | G26: =G92-G94-G143 -> 11.646678 | H26: =H92-H94-H143 -> 78.443947 | I26: =SUM(J26:L26) -> 226.09606 | J26: =J92-J94-J143 -> 140.03963 | K26: =K92-K94-K143 -> 76.974285 | L26: =L92-L94-L143 -> 9.0821467 | M26: =M92-M94-M143 -> 7.7836132 | N26: =O26+P26 -> 0.72148157 | O26: =O92-O94-O143 -> 0.72148157 | P26: =P92-P94-P143 -> 0 | Q26: =Q92-Q94-Q143 -> 0.87789113
B27: A.B.1.3. | C27: Bendrosios pastoviosios sąnaudos | D27: =O27+E27+I27+M27+P27+Q27 -> 504.57904 | E27: =SUM(F27:H27) -> 198.05555 | F27: =F190 -> 51.941872 | G27: =G190 -> 18.70562 | H27: =H190 -> 127.40806 | I27: =SUM(J27:L27) -> 249.1497 | J27: =J190 -> 119.08573 | K27: =K190 -> 112.44903 | L27: =L190 -> 17.614943 | M27: =M190 -> 16.261975 | N27: =O27+P27 -> 20.78236 | O27: =O190 -> 20.78236 | P27: =P190 -> 0 | Q27: =Q190 -> 20.329454
B28: A.B.2. | C28: Kintamosios paskirstomosios sąnaudos | D28: =O28+E28+I28+M28+P28+Q28 -> 484.54731 | E28: =SUM(F28:H28) -> 220.09553 | F28: =F30+F31+F35+F38+F39+F59+F60+F91+F94+F143 -> 200.70695 | G28: =G30+G31+G35+G38+G39+G59+G60+G91+G94+G143 -> 4.6843524 | H28: =H30+H31+H35+H38+H39+H59+H60+H91+H94+H143 -> 14.704232 | I28: =SUM(J28:L28) -> 247.42405 | J28: =J30+J31+J35+J38+J39+J59+J60+J91+J94+J143 -> 52.228335 | K28: =K30+K31+K35+K38+K39+K59+K60+K91+K94+K143 -> 194.1404 | L28: =L30+L31+L35+L38+L39+L59+L60+L91+L94+L143 -> 1.055315 | M28: =M30+M31+M35+M38+M39+M59+M60+M91+M94+M143 -> 0.19985359 | N28: =O28+P28 -> 0.018524903 | O28: =O30+O31+O35+O38+O39+O59+O60+O91+O94+O143 -> 0.018524903 | P28: =P30+P31+P35+P38+P39+P59+P60+P91+P94+P143 -> 0 | Q28: =Q30+Q31+Q35+Q38+Q39+Q59+Q60+Q91+Q94+Q143 -> 16.809351
B29: B. | C29: TIESIOGINĖS SĄNAUDOS | D29: =O29+E29+I29+M29+P29+Q29 -> 1805.9415 | E29: =SUM(F29:H29) -> 774.19827 | F29: =F30+F31+F34+F37+F40+F43+F45+F51+F52+F58+F65+F68+F83+F84 -> 366.33054 | G29: =G30+G31+G34+G37+G40+G43+G45+G51+G52+G58+G65+G68+G83+G84 -> 54.301751 | H29: =H30+H31+H34+H37+H40+H43+H45+H51+H52+H58+H65+H68+H83+H84 -> 353.56598 | I29: =SUM(J29:L29) -> 835.51332 | J29: =J30+J31+J34+J37+J40+J43+J45+J51+J52+J58+J65+J68+J83+J84 -> 300.52278 | K29: =K30+K31+K34+K37+K40+K43+K45+K51+K52+K58+K65+K68+K83+K84 -> 485.27704 | L29: =L30+L31+L34+L37+L40+L43+L45+L51+L52+L58+L65+L68+L83+L84 -> 49.713503 | M29: =M30+M31+M34+M37+M40+M43+M45+M51+M52+M58+M65+M68+M83+M84 -> 45.737089 | N29: =O29+P29 -> 67.676513 | O29: =O30+O31+O34+O37+O40+O43+O45+O51+O52+O58+O65+O68+O83+O84 -> 67.676513 | P29: =P30+P31+P34+P37+P40+P43+P45+P51+P52+P58+P65+P68+P83+P84 -> 0 | Q29: =Q30+Q31+Q34+Q37+Q40+Q43+Q45+Q51+Q52+Q58+Q65+Q68+Q83+Q84 -> 82.81633
B30: B.1. | C30: Geriamojo vandens įsigijimo sąnaudos | D30: =O30+E30+I30+M30+P30+Q30 -> 0 | E30: =SUM(F30:H30) -> 0 | F30: 0 | G30: 0 | H30: 0 | I30: =SUM(J30:L30) -> 0 | J30: 0 | K30: 0 | L30: 0 | M30: 0 | N30: =O30+P30 -> 0 | O30: 0 | P30: 0 | Q30: 0
B31: B.2. | C31: Nuotekų tvarkymo paslaugų pirkimo sąnaudos | D31: =O31+E31+I31+M31+P31+Q31 -> 4.552 | E31: =SUM(E32:E33) -> 0 | F31: =SUM(F32:F33) -> 0 | G31: =SUM(G32:G33) -> 0 | H31: =SUM(H32:H33) -> 0 | I31: =SUM(J31:L31) -> 4.552 | J31: =SUM(J32:J33) -> 0 | K31: =SUM(K32:K33) -> 4.552 | L31: =SUM(L32:L33) -> 0 | M31: =SUM(M32:M33) -> 0 | N31: =O31+P31 -> 0 | O31: =SUM(O32:O33) -> 0 | P31: =SUM(P32:P33) -> 0 | Q31: =SUM(Q32:Q33) -> 0
B32: B.2.1. | C32: Nuotekų tvarkymo paslaugų pirkimo sąnaudos | D32: =I32+M32+P32+Q32 -> 4.552 | E32: =+SUM(F32:H32) -> 0 | F32: 0 | G32: 0 | H32: 0 | I32: =SUM(J32:L32) -> 4.552 | J32: 0 | K32: 4.552 | L32: 0 | M32: 0 | N32: =O32+P32 -> 0 | O32: 0 | P32: 0 | Q32: 0
B33: B.2.2. | C33: Dumblo tvarkymo paslaugų pirkimo sąnaudos | D33: =I33+M33+P33+Q33 -> 0 | E33: =+SUM(F33:H33) -> 0 | F33: 0 | G33: 0 | H33: 0 | I33: =SUM(J33:L33) -> 0 | J33: 0 | K33: 0 | L33: 0 | M33: 0 | N33: =O33+P33 -> 0 | O33: 0 | P33: 0 | Q33: 0
B34: B.3. | C34: Elektros energijos sąnaudos | D34: =O34+E34+I34+M34+P34+Q34 -> 337.84793 | E34: =E35+E36 -> 126.65381 | F34: =F35+F36 -> 109.57841 | G34: =G35+G36 -> 4.38531 | H34: =H35+H36 -> 12.69009 | I34: =SUM(J34:L34) -> 194.40731 | J34: =SUM(J35:J36) -> 48.63265 | K34: =SUM(K35:K36) -> 144.95254 | L34: =SUM(L35:L36) -> 0.82212 | M34: =SUM(M35:M36) -> 0 | N34: =O34+P34 -> 0 | O34: =O35+O36 -> 0 | P34: =SUM(P35:P36) -> 0 | Q34: =SUM(Q35:Q36) -> 16.78681
B35: B.3.1. | C35: Elektros energija siurbliams, orapūtėms, maišyklėms ir kitiems technologiniams įrenginiams | D35: =O35+E35+I35+M35+P35+Q35 -> 322.22741 | E35: =SUM(F35:H35) -> 117.67104 | F35: 100.59564 | G35: 4.38531 | H35: 12.69009 | I35: =SUM(J35:L35) -> 187.76956 | J35: 48.63265 | K35: 138.31479 | L35: 0.82212 | M35: 0 | N35: =O35+P35 -> 0 | O35: 0 | P35: 0 | Q35: 16.78681
B36: B.3.2. | C36: Patalpų šildymo, apšvietimo, vėdinimo ir eksploatacijos elektros energijos sąnaudos | D36: =O36+E36+I36+M36+P36+Q36 -> 15.62052 | E36: =SUM(F36:H36) -> 8.98277 | F36: 8.98277 | G36: 0 | H36: 0 | I36: =SUM(J36:L36) -> 6.63775 | J36: 0 | K36: 6.63775 | L36: 0 | M36: 0 | N36: =O36+P36 -> 0 | O36: 0 | P36: 0 | Q36: 0
B37: B.4. | C37: Technologinių medžiagų ir technologinio kuro sąnaudos | D37: =O37+E37+I37+M37+P37+Q37 -> 19.0602 | E37: =SUM(F37:H37) -> 0 | F37: =F38 -> 0 | G37: =G38 -> 0 | H37: =H38 -> 0 | I37: =SUM(J37:L37) -> 19.0602 | J37: =SUM(J38:J39) -> 0 | K37: =SUM(K38:K39) -> 19.0602 | L37: =SUM(L38:L39) -> 0 | M37: =SUM(M38:M39) -> 0 | N37: =O37+P37 -> 0 | O37: =O38+O39 -> 0 | P37: =SUM(P38:P39) -> 0 | Q37: =SUM(Q38:Q39) -> 0
B38: B.4.1. | C38: Technologinių medžiagų sąnaudos | D38: =O38+E38+I38+M38+P38+Q38 -> 19.0602 | E38: =SUM(F38:H38) -> 0 | F38: 0 | G38: 0 | H38: 0 | I38: =SUM(J38:L38) -> 19.0602 | J38: 0 | K38: 19.0602 | L38: 0 | M38: 0 | N38: =O38+P38 -> 0 | O38: 0 | P38: 0 | Q38: 0
B39: B.4.2. | C39: Technologinio kuro sąnaudos | D39: =O39+E39+I39+M39+P39+Q39 -> 0 | E39: =SUM(F39:H39) -> 0 | F39: 0 | G39: 0 | H39: 0 | I39: =SUM(J39:L39) -> 0 | J39: 0 | K39: 0 | L39: 0 | M39: 0 | N39: =O39+P39 -> 0 | O39: 0 | P39: 0 | Q39: 0
B40: B.5. | C40: Kuro transportui sąnaudos | D40: =O40+E40+I40+M40+P40+Q40 -> 44.72385 | E40: =SUM(F40:H40) -> 6.50887 | F40: =SUM(F41:F42) -> 0 | G40: =SUM(G41:G42) -> 0 | H40: =SUM(H41:H42) -> 6.50887 | I40: =SUM(J40:L40) -> 11.62047 | J40: =SUM(J41:J42) -> 7.48287 | K40: =SUM(K41:K42) -> 1.52739 | L40: =SUM(L41:L42) -> 2.61021 | M40: =SUM(M41:M42) -> 0 | N40: =O40+P40 -> 2.43502 | O40: =SUM(O41:O42) -> 2.43502 | P40: =SUM(P41:P42) -> 0 | Q40: =SUM(Q41:Q42) -> 24.15949
B41: B.5.1. | C41: Kuras mašinoms ir gamybiniam transportui (asenizacijos transporto priemonėms, transportui dumblui, vandeniui vežti, autobusams žmonėms vežti) | D41: =O41+E41+I41+M41+P41+Q41 -> 41.92383 | E41: =SUM(F41:H41) -> 6.14387 | F41: 0 | G41: 0 | H41: 6.14387 | I41: =SUM(J41:L41) -> 11.62047 | J41: 7.48287 | K41: 1.52739 | L41: 2.61021 | M41: 0 | N41: =O41+P41 -> 0 | O41: 0 | P41: 0 | Q41: 24.15949
B42: B.5.2. | C42: Kuras lengviesiems automobiliams | D42: =O42+E42+I42+M42+P42+Q42 -> 2.80002 | E42: =SUM(F42:H42) -> 0.365 | F42: 0 | G42: 0 | H42: 0.365 | I42: =SUM(J42:L42) -> 0 | J42: 0 | K42: 0 | L42: 0 | M42: 0 | N42: =O42+P42 -> 2.43502 | O42: 2.43502 | P42: 0 | Q42: 0
B43: B.6. | C43: Šilumos energijos sąnaudos | D43: =O43+E43+I43+M43+P43+Q43 -> 19.975 | E43: =SUM(F43:H43) -> 15.767 | F43: =F44 -> 15.767 | G43: =G44 -> 0 | H43: =H44 -> 0 | I43: =SUM(J43:L43) -> 4.208 | J43: =J44 -> 0 | K43: =K44 -> 4.208 | L43: =L44 -> 0 | M43: =M44 -> 0 | N43: =O43+P43 -> 0 | O43: =O44 -> 0 | P43: =P44 -> 0 | Q43: =Q44 -> 0
B44: B.6.1. | C44: Šilumos energijos patalpų šildymui sąnaudos | D44: =O44+E44+I44+M44+P44+Q44 -> 19.975 | E44: =SUM(F44:H44) -> 15.767 | F44: 15.767 | G44: 0 | H44: 0 | I44: =SUM(J44:L44) -> 4.208 | J44: 0 | K44: 4.208 | L44: 0 | M44: 0 | N44: =O44+P44 -> 0 | O44: 0 | P44: 0 | Q44: 0
B45: B.7. | C45: Einamojo remonto ir aptarnavimo sąnaudos | D45: =O45+E45+I45+M45+P45+Q45 -> 87.06711 | E45: =SUM(F45:H45) -> 52.75054 | F45: =SUM(F46:F50) -> 9.13715 | G45: =SUM(G46:G50) -> 6.98386 | H45: =SUM(H46:H50) -> 36.62953 | I45: =SUM(J45:L45) -> 29.39928 | J45: =SUM(J46:J50) -> 16.27281 | K45: =SUM(K46:K50) -> 12.12647 | L45: =SUM(L46:L50) -> 1 | M45: =SUM(M46:M50) -> 0 | N45: =O45+P45 -> 4.91729 | O45: =SUM(O46:O50) -> 4.91729 | P45: =SUM(P46:P50) -> 0 | Q45: =SUM(Q46:Q50) -> 0
...

Sheet 5
E2: Geriamojo vandens tiekimo ir nuotekų tvarkymo bei paviršinių nuotekų tvarkymo paslaugų įmonių apskaitos atskyrimo taisyklių ir susijusių reikalavimų sąvado 5 priedas
C3: Ūkio subjektas: UAB „Kaišiadorių vandenys“
C4: Ataskaitinis laikotarpis: 2024-01-01 - 2024-12-31
C6: Ataskaitinio laikotarpio reguliuojamos veiklos ilgalaikio turto įsigijimo ir likutinės vertės suvestinė ataskaita (tūkst. Eur)
B9: Eil. Nr. | C9: STRAIPSNIAI | D9: Ataskaitinis laikotarpis | E9: Paaiškinimai
B10: I. | C10: ILGALAIKIO TURTO LIKUTINĖ VERTĖ PAGAL FINANSINĖS APSKAITOS STANDARTUS (FAS) | D10: 32077.239 | E10: 2 priedas
B11: A. | C11: GERIAMOJO VANDENS TIEKIMO IR NUOTEKŲ TVARKYMO (GVTNT) REGULIUOJAMO ILGALAIKIO TURTO LIKUTINĖ VERTĖ PAGAL REGULIAVIMO APSKAITOS SISTEMĄ (RAS) | D11: =SUM(D12:D13)+D17 -> 3658.2454 | E11: 7 priedas
B12: A.1. | C12: geriamojo vandens tiekimo (GVT) reguliuojamo ilgalaikio turto likutinė vertė (pagal RAS) | D12: ='7'!E10 -> 1499.5392 | E12: 7 priedas
B13: A.2. | C13: nuotekų tvarkymo (NT) veiklos reguliuojamo ilgalaikio turto likutinė vertė (pagal RAS) | D13: ='7'!I10 -> 2156.6053 | E13: 7 priedas
B14: A.2.1. | C14: nuotekų surinkimas centralizuotais nuotekų surinkimo tinklais reguliuojamo ilgalaikio turto likutinė vertė (pagal RAS) | D14: ='7'!J10 -> 1589.3424 | E14: 7 priedas
B15: A.2.2. | C15: nuotekų valymo reguliuojamo ilgalaikio turto likutinė vertė (pagal RAS) | D15: ='7'!K10 -> 510.82819 | E15: 7 priedas
B16: A.2.3. | C16: nuotekų dumblo tvarkymo reguliuojamo ilgalaikio turto likutinė vertė (pagal RAS) | D16: ='7'!L10 -> 56.434784 | E16: 7 priedas
B17: A.3. | C17: paviršinių nuotekų tvarkymo reguliuojamo ilgalaikio turto likutinė vertė (pagal RAS),jei yra atskira paviršinių nuotekų surinkimo sistema | D17: ='7'!M10 -> 2.1008127 | E17: 7 priedas
B18: B. | C18: GVTNT VEIKLOS REGULIUOJAMAM ILGALAIKIUI TURTUI (PAGAL RAS) NEPRISKIRTINO TURTO LIKUTINĖS VERTĖS | D18: =SUM(D19:D28) -> 28358.067
B19: B.1. | C19: už Dotacijas įsigyto ir neatlygintai gauto turto vertė (GVTNT) | D19: 16750.033
B20: B.2. | C20: Plėtros darbų vertė, iki ilgalaikio turto vienetų, kurių formavimui buvo atliekami plėtros darbai, eksploatacijos pradžios (GVTNT) | D20: 0
B21: B.3. | C21: Prestižo vertė (GVTNT) | D21: 0
B22: B.4. | C22: Investicinio turto vertė (GVTNT) | D22: 0
B23: B.5. | C23: Finansinio turto vertė (GVTNT) | D23: 0.29
B24: B.6. | C24: Atidėtojo mokesčio turto vertė (GVTNT) | D24: 0
B25: B.7. | C25: Ilgalaikio turto vertės pokytis, susijęs su ilgalaikio turto perkainojimo veikla (GVTNT) | D25: 0
B26: B.8. | C26: Nebaigtos statybos, nenaudojamo, nusidėvėjusio turto vertė (GVTNT) | D26: 5678.242
B27: B.9. | C27: Kito reguliuojamos veiklos nepaskirstomojo ilgalaikio turto vertė, kito nereguliuojamos veiklos ilgalaikio turto vertė | D27: 2048.971
B28: B.10. | C28: GVTNT Ilgalaikio turto balansinių verčių pagal RAS ir FAS skirtumas | D28: =D10-D11-D29-D19-D20-D21-D22-D23-D24-D25-D26-D27 -> 3880.5304
B29: C. | C29: KITŲ VEIKLŲ ILGALAIKIO TURTO LIKUTINĖ VERTĖ | D29: =SUM(D30:D32) -> 60.927053 | E29: 7 priedas
B30: C.1. | C30: Apskaitos veiklos reguliuojamo ilgalaikio turto likutinė vertė (pagal RAS) | D30: ='7'!O10 -> 60.762976 | E30: 7 priedas
B31: C.2. | C31: kitos reguliuojamosios veiklos ilgalaikio turto likutinė vertė | D31: ='7'!P10 -> 0 | E31: 7 priedas
B32: C.3. | C32: nereguliuojamosios veiklos ilgalaikio turto likutinė vertė | D32: ='7'!Q10 -> 0.16407712 | E32: 7 priedas
B33: II. | C33: ILGALAIKIO TURTO ĮSIGIJIMO VERTĖ PAGAL FINANSINĖS APSKAITOS STANDARTUS (FAS) | D33: 50714.497
B34: D. | C34: GERIAMOJO VANDENS TIEKIMO IR NUOTEKŲ TVARKYMO (GVTNT) REGULIUOJAMO ILGALAIKIO TURTO ĮSIGIJIMO VERTĖ PAGAL REGULIAVIMO APSKAITOS SISTEMĄ (RAS) | D34: =SUM(D35:D36)+D40 -> 6683.0426 | E34: 6 priedas
B35: D.1. | C35: geriamojo vandens tiekimo (GVT) reguliuojamo ilgalaikio turto įsigijimo vertė (pagal RAS) | D35: ='6'!E10 -> 2959.2226 | E35: 6 priedas
B36: D.2. | C36: nuotekų tvarkymo (NT) veiklos reguliuojamo ilgalaikio turto įsigijimo vertė (pagal RAS) | D36: ='6'!I10 -> 3718.2587 | E36: 6 priedas
B37: D.2.1. | C37: nuotekų surinkimas centralizuotais nuotekų surinkimo tinklais reguliuojamo ilgalaikio turto įsigijimo vertė (pagal RAS) | D37: ='6'!J10 -> 2630.4991 | E37: 6 priedas
B38: D.2.2. | C38: nuotekų valymo reguliuojamo ilgalaikio turto įsigijimo vertė (pagal RAS) | D38: ='6'!K10 -> 999.39133 | E38: 6 priedas
B39: D.2.3. | C39: nuotekų dumblo tvarkymo reguliuojamo ilgalaikio turto įsigijimo vertė (pagal RAS) | D39: ='6'!L10 -> 88.368321 | E39: 6 priedas
B40: D.3. | C40: paviršinių nuotekų tvarkymo reguliuojamo ilgalaikio turto įsigijimo vertė (pagal RAS), jei yra atskira paviršinių nuotekų surinkimo sistema | D40: ='6'!M10 -> 5.5612963 | E40: 6 priedas
B41: E. | C41: GVTNT VEIKLOS REGULIUOJAMAM ILGALAIKIUI TURTUI (PAGAL RAS) NEPRISKIRTINO TURTO ĮSIGIJIMO VERTĖS | D41: =SUM(D42:D51) -> 43937.151
B42: E.1. | C42: už Dotacijas įsigyto ir neatlygintai gauto turto vertė (GVTNT) | D42: 34950.839
B43: E.2. | C43: Plėtros darbų vertė, iki ilgalaikio turto vienetų, kurių formavimui buvo atliekami plėtros darbai, eksploatacijos pradžios (GVTNT) | D43: 0
B44: E.3. | C44: Prestižo vertė (GVTNT) | D44: 0
...

Sheet 6
C2: Ūkio subjektas: UAB „Kaišiadorių vandenys“ | Q2: Geriamojo vandens tiekimo ir nuotekų tvarkymo bei paviršinių nuotekų tvarkymo paslaugų įmonių apskaitos atskyrimo taisyklių ir susijusių reikalavimų sąvado 6 priedas
C3: Ataskaitinis laikotarpis: 2024-01-01 - 2024-12-31
C5: Ataskaitinio laikotarpio reguliuojamo ilgalaikio turto įsigijimo vertės (suskaičiuotos pagal Sąvado nuostatas) paskirstymo verslo vienetams ir paslaugoms ataskaita (tūkst. Eur)
F8: II.Gavyba | G8: II.Ruošimas | H8: II.Pristatymas | J8: III.Surinkimas | K8: III.Valymas | L8: III.Dumblas | M8: III.Pav.nuotekos | O8: I.Apskaitos veikla | P8: IV.Kita_reguliuojama | Q8: V.Nereguliuojama
B9: Eil. Nr. | C9: ILGALAIKIS TURTAS | D9: 1. IŠ VISO | E9: 2. Iš viso GVT | F9: 2.1. Geriamojo vandens gavyba | G9: 2.2. Geriamojo vandens ruošimas | H9: 2.3. Geriamojo vandens pristatymas | I9: 3. Iš viso NT | J9: 3.1. Nuotekų surinkimas | K9: 3.2. Nuotekų valymas | L9: 3.3. Nuotekų dumblo tvarkymas | M9: 4. Paviršinių nuotekų tvarkymas (tik esant atskirai paviršinių nuotekų tvarkymo sistemai) | N9: 5. Kitos reguliuojamosios veiklos verslo vienetas | O9: 5.1 Apskaitos veikla | P9: 5.2. Kita reguliuojama veikla | Q9: 6. Kitos veiklos (nereguliuojamosios veiklos) verslo vienetas
B10: A. | C10: PASKIRSTOMAS ILGALAIKIS TURTAS | D10: =D11+D15+D22+D25+D31+D34 -> 6777.3456 | E10: =E11+E15+E22+E25+E31+E34 -> 2959.2226 | F10: =F11+F15+F22+F25+F31+F34 -> 319.6901 | G10: =G11+G15+G22+G25+G31+G34 -> 945.27925 | H10: =H11+H15+H22+H25+H31+H34 -> 1694.2533 | I10: =I11+I15+I22+I25+I31+I34 -> 3718.2587 | J10: =J11+J15+J22+J25+J31+J34 -> 2630.4991 | K10: =K11+K15+K22+K25+K31+K34 -> 999.39133 | ... M10: =M11+M15+M22+M25+M31+M34 -> 5.5612963 | N10: =O10+P10 -> 93.76723 | O10: =O11+O15+O22+O25+O31+O34 -> 93.76723 | P10: =P11+P15+P22+P25+P31+P34 -> 0 | Q10: =Q11+Q15+Q22+Q25+Q31+Q34 -> 0.53577664
B11: A.1. | C11: NEMATERIALUSIS TURTAS | D11: =O11+E11+I11+M11+P11+Q11 -> 0 | E11: =SUM(F11:H11) -> 0 | F11: =SUM(F12:F14) -> 0 | G11: =SUM(G12:G14) -> 0 | H11: =SUM(H12:H14) -> 0 | I11: =SUM(J11:L11) -> 0 | J11: =SUM(J12:J14) -> 0 | K11: =SUM(K12:K14) -> 0 | L11: =SUM(L12:L14) -> 0 | M11: =SUM(M12:M14) -> 0 | N11: =O11+P11 -> 0 | O11: =SUM(O12:O14) -> 0 | P11: =SUM(P12:P14) -> 0 | Q11: =SUM(Q12:Q14) -> 0
B12: A.1.1. | C12: standartinė programinė įranga | D12: =O12+E12+I12+M12+P12+Q12 -> 0 | E12: =SUM(F12:H12) -> 0 | F12: =SUM(F40,F68,F118) -> 0 | G12: =SUM(G40,G68,G118) -> 0 | H12: =SUM(H40,H68,H118) -> 0 | I12: =SUM(J12:L12) -> 0 | J12: =SUM(J40,J68,J118) -> 0 | K12: =SUM(K40,K68,K118) -> 0 | L12: =SUM(L40,L68,L118) -> 0 | M12: =SUM(M40,M68,M118) -> 0 | N12: =O12+P12 -> 0 | O12: =SUM(O40,O68,O118) -> 0 | P12: =SUM(P40,P68,P118) -> 0 | Q12: =SUM(Q40,Q68,Q118) -> 0
B13: A.1.2. | C13: spec. programinė įranga | D13: =O13+E13+I13+M13+P13+Q13 -> 0 | E13: =SUM(F13:H13) -> 0 | F13: =SUM(F41,F69,F119) -> 0 | G13: =SUM(G41,G69,G119) -> 0 | H13: =SUM(H41,H69,H119) -> 0 | I13: =SUM(J13:L13) -> 0 | J13: =SUM(J41,J69,J119) -> 0 | K13: =SUM(K41,K69,K119) -> 0 | L13: =SUM(L41,L69,L119) -> 0 | M13: =SUM(M41,M69,M119) -> 0 | N13: =O13+P13 -> 0 | O13: =SUM(O41,O69,O119) -> 0 | P13: =SUM(P41,P69,P119) -> 0 | Q13: =SUM(Q41,Q69,Q119) -> 0
B14: A.1.3. | C14: kitas nematerialus turtas | D14: =O14+E14+I14+M14+P14+Q14 -> 0 | E14: =SUM(F14:H14) -> 0 | F14: =SUM(F42,F70,F120) -> 0 | G14: =SUM(G42,G70,G120) -> 0 | H14: =SUM(H42,H70,H120) -> 0 | I14: =SUM(J14:L14) -> 0 | J14: =SUM(J42,J70,J120) -> 0 | K14: =SUM(K42,K70,K120) -> 0 | L14: =SUM(L42,L70,L120) -> 0 | M14: =SUM(M42,M70,M120) -> 0 | N14: =O14+P14 -> 0 | O14: =SUM(O42,O70,O120) -> 0 | P14: =SUM(P42,P70,P120) -> 0 | Q14: =SUM(Q42,Q70,Q120) -> 0
B15: A.2. | C15: PASTATAI IR STATINIAI | D15: =O15+E15+I15+M15+P15+Q15 -> 6371.667 | E15: =SUM(F15:H15) -> 2895.2574 | F15: =SUM(F16:F21) -> 315.4415 | G15: =SUM(G16:G21) -> 943.05151 | H15: =SUM(H16:H21) -> 1636.7644 | I15: =SUM(J15:L15) -> 3471.6669 | J15: =SUM(J16:J21) -> 2457.338 | K15: =SUM(K16:K21) -> 927.69779 | L15: =SUM(L16:L21) -> 86.631112 | M15: =SUM(M16:M21) -> 4.0724674 | N15: =O15+P15 -> 0.30231686 | O15: =SUM(O16:O21) -> 0.30231686 | P15: =SUM(P16:P21) -> 0 | Q15: =SUM(Q16:Q21) -> 0.36785595
B16: A.2.1. | C16: Pastatai (administraciniai, gamybiniai-ūkiniai ir pan.) | D16: =O16+E16+I16+M16+P16+Q16 -> 921.7542 | E16: =SUM(F16:H16) -> 325.71076 | F16: =SUM(F44,F72,F122) -> 113.47908 | G16: =SUM(G44,G72,G122) -> 182.09597 | H16: =SUM(H44,H72,H122) -> 30.135711 | I16: =SUM(J16:L16) -> 592.43879 | J16: =SUM(J44,J72,J122) -> 60.061566 | K16: =SUM(K44,K72,K122) -> 528.88814 | L16: =SUM(L44,L72,L122) -> 3.4890767 | M16: =SUM(M44,M72,M122) -> 2.9902208 | N16: =O16+P16 -> 0.27717066 | O16: =SUM(O44,O72,O122) -> 0.27717066 | P16: =SUM(P44,P72,P122) -> 0 | Q16: =SUM(Q44,Q72,Q122) -> 0.33725832
B17: A.2.2. | C17: keliai, aikštelės, šaligatviai ir tvoros | D17: =O17+E17+I17+M17+P17+Q17 -> 14.4141 | E17: =SUM(F17:H17) -> 0 | F17: =SUM(F45,F73,F123) -> 0 | G17: =SUM(G45,G73,G123) -> 0 | H17: =SUM(H45,H73,H123) -> 0 | I17: =SUM(J17:L17) -> 14.4141 | J17: =SUM(J45,J73,J123) -> 0 | K17: =SUM(K45,K73,K123) -> 14.4141 | L17: =SUM(L45,L73,L123) -> 0 | M17: =SUM(M45,M73,M123) -> 0 | N17: =O17+P17 -> 0 | O17: =SUM(O45,O73,O123) -> 0 | P17: =SUM(P45,P73,P123) -> 0 | Q17: =SUM(Q45,Q73,Q123) -> 0
B18: A.2.3. | C18: geriamojo vandens tiekimo ir nuotekų surinkimo vamzdynai | D18: =O18+E18+I18+M18+P18+Q18 -> 3884.6664 | E18: =SUM(F18:H18) -> 1552.833 | F18: =SUM(F46,F74,F124) -> 0 | G18: =SUM(G46,G74,G124) -> 0 | H18: =SUM(H46,H74,H124) -> 1552.833 | I18: =SUM(J18:L18) -> 2331.0224 | J18: =SUM(J46,J74,J124) -> 2331.0224 | K18: =SUM(K46,K74,K124) -> 0 | L18: =SUM(L46,L74,L124) -> 0 | M18: =SUM(M46,M74,M124) -> 0.81096 | N18: =O18+P18 -> 0 | O18: =SUM(O46,O74,O124) -> 0 | P18: =SUM(P46,P74,P124) -> 0 | Q18: =SUM(Q46,Q74,Q124) -> 0
B19: A.2.4. | C19: šilumos ir karšto vandens tiekimo vamzdynai | D19: =O19+E19+I19+M19+P19+Q19 -> 0 | E19: =SUM(F19:H19) -> 0 | F19: =SUM(F47,F75,F125) -> 0 | G19: =SUM(G47,G75,G125) -> 0 | H19: =SUM(H47,H75,H125) -> 0 | I19: =SUM(J19:L19) -> 0 | J19: =SUM(J47,J75,J125) -> 0 | K19: =SUM(K47,K75,K125) -> 0 | L19: =SUM(L47,L75,L125) -> 0 | M19: =SUM(M47,M75,M125) -> 0 | N19: =O19+P19 -> 0 | O19: =SUM(O47,O75,O125) -> 0 | P19: =SUM(P47,P75,P125) -> 0 | Q19: =SUM(Q47,Q75,Q125) -> 0
B20: A.2.5. | C20: saulės šviesos elektrinės | D20: =O20+E20+I20+M20+P20+Q20 -> 0 | E20: =SUM(F20:H20) -> 0 | F20: =SUM(F48,F76,F126) -> 0 | G20: =SUM(G48,G76,G126) -> 0 | H20: =SUM(H48,H76,H126) -> 0 | I20: =SUM(J20:L20) -> 0 | J20: =SUM(J48,J76,J126) -> 0 | K20: =SUM(K48,K76,K126) -> 0 | L20: =SUM(L48,L76,L126) -> 0 | M20: =SUM(M48,M76,M126) -> 0 | N20: =O20+P20 -> 0 | O20: =SUM(O48,O76,O126) -> 0 | P20: =SUM(P48,P76,P126) -> 0 | Q20: =SUM(Q48,Q76,Q126) -> 0
B21: A.2.6. | C21: Kiti įrenginiai (vandentiekio įrenginiai, nusodintuvai, diukeriai, vandens rezervuarai, gelžbetoniniai metantankai, smėlio gaudytuvai, aerotankai, nusodintuvai, nuotekų valymo flotatoriai, dumblo aikštelės ir kt.) | D21: =O21+E21+I21+M21+P21+Q21 -> 1550.8323 | E21: =SUM(F21:H21) -> 1016.7136 | F21: =SUM(F49,F77,F127) -> 201.96242 | G21: =SUM(G49,G77,G127) -> 760.95554 | H21: =SUM(H49,H77,H127) -> 53.795651 | I21: =SUM(J21:L21) -> 533.79167 | J21: =SUM(J49,J77,J127) -> 66.25409 | K21: =SUM(K49,K77,K127) -> 384.39555 | L21: =SUM(L49,L77,L127) -> 83.142035 | M21: =SUM(M49,M77,M127) -> 0.27128665 | N21: =O21+P21 -> 0.025146203 | O21: =SUM(O49,O77,O127) -> 0.025146203 | P21: =SUM(P49,P77,P127) -> 0 | Q21: =SUM(Q49,Q77,Q127) -> 0.030597634
B22: A.3. | C22: MAŠINOS IR ĮRANGA | D22: =O22+E22+I22+M22+P22+Q22 -> 139.34028 | E22: =SUM(F22:H22) -> 37.300664 | F22: =SUM(F23:F24) -> 3.3113969 | G22: =SUM(G23:G24) -> 0.12538957 | H22: =SUM(H23:H24) -> 33.863877 | I22: =SUM(J22:L22) -> 101.9386 | J22: =SUM(J23:J24) -> 52.888284 | K22: =SUM(K23:K24) -> 48.952535 | L22: =SUM(L23:L24) -> 0.097779509 | M22: =SUM(M23:M24) -> 0.083799337 | N22: =O22+P22 -> 0.0077675594 | O22: =SUM(O23:O24) -> 0.0077675594 | P22: =SUM(P23:P24) -> 0 | Q22: =SUM(Q23:Q24) -> 0.0094514839
B23: A.3.1. | C23: vandens siurbliai, nuotekų ir dumblo siurbliai virš 5 kW, kita įranga ( siurblių valdymo įranga, elektrotechninė įranga, stacionarios ir mobilios darbo bei hidrodinaminės mašinos, staklės, sklendės, grotelės, grėbliai, grandikliai, filtrai, centrifugos) | D23: =O23+E23+I23+M23+P23+Q23 -> 131.07824 | E23: =SUM(F23:H23) -> 37.300664 | F23: =SUM(F51,F79,F129) -> 3.3113969 | G23: =SUM(G51,G79,G129) -> 0.12538957 | H23: =SUM(H51,H79,H129) -> 33.863877 | I23: =SUM(J23:L23) -> 93.676558 | J23: =SUM(J51,J79,J129) -> 50.482264 | K23: =SUM(K51,K79,K129) -> 43.096515 | L23: =SUM(L51,L79,L129) -> 0.097779509 | M23: =SUM(M51,M79,M129) -> 0.083799337 | N23: =O23+P23 -> 0.0077675594 | O23: =SUM(O51,O79,O129) -> 0.0077675594 | P23: =SUM(P51,P79,P129) -> 0 | Q23: =SUM(Q51,Q79,Q129) -> 0.0094514839
B24: A.3.2. | C24: nuotekų ir dumblo siurbliai iki 5 kW | D24: =O24+E24+I24+M24+P24+Q24 -> 8.26204 | E24: =SUM(F24:H24) -> 0 | F24: =SUM(F52,F80) -> 0 | G24: =SUM(G52,G80) -> 0 | H24: =SUM(H52,H80) -> 0 | I24: =SUM(J24:L24) -> 8.26204 | J24: =SUM(J52,J80) -> 2.40602 | K24: =SUM(K52,K80) -> 5.85602 | L24: =SUM(L52,L80) -> 0 | M24: =SUM(M52,M80) -> 0 | N24: =O24+P24 -> 0 | O24: =SUM(O52,O80) -> 0 | P24: =SUM(P52,P80) -> 0 | Q24: =SUM(Q52,Q80) -> 0
B25: A.4. | C25: KITI ĮRENGINIAI, PRIETAISAI IR ĮRANKIAI | D25: =O25+E25+I25+M25+P25+Q25 -> 114.5766 | E25: =SUM(F25:H25) -> 12.688404 | F25: =SUM(F26:F30) -> 0.17564248 | G25: =SUM(G26:G30) -> 0.3940066 | H25: =SUM(H26:H30) -> 12.118755 | I25: =SUM(J25:L25) -> 8.2438597 | J25: =SUM(J26:J30) -> 4.7375345 | K25: =SUM(K26:K30) -> 3.1990766 | L25: =SUM(L26:L30) -> 0.30724862 | M25: =SUM(M26:M30) -> 0.26331929 | N25: =O25+P25 -> 93.351318 | O25: =SUM(O26:O30) -> 93.351318 | P25: =SUM(P26:P30) -> 0 | Q25: =SUM(Q26:Q30) -> 0.029699018
B26: A.4.1. | C26: geriamojo vandens apskaitos prietaisai | D26: =O26+E26+I26+M26+P26+Q26 -> 93.32691 | E26: =SUM(F26:H26) -> 0 | F26: =SUM(F54,F82,F131) -> 0 | G26: =SUM(G54,G82,G131) -> 0 | H26: =SUM(H54,H82,H131) -> 0 | I26: =SUM(J26:L26) -> 0 | J26: =SUM(J54,J82,J131) -> 0 | K26: =SUM(K54,K82,K131) -> 0 | L26: =SUM(L54,L82,L131) -> 0 | M26: =SUM(M54,M82,M131) -> 0 | N26: =O26+P26 -> 93.32691 | O26: =SUM(O54,O82,O131) -> 93.32691 | P26: =SUM(P54,P82,P131) -> 0 | Q26: =SUM(Q54,Q82,Q131) -> 0
B27: A.4.2. | C27: atsiskaitomieji karšto vandens apskaitos prietaisai | D27: =O27+E27+I27+M27+P27+Q27 -> 0 | E27: =SUM(F27:H27) -> 0 | F27: =SUM(F55,F83,F132) -> 0 | G27: =SUM(G55,G83,G132) -> 0 | H27: =SUM(H55,H83,H132) -> 0 | I27: =SUM(J27:L27) -> 0 | J27: =SUM(J55,J83,J132) -> 0 | K27: =SUM(K55,K83,K132) -> 0 | L27: =SUM(L55,L83,L132) -> 0 | M27: =SUM(M55,M83,M132) -> 0 | N27: =O27+P27 -> 0 | O27: =SUM(O55,O83,O132) -> 0 | P27: =SUM(P55,P83,P132) -> 0 | Q27: =SUM(Q55,Q83,Q132) -> 0
B28: A.4.3. | C28: šilumos (atsiskaitomieji ir neatsiskaitomieji) apskaitos prietaisai | D28: =O28+E28+I28+M28+P28+Q28 -> 0 | E28: =SUM(F28:H28) -> 0 | F28: =SUM(F56,F84,F133) -> 0 | G28: =SUM(G56,G84,G133) -> 0 | H28: =SUM(H56,H84,H133) -> 0 | I28: =SUM(J28:L28) -> 0 | J28: =SUM(J56,J84,J133) -> 0 | K28: =SUM(K56,K84,K133) -> 0 | L28: =SUM(L56,L84,L133) -> 0 | M28: =SUM(M56,M84,M133) -> 0 | N28: =O28+P28 -> 0 | O28: =SUM(O56,O84,O133) -> 0 | P28: =SUM(P56,P84,P133) -> 0 | Q28: =SUM(Q56,Q84,Q133) -> 0
B29: A.4.4. | C29: kiti geriamojo vandens ir nuotekų apskaitos prietaisai (įrengti gręžiniuose, įrenginiuose ir.t.t) | D29: =O29+E29+I29+M29+P29+Q29 -> 0 | E29: =SUM(F29:H29) -> 0 | F29: =SUM(F57,F85,F134) -> 0 | G29: =SUM(G57,G85,G134) -> 0 | H29: =SUM(H57,H85,H134) -> 0 | I29: =SUM(J29:L29) -> 0 | J29: =SUM(J57,J85,J134) -> 0 | K29: =SUM(K57,K85,K134) -> 0 | L29: =SUM(L57,L85,L134) -> 0 | M29: =SUM(M57,M85,M134) -> 0 | N29: =O29+P29 -> 0 | O29: =SUM(O57,O85,O134) -> 0 | P29: =SUM(P57,P85,P134) -> 0 | Q29: =SUM(Q57,Q85,Q134) -> 0
B30: A.4.5. | C30: įrankiai (matavimo priemonės, elektriniai įrankiai ir prietaisai, gamybinis inventorius ir kt.) | D30: =O30+E30+I30+M30+P30+Q30 -> 21.24969 | E30: =SUM(F30:H30) -> 12.688404 | F30: =SUM(F58,F86,F135) -> 0.17564248 | G30: =SUM(G58,G86,G135) -> 0.3940066 | H30: =SUM(H58,H86,H135) -> 12.118755 | I30: =SUM(J30:L30) -> 8.2438597 | J30: =SUM(J58,J86,J135) -> 4.7375345 | K30: =SUM(K58,K86,K135) -> 3.1990766 | L30: =SUM(L58,L86,L135) -> 0.30724862 | M30: =SUM(M58,M86,M135) -> 0.26331929 | N30: =O30+P30 -> 0.02440769 | O30: =SUM(O58,O86,O135) -> 0.02440769 | P30: =SUM(P58,P86,P135) -> 0 | Q30: =SUM(Q58,Q86,Q135) -> 0.029699018
B31: A.5. | C31: TRANSPORTO PRIEMONĖS | D31: =O31+E31+I31+M31+P31+Q31 -> 142.8502 | E31: =SUM(F31:H31) -> 13.785944 | F31: =SUM(F32:F33) -> 0.75119254 | G31: =SUM(G32:G33) -> 1.6850982 | H31: =SUM(H32:H33) -> 11.349653 | I31: =SUM(J31:L31) -> 127.70668 | J31: =SUM(J32:J33) -> 115.25562 | K31: =SUM(K32:K33) -> 11.137015 | L31: =SUM(L32:L33) -> 1.3140493 | M31: =SUM(M32:M33) -> 1.1261711 | N31: =O31+P31 -> 0.10438747 | O31: =SUM(O32:O33) -> 0.10438747 | P31: =SUM(P32:P33) -> 0 | Q31: =SUM(Q32:Q33) -> 0.12701757
B32: A.5.1. | C32: lengvieji automobiliai | D32: =O32+E32+I32+M32+P32+Q32 -> 47.109091 | E32: =SUM(F32:H32) -> 13.570723 | F32: =SUM(F60,F88,F137) -> 0.73946525 | G32: =SUM(G60,G88,G137) -> 1.6587912 | H32: =SUM(H60,H88,H137) -> 11.172467 | I32: =SUM(J32:L32) -> 32.201985 | J32: =SUM(J60,J88,J137) -> 19.945301 | K32: =SUM(K60,K88,K137) -> 10.963149 | L32: =SUM(L60,L88,L137) -> 1.2935349 | M32: =SUM(M60,M88,M137) -> 1.1085898 | N32: =O32+P32 -> 0.10275782 | O32: =SUM(O60,O88,O137) -> 0.10275782 | P32: =SUM(P60,P88,P137) -> 0 | Q32: =SUM(Q60,Q88,Q137) -> 0.12503463
B33: A.5.2. | C33: kitos transporto priemonės (transportas dumblui, vandeniui vežti, autobusai žmonėms vežti) | D33: =O33+E33+I33+M33+P33+Q33 -> 95.74111 | E33: =SUM(F33:H33) -> 0.2152201 | F33: =SUM(F61,F89,F138) -> 0.011727288 | G33: =SUM(G61,G89,G138) -> 0.026307013 | H33: =SUM(H61,H89,H138) -> 0.1771858 | I33: =SUM(J33:L33) -> 95.504696 | J33: =SUM(J61,J89,J138) -> 95.310315 | K33: =SUM(K61,K89,K138) -> 0.17386619 | L33: =SUM(L61,L89,L138) -> 0.020514361 | M33: =SUM(M61,M89,M138) -> 0.017581289 | N33: =O33+P33 -> 0.0016296514 | O33: =SUM(O61,O89,O138) -> 0.0016296514 | P33: =SUM(P61,P89,P138) -> 0 | Q33: =SUM(Q61,Q89,Q138) -> 0.0019829426
B34: A.6. | C34: KITAS ILGALAIKIS TURTAS | D34: =O34+E34+I34+M34+P34+Q34 -> 8.91157 | E34: =SUM(F34:H34) -> 0.19022137 | F34: =SUM(F35:F37) -> 0.010365114 | G34: =SUM(G35:G37) -> 0.023251342 | H34: =SUM(H35:H37) -> 0.15660491 | I34: =SUM(J34:L34) -> 8.7026165 | J34: =SUM(J35:J37) -> 0.27957408 | K34: =SUM(K35:K37) -> 8.4049109 | L34: =SUM(L35:L37) -> 0.018131531 | M34: =SUM(M35:M37) -> 0.015539148 | N34: =O34+P34 -> 0.0014403605 | O34: =SUM(O35:O37) -> 0.0014403605 | P34: =SUM(P35:P37) -> 0 | Q34: =SUM(Q35:Q37) -> 0.0017526154
B35: A.6.1. | C35: žemė | D35: =O35+E35+I35+M35+P35+Q35 -> 7.2405 | E35: =SUM(F35:H35) -> 0 | F35: =SUM(F63,F91,F140) -> 0 | G35: =SUM(G63,G91,G140) -> 0 | H35: =SUM(H63,H91,H140) -> 0 | I35: =SUM(J35:L35) -> 7.2405 | J35: =SUM(J63,J91,J140) -> 0 | K35: =SUM(K63,K91,K140) -> 7.2405 | L35: =SUM(L63,L91,L140) -> 0 | M35: =SUM(M63,M91,M140) -> 0 | N35: =O35+P35 -> 0 | O35: =SUM(O63,O91,O140) -> 0 | P35: =SUM(P63,P91,P140) -> 0 | Q35: =SUM(Q63,Q91,Q140) -> 0
B36: A.6.2. | C36: Kompiuteriai, kompiuteriniai tinklai ir jų įranga | D36: =O36+E36+I36+M36+P36+Q36 -> 1.67107 | E36: =SUM(F36:H36) -> 0.19022137 | F36: =SUM(F64,F92,F141) -> 0.010365114 | G36: =SUM(G64,G92,G141) -> 0.023251342 | H36: =SUM(H64,H92,H141) -> 0.15660491 | I36: =SUM(J36:L36) -> 1.4621165 | J36: =SUM(J64,J92,J141) -> 0.27957408 | K36: =SUM(K64,K92,K141) -> 1.1644109 | L36: =SUM(L64,L92,L141) -> 0.018131531 | M36: =SUM(M64,M92,M141) -> 0.015539148 | N36: =O36+P36 -> 0.0014403605 | O36: =SUM(O64,O92,O141) -> 0.0014403605 | P36: =SUM(P64,P92,P141) -> 0 | Q36: =SUM(Q64,Q92,Q141) -> 0.0017526154
B37: A.6.3. | D37: =O37+E37+I37+M37+P37+Q37 -> 0 | E37: =SUM(F37:H37) -> 0 | F37: =SUM(F65,F93,F142) -> 0 | G37: =SUM(G65,G93,G142) -> 0 | H37: =SUM(H65,H93,H142) -> 0 | I37: =SUM(J37:L37) -> 0 | J37: =SUM(J65,J93,J142) -> 0 | K37: =SUM(K65,K93,K142) -> 0 | L37: =SUM(L65,L93,L142) -> 0 | M37: =SUM(M65,M93,M142) -> 0 | N37: =O37+P37 -> 0 | O37: =SUM(O65,O93,O142) -> 0 | P37: =SUM(P65,P93,P142) -> 0 | Q37: =SUM(Q65,Q93,Q142) -> 0
B38: B. | C38: TIESIOGIAI PASKIRSTOMAS ILGALAIKIS TURTAS | D38: =O38+E38+I38+M38+P38+Q38 -> 6575.4819 | E38: =E39+E43+E50+E53+E59+E62 -> 2901.0717 | F38: =F39+F43+F50+F53+F59+F62 -> 316.52147 | G38: =G39+G43+G50+G53+G59+G62 -> 938.17129 | H38: =H39+H43+H50+H53+H59+H62 -> 1646.379 | I38: =I39+I43+I50+I53+I59+I62 -> 3580.2724 | J38: =J39+J43+J50+J53+J59+J62 -> 2545.0329 | K38: =K39+K43+K50+K53+K59+K62 -> 952.41395 | L38: =L39+L43+L50+L53+L59+L62 -> 82.82549 | M38: =M39+M43+M50+M53+M59+M62 -> 0.81096 | N38: =O38+P38 -> 93.32691 | O38: =O39+O43+O50+O53+O59+O62 -> 93.32691 | P38: =P39+P43+P50+P53+P59+P62 -> 0 | Q38: =Q39+Q43+Q50+Q53+Q59+Q62 -> 0
B39: B.1. | C39: NEMATERIALUSIS TURTAS | D39: =O39+E39+I39+M39+P39+Q39 -> 0 | E39: =SUM(F39:H39) -> 0 | F39: =SUM(F40:F42) -> 0 | G39: =SUM(G40:G42) -> 0 | H39: =SUM(H40:H42) -> 0 | I39: =SUM(J39:L39) -> 0 | J39: =SUM(J40:J42) -> 0 | K39: =SUM(K40:K42) -> 0 | L39: =SUM(L40:L42) -> 0 | M39: =SUM(M40:M42) -> 0 | N39: =O39+P39 -> 0 | O39: =SUM(O40:O42) -> 0 | P39: =SUM(P40:P42) -> 0 | Q39: =SUM(Q40:Q42) -> 0
B40: B.1.1. | C40: standartinė programinė įranga | D40: =O40+E40+I40+M40+P40+Q40 -> 0 | E40: =SUM(F40:H40) -> 0 | F40: 0 | G40: 0 | H40: 0 | I40: =SUM(J40:L40) -> 0 | J40: 0 | K40: 0 | L40: 0 | M40: 0 | N40: =O40+P40 -> 0 | O40: 0 | P40: 0 | Q40: 0 | R40: I.1.standartinė programinė įranga
B41: B.1.2. | C41: spec. programinė įranga | D41: =O41+E41+I41+M41+P41+Q41 -> 0 | E41: =SUM(F41:H41) -> 0 | F41: 0 | G41: 0 | H41: 0 | I41: =SUM(J41:L41) -> 0 | J41: 0 | K41: 0 | L41: 0 | M41: 0 | N41: =O41+P41 -> 0 | O41: 0 | P41: 0 | Q41: 0 | R41: I.1.spec. programinė įranga
B42: B.1.3. | C42: kitas nematerialus turtas | D42: =O42+E42+I42+M42+P42+Q42 -> 0 | E42: =SUM(F42:H42) -> 0 | F42: 0 | G42: 0 | H42: 0 | I42: =SUM(J42:L42) -> 0 | J42: 0 | K42: 0 | L42: 0 | M42: 0 | N42: =O42+P42 -> 0 | O42: 0 | P42: 0 | Q42: 0 | R42: I.1.kitas nematerialus turtas
B43: B.2. | C43: PASTATAI IR STATINIAI | D43: =O43+E43+I43+M43+P43+Q43 -> 6233.0705 | E43: =SUM(F43:H43) -> 2855.3319 | F43: =SUM(F44:F49) -> 313.26597 | G43: =SUM(G44:G49) -> 938.17129 | H43: =SUM(H44:H49) -> 1603.8946 | I43: =SUM(J43:L43) -> 3376.9277 | J43: =SUM(J44:J49) -> 2398.6583 | K43: =SUM(K44:K49) -> 895.44385 | L43: =SUM(L44:L49) -> 82.82549 | M43: =SUM(M44:M49) -> 0.81096 | N43: =O43+P43 -> 0 | O43: =SUM(O44:O49) -> 0 | P43: =SUM(P44:P49) -> 0 | Q43: =SUM(Q44:Q49) -> 0
B44: B.2.1. | C44: Pastatai (administraciniai, gamybiniai-ūkiniai ir pan.) | D44: =O44+E44+I44+M44+P44+Q44 -> 794.68594 | E44: =SUM(F44:H44) -> 289.10619 | F44: 111.48451 | G44: 177.62168 | H44: 0 | I44: =SUM(J44:L44) -> 505.57975 | J44: 6.26272 | K44: 499.31703 | L44: 0 | M44: 0 | N44: =O44+P44 -> 0 | O44: 0 | P44: 0 | Q44: 0 | R44: II.2.1.Pastatai
...

Sheet 7
C2: Ūkio subjektas: UAB „Kaišiadorių vandenys“ | Q2: Geriamojo vandens tiekimo ir nuotekų tvarkymo bei paviršinių nuotekų tvarkymo paslaugų įmonių apskaitos atskyrimo taisyklių ir susijusių reikalavimų sąvado 7 priedas
C3: Ataskaitinis laikotarpis: 2024-01-01 - 2024-12-31
C5: Ataskaitinio laikotarpio reguliuojamo ilgalaikio turto likutinės vertės ( suskaičiuotos pagal Sąvado nuostatas) paskirstymo verslo vienetams ir paslaugoms ataskaita (tūkst. Eur)
F8: II.Gavyba | G8: II.Ruošimas | H8: II.Pristatymas | J8: III.Surinkimas | K8: III.Valymas | L8: III.Dumblas | M8: III.Pav.nuotekos | O8: I.Apskaitos veikla | P8: IV.Kita_reguliuojama | Q8: V.Nereguliuojama
B9: Eil. Nr. | C9: ILGALAIKIS TURTAS | D9: 1. IŠ VISO | E9: 2. Iš viso GVT | F9: 2.1. Geriamojo vandens gavyba | G9: 2.2. Geriamojo vandens ruošimas | H9: 2.3. Geriamojo vandens pristatymas | I9: 3. Iš viso NT | J9: 3.1. Nuotekų surinkimas | K9: 3.2. Nuotekų valymas | L9: 3.3. Nuotekų dumblo tvarkymas | M9: 4. Paviršinių nuotekų tvarkymas (tik esant atskirai paviršinių nuotekų tvarkymo sistemai) | N9: 5. Kitos reguliuojamosios veiklos verslo vienetas | O9: 5.1 Apskaitos veikla | P9: 5.2. Kita reguliuojama veikla | Q9: 6. Kitos veiklos (nereguliuojamosios veiklos) verslo vienetas
B10: A. | C10: PASKIRSTOMAS ILGALAIKIS TURTAS | D10: =D11+D15+D22+D25+D31+D34 -> 3719.1724 | E10: =E11+E15+E22+E25+E31+E34 -> 1499.5392 | F10: =F11+F15+F22+F25+F31+F34 -> 100.2315 | G10: =G11+G15+G22+G25+G31+G34 -> 409.8603 | H10: =H11+H15+H22+H25+H31+H34 -> 989.4474 | I10: =I11+I15+I22+I25+I31+I34 -> 2156.6053 | J10: =J11+J15+J22+J25+J31+J34 -> 1589.3424 | K10: =K11+K15+K22+K25+K31+K34 -> 510.82819 | ... M10: =M11+M15+M22+M25+M31+M34 -> 2.1008127 | N10: =O10+P10 -> 60.762976 | O10: =O11+O15+O22+O25+O31+O34 -> 60.762976 | P10: =P11+P15+P22+P25+P31+P34 -> 0 | Q10: =Q11+Q15+Q22+Q25+Q31+Q34 -> 0.16407712
B11: A.1. | C11: NEMATERIALUSIS TURTAS | D11: =O11+E11+I11+M11+P11+Q11 -> 0 | E11: =SUM(F11:H11) -> 0 | F11: =SUM(F12:F14) -> 0 | G11: =SUM(G12:G14) -> 0 | H11: =SUM(H12:H14) -> 0 | I11: =SUM(J11:L11) -> 0 | J11: =SUM(J12:J14) -> 0 | K11: =SUM(K12:K14) -> 0 | L11: =SUM(L12:L14) -> 0 | M11: =SUM(M12:M14) -> 0 | N11: =O11+P11 -> 0 | O11: =SUM(O12:O14) -> 0 | P11: =SUM(P12:P14) -> 0 | Q11: =SUM(Q12:Q14) -> 0
B12: A.1.1. | C12: standartinė programinė įranga | D12: =O12+E12+I12+M12+P12+Q12 -> 0 | E12: =SUM(F12:H12) -> 0 | F12: =SUM(F40,F68,F118) -> 0 | G12: =SUM(G40,G68,G118) -> 0 | H12: =SUM(H40,H68,H118) -> 0 | I12: =SUM(J12:L12) -> 0 | J12: =SUM(J40,J68,J118) -> 0 | K12: =SUM(K40,K68,K118) -> 0 | L12: =SUM(L40,L68,L118) -> 0 | M12: =SUM(M40,M68,M118) -> 0 | N12: =O12+P12 -> 0 | O12: =SUM(O40,O68,O118) -> 0 | P12: =SUM(P40,P68,P118) -> 0 | Q12: =SUM(Q40,Q68,Q118) -> 0
B13: A.1.2. | C13: spec. programinė įranga | D13: =O13+E13+I13+M13+P13+Q13 -> 0 | E13: =SUM(F13:H13) -> 0 | F13: =SUM(F41,F69,F119) -> 0 | G13: =SUM(G41,G69,G119) -> 0 | H13: =SUM(H41,H69,H119) -> 0 | I13: =SUM(J13:L13) -> 0 | J13: =SUM(J41,J69,J119) -> 0 | K13: =SUM(K41,K69,K119) -> 0 | L13: =SUM(L41,L69,L119) -> 0 | M13: =SUM(M41,M69,M119) -> 0 | N13: =O13+P13 -> 0 | O13: =SUM(O41,O69,O119) -> 0 | P13: =SUM(P41,P69,P119) -> 0 | Q13: =SUM(Q41,Q69,Q119) -> 0
B14: A.1.3. | C14: kitas nematerialus turtas | D14: =O14+E14+I14+M14+P14+Q14 -> 0 | E14: =SUM(F14:H14) -> 0 | F14: =SUM(F42,F70,F120) -> 0 | G14: =SUM(G42,G70,G120) -> 0 | H14: =SUM(H42,H70,H120) -> 0 | I14: =SUM(J14:L14) -> 0 | J14: =SUM(J42,J70,J120) -> 0 | K14: =SUM(K42,K70,K120) -> 0 | L14: =SUM(L42,L70,L120) -> 0 | M14: =SUM(M42,M70,M120) -> 0 | N14: =O14+P14 -> 0 | O14: =SUM(O42,O70,O120) -> 0 | P14: =SUM(P42,P70,P120) -> 0 | Q14: =SUM(Q42,Q70,Q120) -> 0
B15: A.2. | C15: PASTATAI IR STATINIAI | D15: =O15+E15+I15+M15+P15+Q15 -> 3511.4083 | E15: =SUM(F15:H15) -> 1473.2287 | F15: =SUM(F16:F21) -> 98.272473 | G15: =SUM(G16:G21) -> 409.36411 | H15: =SUM(H16:H21) -> 965.59212 | I15: =SUM(J15:L15) -> 2036.1796 | J15: =SUM(J16:J21) -> 1498.6359 | K15: =SUM(K16:K21) -> 481.49589 | L15: =SUM(L16:L21) -> 56.047855 | M15: =SUM(M16:M21) -> 1.769205 | N15: =O15+P15 -> 0.1041068 | O15: =SUM(O16:O21) -> 0.1041068 | P15: =SUM(P16:P21) -> 0 | Q15: =SUM(Q16:Q21) -> 0.12667605
B16: A.2.1. | C16: Pastatai (administraciniai, gamybiniai-ūkiniai ir pan.) | D16: =O16+E16+I16+M16+P16+Q16 -> 404.13322 | E16: =SUM(F16:H16) -> 43.202868 | F16: =SUM(F44,F72,F122) -> 8.2489824 | G16: =SUM(G44,G72,G122) -> 24.882271 | H16: =SUM(H44,H72,H122) -> 10.071614 | I16: =SUM(J16:L16) -> 359.72564 | J16: =SUM(J44,J72,J122) -> 19.232676 | K16: =SUM(K44,K72,K122) -> 339.32689 | L16: =SUM(L44,L72,L122) -> 1.1660795 | M16: =SUM(M44,M72,M122) -> 0.99935756 | N16: =O16+P16 -> 0.092632823 | O16: =SUM(O44,O72,O122) -> 0.092632823 | P16: =SUM(P44,P72,P122) -> 0 | Q16: =SUM(Q44,Q72,Q122) -> 0.11271464
B17: A.2.2. | C17: keliai, aikštelės, šaligatviai ir tvoros | D17: =O17+E17+I17+M17+P17+Q17 -> 3.788544 | E17: =SUM(F17:H17) -> 0 | F17: =SUM(F45,F73,F123) -> 0 | G17: =SUM(G45,G73,G123) -> 0 | H17: =SUM(H45,H73,H123) -> 0 | I17: =SUM(J17:L17) -> 3.788544 | J17: =SUM(J45,J73,J123) -> 0 | K17: =SUM(K45,K73,K123) -> 3.788544 | L17: =SUM(L45,L73,L123) -> 0 | M17: =SUM(M45,M73,M123) -> 0 | N17: =O17+P17 -> 0 | O17: =SUM(O45,O73,O123) -> 0 | P17: =SUM(P45,P73,P123) -> 0 | Q17: =SUM(Q45,Q73,Q123) -> 0
B18: A.2.3. | C18: geriamojo vandens tiekimo ir nuotekų surinkimo vamzdynai | D18: =O18+E18+I18+M18+P18+Q18 -> 2373.3109 | E18: =SUM(F18:H18) -> 924.32365 | F18: =SUM(F46,F74,F124) -> 0 | G18: =SUM(G46,G74,G124) -> 0 | H18: =SUM(H46,H74,H124) -> 924.32365 | I18: =SUM(J18:L18) -> 1448.3412 | J18: =SUM(J46,J74,J124) -> 1448.3412 | K18: =SUM(K46,K74,K124) -> 0 | L18: =SUM(L46,L74,L124) -> 0 | M18: =SUM(M46,M74,M124) -> 0.6460619 | N18: =O18+P18 -> 0 | O18: =SUM(O46,O74,O124) -> 0 | P18: =SUM(P46,P74,P124) -> 0 | Q18: =SUM(Q46,Q74,Q124) -> 0
B19: A.2.4. | C19: šilumos ir karšto vandens tiekimo vamzdynai | D19: =O19+E19+I19+M19+P19+Q19 -> 0 | E19: =SUM(F19:H19) -> 0 | F19: =SUM(F47,F75,F125) -> 0 | G19: =SUM(G47,G75,G125) -> 0 | H19: =SUM(H47,H75,H125) -> 0 | I19: =SUM(J19:L19) -> 0 | J19: =SUM(J47,J75,J125) -> 0 | K19: =SUM(K47,K75,K125) -> 0 | L19: =SUM(L47,L75,L125) -> 0 | M19: =SUM(M47,M75,M125) -> 0 | N19: =O19+P19 -> 0 | O19: =SUM(O47,O75,O125) -> 0 | P19: =SUM(P47,P75,P125) -> 0 | Q19: =SUM(Q47,Q75,Q125) -> 0
B20: A.2.5. | C20: saulės šviesos elektrinės | D20: =O20+E20+I20+M20+P20+Q20 -> 0 | E20: =SUM(F20:H20) -> 0 | F20: =SUM(F48,F76,F126) -> 0 | G20: =SUM(G48,G76,G126) -> 0 | H20: =SUM(H48,H76,H126) -> 0 | I20: =SUM(J20:L20) -> 0 | J20: =SUM(J48,J76,J126) -> 0 | K20: =SUM(K48,K76,K126) -> 0 | L20: =SUM(L48,L76,L126) -> 0 | M20: =SUM(M48,M76,M126) -> 0 | N20: =O20+P20 -> 0 | O20: =SUM(O48,O76,O126) -> 0 | P20: =SUM(P48,P76,P126) -> 0 | Q20: =SUM(Q48,Q76,Q126) -> 0
B21: A.2.6. | C21: Kiti įrenginiai (vandentiekio įrenginiai, nusodintuvai, diukeriai, vandens rezervuarai, gelžbetoniniai metantankai, smėlio gaudytuvai, aerotankai, nusodintuvai, nuotekų valymo flotatoriai, dumblo aikštelės ir kt.) | D21: =O21+E21+I21+M21+P21+Q21 -> 730.17562 | E21: =SUM(F21:H21) -> 505.70218 | F21: =SUM(F49,F77,F127) -> 90.02349 | G21: =SUM(G49,G77,G127) -> 384.48184 | H21: =SUM(H49,H77,H127) -> 31.196852 | I21: =SUM(J21:L21) -> 224.32422 | J21: =SUM(J49,J77,J127) -> 31.061983 | K21: =SUM(K49,K77,K127) -> 138.38046 | L21: =SUM(L49,L77,L127) -> 54.881775 | M21: =SUM(M49,M77,M127) -> 0.12378551 | N21: =O21+P21 -> 0.011473972 | O21: =SUM(O49,O77,O127) -> 0.011473972 | P21: =SUM(P49,P77,P127) -> 0 | Q21: =SUM(Q49,Q77,Q127) -> 0.013961408
B22: A.3. | C22: MAŠINOS IR ĮRANGA | D22: =O22+E22+I22+M22+P22+Q22 -> 58.956341 | E22: =SUM(F22:H22) -> 20.602136 | F22: =SUM(F23:F24) -> 1.7568378 | G22: =SUM(G23:G24) -> 0.042622061 | H22: =SUM(H23:H24) -> 18.802676 | I22: =SUM(J22:L22) -> 38.319868 | J22: =SUM(J23:J24) -> 19.548664 | K22: =SUM(K23:K24) -> 18.737967 | L22: =SUM(L23:L24) -> 0.033236929 | M22: =SUM(M23:M24) -> 0.028484829 | N22: =O22+P22 -> 0.0026403264 | O22: =SUM(O23:O24) -> 0.0026403264 | P22: =SUM(P23:P24) -> 0 | Q22: =SUM(Q23:Q24) -> 0.0032127212
B23: A.3.1. | C23: vandens siurbliai, nuotekų ir dumblo siurbliai virš 5 kW, kita įranga ( siurblių valdymo įranga, elektrotechninė įranga, stacionarios ir mobilios darbo bei hidrodinaminės mašinos, staklės, sklendės, grotelės, grėbliai, grandikliai, filtrai, centrifugos) | D23: =O23+E23+I23+M23+P23+Q23 -> 57.629467 | E23: =SUM(F23:H23) -> 20.602136 | F23: =SUM(F51,F79,F129) -> 1.7568378 | G23: =SUM(G51,G79,G129) -> 0.042622061 | H23: =SUM(H51,H79,H129) -> 18.802676 | I23: =SUM(J23:L23) -> 36.992994 | J23: =SUM(J51,J79,J129) -> 18.850159 | K23: =SUM(K51,K79,K129) -> 18.109598 | L23: =SUM(L51,L79,L129) -> 0.033236929 | M23: =SUM(M51,M79,M129) -> 0.028484829 | N23: =O23+P23 -> 0.0026403264 | O23: =SUM(O51,O79,O129) -> 0.0026403264 | P23: =SUM(P51,P79,P129) -> 0 | Q23: =SUM(Q51,Q79,Q129) -> 0.0032127212
B24: A.3.2. | C24: nuotekų ir dumblo siurbliai iki 5 kW | D24: =O24+E24+I24+M24+P24+Q24 -> 1.326874 | E24: =SUM(F24:H24) -> 0 | F24: =SUM(F52,F80) -> 0 | G24: =SUM(G52,G80) -> 0 | H24: =SUM(H52,H80) -> 0 | I24: =SUM(J24:L24) -> 1.326874 | J24: =SUM(J52,J80) -> 0.698505 | K24: =SUM(K52,K80) -> 0.628369 | L24: =SUM(L52,L80) -> 0 | M24: =SUM(M52,M80) -> 0 | N24: =O24+P24 -> 0 | O24: =SUM(O52,O80) -> 0 | P24: =SUM(P52,P80) -> 0 | Q24: =SUM(Q52,Q80) -> 0
B25: A.4. | C25: KITI ĮRENGINIAI, PRIETAISAI IR ĮRANKIAI | D25: =O25+E25+I25+M25+P25+Q25 -> 65.764854 | E25: =SUM(F25:H25) -> 2.8495883 | F25: =SUM(F26:F30) -> 0.046418724 | G25: =SUM(G26:G30) -> 0.10412791 | H25: =SUM(H26:H30) -> 2.6990417 | I25: =SUM(J25:L25) -> 2.2032448 | J25: =SUM(J26:J30) -> 1.2520337 | K25: =SUM(K26:K30) -> 0.87001154 | L25: =SUM(L26:L30) -> 0.081199543 | M25: =SUM(M26:M30) -> 0.069589916 | N25: =O25+P25 -> 60.634582 | O25: =SUM(O26:O30) -> 60.634582 | P25: =SUM(P26:P30) -> 0 | Q25: =SUM(Q26:Q30) -> 0.0078488446
B26: A.4.1. | C26: geriamojo vandens apskaitos prietaisai | D26: =O26+E26+I26+M26+P26+Q26 -> 60.628131 | E26: =SUM(F26:H26) -> 0 | F26: =SUM(F54,F82,F131) -> 0 | G26: =SUM(G54,G82,G131) -> 0 | H26: =SUM(H54,H82,H131) -> 0 | I26: =SUM(J26:L26) -> 0 | J26: =SUM(J54,J82,J131) -> 0 | K26: =SUM(K54,K82,K131) -> 0 | L26: =SUM(L54,L82,L131) -> 0 | M26: =SUM(M54,M82,M131) -> 0 | N26: =O26+P26 -> 60.628131 | O26: =SUM(O54,O82,O131) -> 60.628131 | P26: =SUM(P54,P82,P131) -> 0 | Q26: =SUM(Q54,Q82,Q131) -> 0
B27: A.4.2. | C27: atsiskaitomieji karšto vandens apskaitos prietaisai | D27: =O27+E27+I27+M27+P27+Q27 -> 0 | E27: =SUM(F27:H27) -> 0 | F27: =SUM(F55,F83,F132) -> 0 | G27: =SUM(G55,G83,G132) -> 0 | H27: =SUM(H55,H83,H132) -> 0 | I27: =SUM(J27:L27) -> 0 | J27: =SUM(J55,J83,J132) -> 0 | K27: =SUM(K55,K83,K132) -> 0 | L27: =SUM(L55,L83,L132) -> 0 | M27: =SUM(M55,M83,M132) -> 0 | N27: =O27+P27 -> 0 | O27: =SUM(O55,O83,O132) -> 0 | P27: =SUM(P55,P83,P132) -> 0 | Q27: =SUM(Q55,Q83,Q132) -> 0
B28: A.4.3. | C28: šilumos (atsiskaitomieji ir neatsiskaitomieji) apskaitos prietaisai | D28: =O28+E28+I28+M28+P28+Q28 -> 0 | E28: =SUM(F28:H28) -> 0 | F28: =SUM(F56,F84,F133) -> 0 | G28: =SUM(G56,G84,G133) -> 0 | H28: =SUM(H56,H84,H133) -> 0 | I28: =SUM(J28:L28) -> 0 | J28: =SUM(J56,J84,J133) -> 0 | K28: =SUM(K56,K84,K133) -> 0 | L28: =SUM(L56,L84,L133) -> 0 | M28: =SUM(M56,M84,M133) -> 0 | N28: =O28+P28 -> 0 | O28: =SUM(O56,O84,O133) -> 0 | P28: =SUM(P56,P84,P133) -> 0 | Q28: =SUM(Q56,Q84,Q133) -> 0
